Workbook

Sheet Overview
A1: Competitive Cheer and Competitive Dance Score Program User Guide
A3: Please only type in the yellow highlighted cells. All other data will populate automatically.
A5: To start a new competition, login to Bound and save a blank copy of the Score Program file.
A6: Step 1 - Entries | B6: ENTER PARTICIPATING SCHOOLS/ENTRIES - Enter teams and entries on the 'Entries' tab. Enter the name of the school once and place an 'X' (on the same line) for each category/division in which they will compete.
A7: Step 2 - Entries | B7: ENTER PERFORMANCE ORDER - After all entries are entered, replace each 'X' on the 'Entries' tab with the number order of each team's performance (1, 2, 3, 4, etc.). For example, if you have 25 total entries across all categories/divisions, number the performances from 1 to 25. DO NOT restart numbering for each category/division. This will automatically place all performances in order on the score entry page.
A8: Step 3 - Scores | B8: ENTER SCORES - Once scores from all judges have been tabulated after each performance, enter scores on the 'Scores' tab. SCORES FOR JUDGE 1, JUDGE 2, JUDGE 3 AND DEDUCTIONS MUST BE ENTERED IN ORDER FOR TOTAL SCORE TO BE CALCULATED! If not being used, type a '0' in that column.
A9: Step 4 - Results | B9: VERIFY RESULTS - Once all performances in a category/division are complete, verify scores on 'CH-Results' or 'DN-Results' tab. Ties for any placements will automatically be highlighted.
A10: Step 5 - Ties | B10: RESOLVE TIES - If a tie occurs in any category/division, enter tiebreaker information on 'CH-Ties' or 'DN-Ties' to resolve the ties. ENTER ONE NUMBER IN EACH TIEBREAKER COLUMN FOR THE TIED TEAMS UNTIL THE TIE IS BROKEN. Teams will remain shown as tied on the 'Ties' screen, but will be re-ranked on the 'Results' screen once tiebreaker information is entered.
A11: Tabs
A12: Entries | B12: List of participating schools and the categories/divisions in which they will be competing
A13: Scores | B13: Score entry screen for all performance listed in order based on order entered on 'Entries' tab
A14: CH-Results | B14: Competitive Cheer division results
A15: CH-Ties | B15: Competitive Cheer tiebreaker information
A16: DN-Results | B16: Competitive Dance division and team champion results
A17: DN-Ties | B17: Competitive Dance tiebreaker information
A19: NOTE: DO NOT enter anything into cells that are not highlighted in yellow!!!
A21: Call Aaron Magnuson at 605-940-7443 or email aaron.magnuson@sdhsaa.com with any questions or concerns.

Sheet Entries
A1: School | C1: CHEER | H1: DANCE | L1: =IF($C$3="","-",$C$3) -> - | M1: =$A$3 -> Aberdeen Central | N1: =PROPER($C$1) -> Cheer | O1: =$C$2 -> Small
C2: Small | D2: Large | E2: Coed | F2: St/Tumb | H2: Hip Hop | I2: Jazz | J2: Pom | L2: =IF($D$3="","-",$D$3) -> - | M2: =$A$3 -> Aberdeen Central | N2: =PROPER($C$1) -> Cheer | O2: =$D$2 -> Large
A3: Aberdeen Central | F3: 36 | H3: 10 | J3: 47 | L3: =IF($E$3="","-",$E$3) -> - | M3: =$A$3 -> Aberdeen Central | N3: =PROPER($C$1) -> Cheer | O3: =$E$2 -> Coed
A4: Brandon Valley | I4: 27 | J4: 42 | L4: =IF($F$3="","-",$F$3) -> 36 | M4: =$A$3 -> Aberdeen Central | N4: =PROPER($C$1) -> Cheer | O4: =$F$2 -> St/Tumb
A5: Brookings | F5: 23 | H5: 8 | I5: 33 | L5: =IF($H$3="","-",$H$3) -> 10 | M5: =$A$3 -> Aberdeen Central | N5: =PROPER($H$1) -> Dance | O5: =$H$2 -> Hip Hop
A6: Dakota Valley | I6: 24 | J6: 45 | L6: =IF($I$3="","-",$I$3) -> - | M6: =$A$3 -> Aberdeen Central | N6: =PROPER($H$1) -> Dance | O6: =$I$2 -> Jazz
A7: Dell Rapids | F7: 13 | L7: =IF($J$3="","-",$J$3) -> 47 | M7: =$A$3 -> Aberdeen Central | N7: =PROPER($H$1) -> Dance | O7: =$J$2 -> Pom
A8: Deubrook | F8: 11 | L8: =IF($C$4="","-",$C$4) -> - | M8: =$A$4 -> Brandon Valley | N8: =PROPER($C$1) -> Cheer | O8: =$C$2 -> Small
A9: Elkton-Lake Benton | F9: 40 | L9: =IF($D$4="","-",$D$4) -> - | M9: =$A$4 -> Brandon Valley | N9: =PROPER($C$1) -> Cheer | O9: =$D$2 -> Large
A10: Harrisburg | F10: 1 | H10: 15 | I10: 34 | L10: =IF($E$4="","-",$E$4) -> - | M10: =$A$4 -> Brandon Valley | N10: =PROPER($C$1) -> Cheer | O10: =$E$2 -> Coed
A11: Huron | F11: 32 | H11: 14 | J11: 51 | L11: =IF($F$4="","-",$F$4) -> - | M11: =$A$4 -> Brandon Valley | N11: =PROPER($C$1) -> Cheer | O11: =$F$2 -> St/Tumb
A12: O'Gorman | F12: 9 | H12: 22 | I12: 35 | L12: =IF($H$4="","-",$H$4) -> - | M12: =$A$4 -> Brandon Valley | N12: =PROPER($H$1) -> Dance | O12: =$H$2 -> Hip Hop
A13: Pierre | F13: 7 | H13: 20 | J13: 44 | L13: =IF($I$4="","-",$I$4) -> 27 | M13: =$A$4 -> Brandon Valley | N13: =PROPER($H$1) -> Dance | O13: =$I$2 -> Jazz
A14: Rapid City Central | F14: 19 | H14: 4 | J14: 41 | L14: =IF($J$4="","-",$J$4) -> 42 | M14: =$A$4 -> Brandon Valley | N14: =PROPER($H$1) -> Dance | O14: =$J$2 -> Pom
A15: Sioux Falls Jefferson | F15: 29 | H15: 12 | J15: 48 | L15: =IF($C$5="","-",$C$5) -> - | M15: =$A$5 -> Brookings | N15: =PROPER($C$1) -> Cheer | O15: =$C$2 -> Small
A16: Sioux Falls Lincoln | F16: 21 | H16: 6 | I16: 31 | L16: =IF($D$5="","-",$D$5) -> - | M16: =$A$5 -> Brookings | N16: =PROPER($C$1) -> Cheer | O16: =$D$2 -> Large
A17: Sioux Falls Roosevelt | F17: 46 | H17: 2 | I17: 25 | L17: =IF($E$5="","-",$E$5) -> - | M17: =$A$5 -> Brookings | N17: =PROPER($C$1) -> Cheer | O17: =$E$2 -> Coed
A18: Sioux Falls Washington | F18: 3 | H18: 18 | J18: 38 | L18: =IF($F$5="","-",$F$5) -> 23 | M18: =$A$5 -> Brookings | N18: =PROPER($C$1) -> Cheer | O18: =$F$2 -> St/Tumb
A19: Sioux Valley | F19: 5 | L19: =IF($H$5="","-",$H$5) -> 8 | M19: =$A$5 -> Brookings | N19: =PROPER($H$1) -> Dance | O19: =$H$2 -> Hip Hop
A20: Sturgis | F20: 26 | L20: =IF($I$5="","-",$I$5) -> 33 | M20: =$A$5 -> Brookings | N20: =PROPER($H$1) -> Dance | O20: =$I$2 -> Jazz
A21: Tea Area | F21: 49 | H21: 17 | J21: 37 | L21: =IF($J$5="","-",$J$5) -> - | M21: =$A$5 -> Brookings | N21: =PROPER($H$1) -> Dance | O21: =$J$2 -> Pom
A22: Watertown | F22: 43 | I22: 28 | J22: 39 | L22: =IF($C$6="","-",$C$6) -> - | M22: =$A$6 -> Dakota Valley | N22: =PROPER($C$1) -> Cheer | O22: =$C$2 -> Small
A23: Yankton | F23: 16 | I23: 30 | J23: 50 | L23: =IF($D$6="","-",$D$6) -> - | M23: =$A$6 -> Dakota Valley | N23: =PROPER($C$1) -> Cheer | O23: =$D$2 -> Large
L24: =IF($E$6="","-",$E$6) -> - | M24: =$A$6 -> Dakota Valley | N24: =PROPER($C$1) -> Cheer | O24: =$E$2 -> Coed
L25: =IF($F$6="","-",$F$6) -> - | M25: =$A$6 -> Dakota Valley | N25: =PROPER($C$1) -> Cheer | O25: =$F$2 -> St/Tumb
L26: =IF($H$6="","-",$H$6) -> - | M26: =$A$6 -> Dakota Valley | N26: =PROPER($H$1) -> Dance | O26: =$H$2 -> Hip Hop
L27: =IF($I$6="","-",$I$6) -> 24 | M27: =$A$6 -> Dakota Valley | N27: =PROPER($H$1) -> Dance | O27: =$I$2 -> Jazz
L28: =IF($J$6="","-",$J$6) -> 45 | M28: =$A$6 -> Dakota Valley | N28: =PROPER($H$1) -> Dance | O28: =$J$2 -> Pom
L29: =IF($C$7="","-",$C$7) -> - | M29: =$A$7 -> Dell Rapids | N29: =PROPER($C$1) -> Cheer | O29: =$C$2 -> Small
L30: =IF($D$7="","-",$D$7) -> - | M30: =$A$7 -> Dell Rapids | N30: =PROPER($C$1) -> Cheer | O30: =$D$2 -> Large
L31: =IF($E$7="","-",$E$7) -> - | M31: =$A$7 -> Dell Rapids | N31: =PROPER($C$1) -> Cheer | O31: =$E$2 -> Coed
L32: =IF($F$7="","-",$F$7) -> 13 | M32: =$A$7 -> Dell Rapids | N32: =PROPER($C$1) -> Cheer | O32: =$F$2 -> St/Tumb
L33: =IF($H$7="","-",$H$7) -> - | M33: =$A$7 -> Dell Rapids | N33: =PROPER($H$1) -> Dance | O33: =$H$2 -> Hip Hop
L34: =IF($I$7="","-",$I$7) -> - | M34: =$A$7 -> Dell Rapids | N34: =PROPER($H$1) -> Dance | O34: =$I$2 -> Jazz
L35: =IF($J$7="","-",$J$7) -> - | M35: =$A$7 -> Dell Rapids | N35: =PROPER($H$1) -> Dance | O35: =$J$2 -> Pom
L36: =IF($C$8="","-",$C$8) -> - | M36: =$A$8 -> Deubrook | N36: =PROPER($C$1) -> Cheer | O36: =$C$2 -> Small
L37: =IF($D$8="","-",$D$8) -> - | M37: =$A$8 -> Deubrook | N37: =PROPER($C$1) -> Cheer | O37: =$D$2 -> Large
L38: =IF($E$8="","-",$E$8) -> - | M38: =$A$8 -> Deubrook | N38: =PROPER($C$1) -> Cheer | O38: =$E$2 -> Coed
L39: =IF($F$8="","-",$F$8) -> 11 | M39: =$A$8 -> Deubrook | N39: =PROPER($C$1) -> Cheer | O39: =$F$2 -> St/Tumb
L40: =IF($H$8="","-",$H$8) -> - | M40: =$A$8 -> Deubrook | N40: =PROPER($H$1) -> Dance | O40: =$H$2 -> Hip Hop
L41: =IF($I$8="","-",$I$8) -> - | M41: =$A$8 -> Deubrook | N41: =PROPER($H$1) -> Dance | O41: =$I$2 -> Jazz
L42: =IF($J$8="","-",$J$8) -> - | M42: =$A$8 -> Deubrook | N42: =PROPER($H$1) -> Dance | O42: =$J$2 -> Pom
L43: =IF($C$9="","-",$C$9) -> - | M43: =$A$9 -> Elkton-Lake Benton | N43: =PROPER($C$1) -> Cheer | O43: =$C$2 -> Small
L44: =IF($D$9="","-",$D$9) -> - | M44: =$A$9 -> Elkton-Lake Benton | N44: =PROPER($C$1) -> Cheer | O44: =$D$2 -> Large
L45: =IF($E$9="","-",$E$9) -> - | M45: =$A$9 -> Elkton-Lake Benton | N45: =PROPER($C$1) -> Cheer | O45: =$E$2 -> Coed
L46: =IF($F$9="","-",$F$9) -> 40 | M46: =$A$9 -> Elkton-Lake Benton | N46: =PROPER($C$1) -> Cheer | O46: =$F$2 -> St/Tumb
L47: =IF($H$9="","-",$H$9) -> - | M47: =$A$9 -> Elkton-Lake Benton | N47: =PROPER($H$1) -> Dance | O47: =$H$2 -> Hip Hop
L48: =IF($I$9="","-",$I$9) -> - | M48: =$A$9 -> Elkton-Lake Benton | N48: =PROPER($H$1) -> Dance | O48: =$I$2 -> Jazz
L49: =IF($J$9="","-",$J$9) -> - | M49: =$A$9 -> Elkton-Lake Benton | N49: =PROPER($H$1) -> Dance | O49: =$J$2 -> Pom
L50: =IF($C$10="","-",$C$10) -> - | M50: =$A$10 -> Harrisburg | N50: =PROPER($C$1) -> Cheer | O50: =$C$2 -> Small
L51: =IF($D$10="","-",$D$10) -> - | M51: =$A$10 -> Harrisburg | N51: =PROPER($C$1) -> Cheer | O51: =$D$2 -> Large
L52: =IF($E$10="","-",$E$10) -> - | M52: =$A$10 -> Harrisburg | N52: =PROPER($C$1) -> Cheer | O52: =$E$2 -> Coed
L53: =IF($F$10="","-",$F$10) -> 1 | M53: =$A$10 -> Harrisburg | N53: =PROPER($C$1) -> Cheer | O53: =$F$2 -> St/Tumb
L54: =IF($H$10="","-",$H$10) -> 15 | M54: =$A$10 -> Harrisburg | N54: =PROPER($H$1) -> Dance | O54: =$H$2 -> Hip Hop
L55: =IF($I$10="","-",$I$10) -> 34 | M55: =$A$10 -> Harrisburg | N55: =PROPER($H$1) -> Dance | O55: =$I$2 -> Jazz
L56: =IF($J$10="","-",$J$10) -> - | M56: =$A$10 -> Harrisburg | N56: =PROPER($H$1) -> Dance | O56: =$J$2 -> Pom
L57: =IF($C$11="","-",$C$11) -> - | M57: =$A$11 -> Huron | N57: =PROPER($C$1) -> Cheer | O57: =$C$2 -> Small
L58: =IF($D$11="","-",$D$11) -> - | M58: =$A$11 -> Huron | N58: =PROPER($C$1) -> Cheer | O58: =$D$2 -> Large
L59: =IF($E$11="","-",$E$11) -> - | M59: =$A$11 -> Huron | N59: =PROPER($C$1) -> Cheer | O59: =$E$2 -> Coed
L60: =IF($F$11="","-",$F$11) -> 32 | M60: =$A$11 -> Huron | N60: =PROPER($C$1) -> Cheer | O60: =$F$2 -> St/Tumb
L61: =IF($H$11="","-",$H$11) -> 14 | M61: =$A$11 -> Huron | N61: =PROPER($H$1) -> Dance | O61: =$H$2 -> Hip Hop
L62: =IF($I$11="","-",$I$11) -> - | M62: =$A$11 -> Huron | N62: =PROPER($H$1) -> Dance | O62: =$I$2 -> Jazz
L63: =IF($J$11="","-",$J$11) -> 51 | M63: =$A$11 -> Huron | N63: =PROPER($H$1) -> Dance | O63: =$J$2 -> Pom
L64: =IF($C$12="","-",$C$12) -> - | M64: =$A$12 -> O'Gorman | N64: =PROPER($C$1) -> Cheer | O64: =$C$2 -> Small
L65: =IF($D$12="","-",$D$12) -> - | M65: =$A$12 -> O'Gorman | N65: =PROPER($C$1) -> Cheer | O65: =$D$2 -> Large
L66: =IF($E$12="","-",$E$12) -> - | M66: =$A$12 -> O'Gorman | N66: =PROPER($C$1) -> Cheer | O66: =$E$2 -> Coed
L67: =IF($F$12="","-",$F$12) -> 9 | M67: =$A$12 -> O'Gorman | N67: =PROPER($C$1) -> Cheer | O67: =$F$2 -> St/Tumb
L68: =IF($H$12="","-",$H$12) -> 22 | M68: =$A$12 -> O'Gorman | N68: =PROPER($H$1) -> Dance | O68: =$H$2 -> Hip Hop
L69: =IF($I$12="","-",$I$12) -> 35 | M69: =$A$12 -> O'Gorman | N69: =PROPER($H$1) -> Dance | O69: =$I$2 -> Jazz
L70: =IF($J$12="","-",$J$12) -> - | M70: =$A$12 -> O'Gorman | N70: =PROPER($H$1) -> Dance | O70: =$J$2 -> Pom
L71: =IF($C$13="","-",$C$13) -> - | M71: =$A$13 -> Pierre | N71: =PROPER($C$1) -> Cheer | O71: =$C$2 -> Small
L72: =IF($D$13="","-",$D$13) -> - | M72: =$A$13 -> Pierre | N72: =PROPER($C$1) -> Cheer | O72: =$D$2 -> Large
L73: =IF($E$13="","-",$E$13) -> - | M73: =$A$13 -> Pierre | N73: =PROPER($C$1) -> Cheer | O73: =$E$2 -> Coed
L74: =IF($F$13="","-",$F$13) -> 7 | M74: =$A$13 -> Pierre | N74: =PROPER($C$1) -> Cheer | O74: =$F$2 -> St/Tumb
L75: =IF($H$13="","-",$H$13) -> 20 | M75: =$A$13 -> Pierre | N75: =PROPER($H$1) -> Dance | O75: =$H$2 -> Hip Hop
L76: =IF($I$13="","-",$I$13) -> - | M76: =$A$13 -> Pierre | N76: =PROPER($H$1) -> Dance | O76: =$I$2 -> Jazz
L77: =IF($J$13="","-",$J$13) -> 44 | M77: =$A$13 -> Pierre | N77: =PROPER($H$1) -> Dance | O77: =$J$2 -> Pom
L78: =IF($C$14="","-",$C$14) -> - | M78: =$A$14 -> Rapid City Central | N78: =PROPER($C$1) -> Cheer | O78: =$C$2 -> Small
L79: =IF($D$14="","-",$D$14) -> - | M79: =$A$14 -> Rapid City Central | N79: =PROPER($C$1) -> Cheer | O79: =$D$2 -> Large
L80: =IF($E$14="","-",$E$14) -> - | M80: =$A$14 -> Rapid City Central | N80: =PROPER($C$1) -> Cheer | O80: =$E$2 -> Coed
L81: =IF($F$14="","-",$F$14) -> 19 | M81: =$A$14 -> Rapid City Central | N81: =PROPER($C$1) -> Cheer | O81: =$F$2 -> St/Tumb
L82: =IF($H$14="","-",$H$14) -> 4 | M82: =$A$14 -> Rapid City Central | N82: =PROPER($H$1) -> Dance | O82: =$H$2 -> Hip Hop
L83: =IF($I$14="","-",$I$14) -> - | M83: =$A$14 -> Rapid City Central | N83: =PROPER($H$1) -> Dance | O83: =$I$2 -> Jazz
L84: =IF($J$14="","-",$J$14) -> 41 | M84: =$A$14 -> Rapid City Central | N84: =PROPER($H$1) -> Dance | O84: =$J$2 -> Pom
L85: =IF($C$15="","-",$C$15) -> - | M85: =$A$15 -> Sioux Falls Jefferson | N85: =PROPER($C$1) -> Cheer | O85: =$C$2 -> Small
L86: =IF($D$15="","-",$D$15) -> - | M86: =$A$15 -> Sioux Falls Jefferson | N86: =PROPER($C$1) -> Cheer | O86: =$D$2 -> Large
L87: =IF($E$15="","-",$E$15) -> - | M87: =$A$15 -> Sioux Falls Jefferson | N87: =PROPER($C$1) -> Cheer | O87: =$E$2 -> Coed
L88: =IF($F$15="","-",$F$15) -> 29 | M88: =$A$15 -> Sioux Falls Jefferson | N88: =PROPER($C$1) -> Cheer | O88: =$F$2 -> St/Tumb
L89: =IF($H$15="","-",$H$15) -> 12 | M89: =$A$15 -> Sioux Falls Jefferson | N89: =PROPER($H$1) -> Dance | O89: =$H$2 -> Hip Hop
L90: =IF($I$15="","-",$I$15) -> - | M90: =$A$15 -> Sioux Falls Jefferson | N90: =PROPER($H$1) -> Dance | O90: =$I$2 -> Jazz
L91: =IF($J$15="","-",$J$15) -> 48 | M91: =$A$15 -> Sioux Falls Jefferson | N91: =PROPER($H$1) -> Dance | O91: =$J$2 -> Pom
L92: =IF($C$16="","-",$C$16) -> - | M92: =$A$16 -> Sioux Falls Lincoln | N92: =PROPER($C$1) -> Cheer | O92: =$C$2 -> Small
L93: =IF($D$16="","-",$D$16) -> - | M93: =$A$16 -> Sioux Falls Lincoln | N93: =PROPER($C$1) -> Cheer | O93: =$D$2 -> Large
L94: =IF($E$16="","-",$E$16) -> - | M94: =$A$16 -> Sioux Falls Lincoln | N94: =PROPER($C$1) -> Cheer | O94: =$E$2 -> Coed
L95: =IF($F$16="","-",$F$16) -> 21 | M95: =$A$16 -> Sioux Falls Lincoln | N95: =PROPER($C$1) -> Cheer | O95: =$F$2 -> St/Tumb
L96: =IF($H$16="","-",$H$16) -> 6 | M96: =$A$16 -> Sioux Falls Lincoln | N96: =PROPER($H$1) -> Dance | O96: =$H$2 -> Hip Hop
L97: =IF($I$16="","-",$I$16) -> 31 | M97: =$A$16 -> Sioux Falls Lincoln | N97: =PROPER($H$1) -> Dance | O97: =$I$2 -> Jazz
L98: =IF($J$16="","-",$J$16) -> - | M98: =$A$16 -> Sioux Falls Lincoln | N98: =PROPER($H$1) -> Dance | O98: =$J$2 -> Pom
L99: =IF($C$17="","-",$C$17) -> - | M99: =$A$17 -> Sioux Falls Roosevelt | N99: =PROPER($C$1) -> Cheer | O99: =$C$2 -> Small
L100: =IF($D$17="","-",$D$17) -> - | M100: =$A$17 -> Sioux Falls Roosevelt | N100: =PROPER($C$1) -> Cheer | O100: =$D$2 -> Large
...

Sheet Scores
A1: Order | B1: School | C1: Category | D1: Division | E1: Judge 1 | F1: Judge 2 | G1: Judge 3 | H1: Deductions | I1: Total
A2: {=_xlfn._xlws.SORT(_xlfn._xlws.FILTER(Entries!L1:O210,Entries!L1:L210<>"-","N/A"),1,TRUE)} -> 1 | B2: Harrisburg | C2: Cheer | D2: St/Tumb | E2: 97 | F2: 96 | G2: 97 | H2: 0 | I2: =IF(AND(AND(E2<>"",F2<>"",G2<>"",H2<>"")),SUM(E2:G2)-H2,"") -> 290
A3: 2 | B3: Sioux Falls Roosevelt | C3: Dance | D3: Hip Hop | E3: 74.5 | F3: 74 | G3: 72 | H3: 1 | I3: =IF(AND(AND(E3<>"",F3<>"",G3<>"",H3<>"")),SUM(E3:G3)-H3,"") -> 219.5
A4: 3 | B4: Sioux Falls Washington | C4: Cheer | D4: St/Tumb | E4: 63.5 | F4: 63.5 | G4: 64.5 | H4: 16 | I4: =IF(AND(AND(E4<>"",F4<>"",G4<>"",H4<>"")),SUM(E4:G4)-H4,"") -> 175.5
A5: 4 | B5: Rapid City Central | C5: Dance | D5: Hip Hop | E5: 80 | F5: 83 | G5: 84 | H5: 2 | I5: =IF(AND(AND(E5<>"",F5<>"",G5<>"",H5<>"")),SUM(E5:G5)-H5,"") -> 245
A6: 5 | B6: Sioux Valley | C6: Cheer | D6: St/Tumb | E6: 93 | F6: 92 | G6: 93 | H6: 0 | I6: =IF(AND(AND(E6<>"",F6<>"",G6<>"",H6<>"")),SUM(E6:G6)-H6,"") -> 278
A7: 6 | B7: Sioux Falls Lincoln | C7: Dance | D7: Hip Hop | E7: 86 | F7: 85 | G7: 88.5 | H7: 2 | I7: =IF(AND(AND(E7<>"",F7<>"",G7<>"",H7<>"")),SUM(E7:G7)-H7,"") -> 257.5
A8: 7 | B8: Pierre | C8: Cheer | D8: St/Tumb | E8: 71 | F8: 68 | G8: 70.5 | H8: 1 | I8: =IF(AND(AND(E8<>"",F8<>"",G8<>"",H8<>"")),SUM(E8:G8)-H8,"") -> 208.5
A9: 8 | B9: Brookings | C9: Dance | D9: Hip Hop | E9: 72 | F9: 71.5 | G9: 71.5 | H9: 0 | I9: =IF(AND(AND(E9<>"",F9<>"",G9<>"",H9<>"")),SUM(E9:G9)-H9,"") -> 215
A10: 9 | B10: O'Gorman | C10: Cheer | D10: St/Tumb | E10: 98 | F10: 98.5 | G10: 97 | H10: 6 | I10: =IF(AND(AND(E10<>"",F10<>"",G10<>"",H10<>"")),SUM(E10:G10)-H10,"") -> 287.5
A11: 10 | B11: Aberdeen Central | C11: Dance | D11: Hip Hop | E11: 70.5 | F11: 70.5 | G11: 75 | H11: 2 | I11: =IF(AND(AND(E11<>"",F11<>"",G11<>"",H11<>"")),SUM(E11:G11)-H11,"") -> 214
A12: 11 | B12: Deubrook | C12: Cheer | D12: St/Tumb | E12: 63.5 | F12: 62 | G12: 64.5 | H12: 2 | I12: =IF(AND(AND(E12<>"",F12<>"",G12<>"",H12<>"")),SUM(E12:G12)-H12,"") -> 188
A13: 12 | B13: Sioux Falls Jefferson | C13: Dance | D13: Hip Hop | E13: 90.5 | F13: 91 | G13: 91 | H13: 4 | I13: =IF(AND(AND(E13<>"",F13<>"",G13<>"",H13<>"")),SUM(E13:G13)-H13,"") -> 268.5
A14: 13 | B14: Dell Rapids | C14: Cheer | D14: St/Tumb | E14: 68.5 | F14: 67 | G14: 67.5 | H14: 1 | I14: =IF(AND(AND(E14<>"",F14<>"",G14<>"",H14<>"")),SUM(E14:G14)-H14,"") -> 202
... A52: 51 | B52: Huron | C52: Dance | D52: Pom | E52: 71 | F52: 70 | G52: 68.5 | H52: 0 | I52: =IF(AND(AND(E52<>"",F52<>"",G52<>"",H52<>"")),SUM(E52:G52)-H52,"") -> 209.5
I53: =IF(AND(AND(E53<>"",F53<>"",G53<>"",H53<>"")),SUM(E53:G53)-H53,"")
I54: =IF(AND(AND(E54<>"",F54<>"",G54<>"",H54<>"")),SUM(E54:G54)-H54,"")
I55: =IF(AND(AND(E55<>"",F55<>"",G55<>"",H55<>"")),SUM(E55:G55)-H55,"")
I56: =IF(AND(AND(E56<>"",F56<>"",G56<>"",H56<>"")),SUM(E56:G56)-H56,"")
I57: =IF(AND(AND(E57<>"",F57<>"",G57<>"",H57<>"")),SUM(E57:G57)-H57,"")
I58: =IF(AND(AND(E58<>"",F58<>"",G58<>"",H58<>"")),SUM(E58:G58)-H58,"")
I59: =IF(AND(AND(E59<>"",F59<>"",G59<>"",H59<>"")),SUM(E59:G59)-H59,"")
I60: =IF(AND(AND(E60<>"",F60<>"",G60<>"",H60<>"")),SUM(E60:G60)-H60,"")
I61: =IF(AND(AND(E61<>"",F61<>"",G61<>"",H61<>"")),SUM(E61:G61)-H61,"")
I62: =IF(AND(AND(E62<>"",F62<>"",G62<>"",H62<>"")),SUM(E62:G62)-H62,"")
I63: =IF(AND(AND(E63<>"",F63<>"",G63<>"",H63<>"")),SUM(E63:G63)-H63,"")
I64: =IF(AND(AND(E64<>"",F64<>"",G64<>"",H64<>"")),SUM(E64:G64)-H64,"")
... I211: =IF(AND(AND(E211<>"",F211<>"",G211<>"",H211<>"")),SUM(E211:G211)-H211,"")

Sheet CH-Results
A1: Small | N1: Large | AA1: Coed | AN1: St/Tumb
A2: Place | B2: School | C2: Score | D2: TB1 | E2: TB2 | F2: TB3 | G2: TB4 | H2: TB5 | I2: TB6 | J2: TB7 | K2: TB8 | L2: TB9 | N2: Place | O2: School | P2: Score | Q2: TB1 | R2: TB2 | S2: TB3 | T2: TB4 | U2: TB5 | V2: TB6 | W2: TB7 | X2: TB8 | Y2: TB9 | AA2: Place | AB2: School | AC2: Score | AD2: TB1 | AE2: TB2 | AF2: TB3 | AG2: TB4 | AH2: TB5 | AI2: TB6 | AJ2: TB7 | AK2: TB8 | AL2: TB9 | AN2: Place | AO2: School | AP2: Total | AQ2: TB1 | AR2: TB2 | AS2: TB3 | AT2: TB4 | AU2: TB5 | AV2: TB6 | AW2: TB7 | AX2: TB8 | AY2: TB9
A3: =IF(OR(B3="", B3="N/A"), "", 1 + COUNTIFS(C$3:C$32, ">"&C3) + COUNTIFS(C$3:C$32, C3, D$3:D$32, "<"&D3) + COUNTIFS(C$3:C$32, C3, D$3:D$32, D3, E$3:E$32, "<"&E3) + COUNTIFS(C$3:C$32, C3, D$3:D$32, D3, E$3:E$32, E3, F$3:F$32, ">"&F3) + COUNTIFS(C$3:C$32, C3, D$3:D$32, D3, E$3:E$32, E3, F$3:F$32, F3, G$3:G$32, ">"&G3) + COUNTIFS(C$3:C$32, C3, D$3:D$32, D3, E$3:E$32, E3, F$3:F$32, F3, G$3:G$32, G3, H$3:H$32, ">"&H3) + COUNTIFS(C$3:C$32, C3, D$3:D$32, D3, E$3:E$32, E3, F$3:F$32, F3, G$3:G$32, G3, H$3:H$32, H3, I$3:I$32, ">"&I3) + COUNTIFS(C$3:C$32, C3, D$3:D$32, D3, E$3:E$32, E3, F$3:F$32, F3, G$3:G$32, G3, H$3:H$32, H3, I$3:I$32, I3, J$3:J$32, ">"&J3) + COUNTIFS(C$3:C$32, C3, D$3:D$32, D3, E$3:E$32, E3, F$3:F$32, F3, G$3:G$32, G3, H$3:H$32, H3, I$3:I$32, I3, J$3:J$32, J3, K$3:K$32, ">"&K3) + COUNTIFS(C$3:C$32, C3, D$3:D$32, D3, E$3:E$32, E3, F$3:F$32, F3, G$3:G$32, G3, H$3:H$32, H3, I$3:I$32, I3, J$3:J$32, J3, K$3:K$32, K3, L$3:L$32, ">"&L3) ) | B3: {=IF('CH-Ties'!B3="N/A","N/A",_xlfn._xlws.FILTER(_xlfn._xlws.SORT('CH-Ties'!B3:L32,{2,3,4,5,6,7,8,9,10,11},{-1,1,1,-1,-1,-1,-1,-1,-1,-1}),'CH-Ties'!B3:B32<>""))} -> N/A | N3: =IF(OR(O3="", O3="N/A"), "", 1 + COUNTIFS(P$3:P$32, ">"&P3) + COUNTIFS(P$3:P$32, P3, Q$3:Q$32, "<"&Q3) + COUNTIFS(P$3:P$32, P3, Q$3:Q$32, Q3, R$3:R$32, "<"&R3) + COUNTIFS(P$3:P$32, P3, Q$3:Q$32, Q3, R$3:R$32, R3, S$3:S$32, ">"&S3) + COUNTIFS(P$3:P$32, P3, Q$3:Q$32, Q3, R$3:R$32, R3, S$3:S$32, S3, T$3:T$32, ">"&T3) + COUNTIFS(P$3:P$32, P3, Q$3:Q$32, Q3, R$3:R$32, R3, S$3:S$32, S3, T$3:T$32, T3, U$3:U$32, ">"&U3) + COUNTIFS(P$3:P$32, P3, Q$3:Q$32, Q3, R$3:R$32, R3, S$3:S$32, S3, T$3:T$32, T3, U$3:U$32, U3, V$3:V$32, ">"&V3) + COUNTIFS(P$3:P$32, P3, Q$3:Q$32, Q3, R$3:R$32, R3, S$3:S$32, S3, T$3:T$32, T3, U$3:U$32, U3, V$3:V$32, V3, W$3:W$32, ">"&W3) + COUNTIFS(P$3:P$32, P3, Q$3:Q$32, Q3, R$3:R$32, R3, S$3:S$32, S3, T$3:T$32, T3, U$3:U$32, U3, V$3:V$32, V3, W$3:W$32, W3, X$3:X$32, ">"&X3) + COUNTIFS(P$3:P$32, P3, Q$3:Q$32, Q3, R$3:R$32, R3, S$3:S$32, S3, T$3:T$32, T3, U$3:U$32, U3, V$3:V$32, V3, W$3:W$32, W3, X$3:X$32, X3, Y$3:Y$32, ">"&Y3) ) | O3: {=IF('CH-Ties'!O3="N/A","N/A",_xlfn._xlws.FILTER(_xlfn._xlws.SORT('CH-Ties'!O3:Y32,{2,3,4,5,6,7,8,9,10,11},{-1,1,1,-1,-1,-1,-1,-1,-1,-1}),'CH-Ties'!O3:O32<>""))} -> N/A | AA3: =IF(OR(AB3="", AB3="N/A"), "", 1 + COUNTIFS(AC$3:AC$32, ">"&AC3) + COUNTIFS(AC$3:AC$32, AC3, AD$3:AD$32, "<"&AD3) + COUNTIFS(AC$3:AC$32, AC3, AD$3:AD$32, AD3, AE$3:AE$32, "<"&AE3) + COUNTIFS(AC$3:AC$32, AC3, AD$3:AD$32, AD3, AE$3:AE$32, AE3, AF$3:AF$32, ">"&AF3) + COUNTIFS(AC$3:AC$32, AC3, AD$3:AD$32, AD3, AE$3:AE$32, AE3, AF$3:AF$32, AF3, AG$3:AG$32, ">"&AG3) + COUNTIFS(AC$3:AC$32, AC3, AD$3:AD$32, AD3, AE$3:AE$32, AE3, AF$3:AF$32, AF3, AG$3:AG$32, AG3, AH$3:AH$32, ">"&AH3) + COUNTIFS(AC$3:AC$32, AC3, AD$3:AD$32, AD3, AE$3:AE$32, AE3, AF$3:AF$32, AF3, AG$3:AG$32, AG3, AH$3:AH$32, AH3, AI$3:AI$32, ">"&AI3) + COUNTIFS(AC$3:AC$32, AC3, AD$3:AD$32, AD3, AE$3:AE$32, AE3, AF$3:AF$32, AF3, AG$3:AG$32, AG3, AH$3:AH$32, AH3, AI$3:AI$32, AI3, AJ$3:AJ$32, ">"&AJ3) + COUNTIFS(AC$3:AC$32, AC3, AD$3:AD$32, AD3, AE$3:AE$32, AE3, AF$3:AF$32, AF3, AG$3:AG$32, AG3, AH$3:AH$32, AH3, AI$3:AI$32, AI3, AJ$3:AJ$32, AJ3, AK$3:AK$32, ">"&AK3) + COUNTIFS(AC$3:AC$32, AC3, AD$3:AD$32, AD3, AE$3:AE$32, AE3, AF$3:AF$32, AF3, AG$3:AG$32, AG3, AH$3:AH$32, AH3, AI$3:AI$32, AI3, AJ$3:AJ$32, AJ3, AK$3:AK$32, AK3, AL$3:AL$32, ">"&AL3) ) | AB3: {=IF('CH-Ties'!AB3="N/A","N/A",_xlfn._xlws.FILTER(_xlfn._xlws.SORT('CH-Ties'!AB3:AL32,{2,3,4,5,6,7,8,9,10,11},{-1,1,1,-1,-1,-1,-1,-1,-1,-1}),'CH-Ties'!AB3:AB32<>""))} -> N/A | AN3: =IF(OR(AO3="", AO3="N/A"), "", 1 + COUNTIFS(AP$3:AP$32, ">"&AP3) + COUNTIFS(AP$3:AP$32, AP3, AQ$3:AQ$32, "<"&AQ3) + COUNTIFS(AP$3:AP$32, AP3, AQ$3:AQ$32, AQ3, AR$3:AR$32, "<"&AR3) + COUNTIFS(AP$3:AP$32, AP3, AQ$3:AQ$32, AQ3, AR$3:AR$32, AR3, AS$3:AS$32, ">"&AS3) + COUNTIFS(AP$3:AP$32, AP3, AQ$3:AQ$32, AQ3, AR$3:AR$32, AR3, AS$3:AS$32, AS3, AT$3:AT$32, ">"&AT3) + COUNTIFS(AP$3:AP$32, AP3, AQ$3:AQ$32, AQ3, AR$3:AR$32, AR3, AS$3:AS$32, AS3, AT$3:AT$32, AT3, AU$3:AU$32, ">"&AU3) + COUNTIFS(AP$3:AP$32, AP3, AQ$3:AQ$32, AQ3, AR$3:AR$32, AR3, AS$3:AS$32, AS3, AT$3:AT$32, AT3, AU$3:AU$32, AU3, AV$3:AV$32, ">"&AV3) + COUNTIFS(AP$3:AP$32, AP3, AQ$3:AQ$32, AQ3, AR$3:AR$32, AR3, AS$3:AS$32, AS3, AT$3:AT$32, AT3, AU$3:AU$32, AU3, AV$3:AV$32, AV3, AW$3:AW$32, ">"&AW3) + COUNTIFS(AP$3:AP$32, AP3, AQ$3:AQ$32, AQ3, AR$3:AR$32, AR3, AS$3:AS$32, AS3, AT$3:AT$32, AT3, AU$3:AU$32, AU3, AV$3:AV$32, AV3, AW$3:AW$32, AW3, AX$3:AX$32, ">"&AX3) + COUNTIFS(AP$3:AP$32, AP3, AQ$3:AQ$32, AQ3, AR$3:AR$32, AR3, AS$3:AS$32, AS3, AT$3:AT$32, AT3, AU$3:AU$32, AU3, AV$3:AV$32, AV3, AW$3:AW$32, AW3, AX$3:AX$32, AX3, AY$3:AY$32, ">"&AY3) ) -> 1 | AO3: {=IF('CH-Ties'!AO3="N/A","N/A",_xlfn._xlws.FILTER(_xlfn._xlws.SORT('CH-Ties'!AO3:AY32,{2,3,4,5,6,7,8,9,10,11},{-1,1,1,-1,-1,-1,-1,-1,-1,-1}),'CH-Ties'!AO3:AO32<>""))} -> Sioux Falls Jefferson | AP3: 295.5 | AQ3: 0 | AR3: 0 | AS3: 0 | AT3: 0 | AU3: 0 | AV3: 0 | AW3: 0 | AX3: 0 | AY3: 0
A4: =IF(OR(B4="", B4="N/A"), "", 1 + COUNTIFS(C$3:C$32, ">"&C4) + COUNTIFS(C$3:C$32, C4, D$3:D$32, "<"&D4) + COUNTIFS(C$3:C$32, C4, D$3:D$32, D4, E$3:E$32, "<"&E4) + COUNTIFS(C$3:C$32, C4, D$3:D$32, D4, E$3:E$32, E4, F$3:F$32, ">"&F4) + COUNTIFS(C$3:C$32, C4, D$3:D$32, D4, E$3:E$32, E4, F$3:F$32, F4, G$3:G$32, ">"&G4) + COUNTIFS(C$3:C$32, C4, D$3:D$32, D4, E$3:E$32, E4, F$3:F$32, F4, G$3:G$32, G4, H$3:H$32, ">"&H4) + COUNTIFS(C$3:C$32, C4, D$3:D$32, D4, E$3:E$32, E4, F$3:F$32, F4, G$3:G$32, G4, H$3:H$32, H4, I$3:I$32, ">"&I4) + COUNTIFS(C$3:C$32, C4, D$3:D$32, D4, E$3:E$32, E4, F$3:F$32, F4, G$3:G$32, G4, H$3:H$32, H4, I$3:I$32, I4, J$3:J$32, ">"&J4) + COUNTIFS(C$3:C$32, C4, D$3:D$32, D4, E$3:E$32, E4, F$3:F$32, F4, G$3:G$32, G4, H$3:H$32, H4, I$3:I$32, I4, J$3:J$32, J4, K$3:K$32, ">"&K4) + COUNTIFS(C$3:C$32, C4, D$3:D$32, D4, E$3:E$32, E4, F$3:F$32, F4, G$3:G$32, G4, H$3:H$32, H4, I$3:I$32, I4, J$3:J$32, J4, K$3:K$32, K4, L$3:L$32, ">"&L4) ) | N4: =IF(OR(O4="", O4="N/A"), "", 1 + COUNTIFS(P$3:P$32, ">"&P4) + COUNTIFS(P$3:P$32, P4, Q$3:Q$32, "<"&Q4) + COUNTIFS(P$3:P$32, P4, Q$3:Q$32, Q4, R$3:R$32, "<"&R4) + COUNTIFS(P$3:P$32, P4, Q$3:Q$32, Q4, R$3:R$32, R4, S$3:S$32, ">"&S4) + COUNTIFS(P$3:P$32, P4, Q$3:Q$32, Q4, R$3:R$32, R4, S$3:S$32, S4, T$3:T$32, ">"&T4) + COUNTIFS(P$3:P$32, P4, Q$3:Q$32, Q4, R$3:R$32, R4, S$3:S$32, S4, T$3:T$32, T4, U$3:U$32, ">"&U4) + COUNTIFS(P$3:P$32, P4, Q$3:Q$32, Q4, R$3:R$32, R4, S$3:S$32, S4, T$3:T$32, T4, U$3:U$32, U4, V$3:V$32, ">"&V4) + COUNTIFS(P$3:P$32, P4, Q$3:Q$32, Q4, R$3:R$32, R4, S$3:S$32, S4, T$3:T$32, T4, U$3:U$32, U4, V$3:V$32, V4, W$3:W$32, ">"&W4) + COUNTIFS(P$3:P$32, P4, Q$3:Q$32, Q4, R$3:R$32, R4, S$3:S$32, S4, T$3:T$32, T4, U$3:U$32, U4, V$3:V$32, V4, W$3:W$32, W4, X$3:X$32, ">"&X4) + COUNTIFS(P$3:P$32, P4, Q$3:Q$32, Q4, R$3:R$32, R4, S$3:S$32, S4, T$3:T$32, T4, U$3:U$32, U4, V$3:V$32, V4, W$3:W$32, W4, X$3:X$32, X4, Y$3:Y$32, ">"&Y4) ) | AA4: =IF(OR(AB4="", AB4="N/A"), "", 1 + COUNTIFS(AC$3:AC$32, ">"&AC4) + COUNTIFS(AC$3:AC$32, AC4, AD$3:AD$32, "<"&AD4) + COUNTIFS(AC$3:AC$32, AC4, AD$3:AD$32, AD4, AE$3:AE$32, "<"&AE4) + COUNTIFS(AC$3:AC$32, AC4, AD$3:AD$32, AD4, AE$3:AE$32, AE4, AF$3:AF$32, ">"&AF4) + COUNTIFS(AC$3:AC$32, AC4, AD$3:AD$32, AD4, AE$3:AE$32, AE4, AF$3:AF$32, AF4, AG$3:AG$32, ">"&AG4) + COUNTIFS(AC$3:AC$32, AC4, AD$3:AD$32, AD4, AE$3:AE$32, AE4, AF$3:AF$32, AF4, AG$3:AG$32, AG4, AH$3:AH$32, ">"&AH4) + COUNTIFS(AC$3:AC$32, AC4, AD$3:AD$32, AD4, AE$3:AE$32, AE4, AF$3:AF$32, AF4, AG$3:AG$32, AG4, AH$3:AH$32, AH4, AI$3:AI$32, ">"&AI4) + COUNTIFS(AC$3:AC$32, AC4, AD$3:AD$32, AD4, AE$3:AE$32, AE4, AF$3:AF$32, AF4, AG$3:AG$32, AG4, AH$3:AH$32, AH4, AI$3:AI$32, AI4, AJ$3:AJ$32, ">"&AJ4) + COUNTIFS(AC$3:AC$32, AC4, AD$3:AD$32, AD4, AE$3:AE$32, AE4, AF$3:AF$32, AF4, AG$3:AG$32, AG4, AH$3:AH$32, AH4, AI$3:AI$32, AI4, AJ$3:AJ$32, AJ4, AK$3:AK$32, ">"&AK4) + COUNTIFS(AC$3:AC$32, AC4, AD$3:AD$32, AD4, AE$3:AE$32, AE4, AF$3:AF$32, AF4, AG$3:AG$32, AG4, AH$3:AH$32, AH4, AI$3:AI$32, AI4, AJ$3:AJ$32, AJ4, AK$3:AK$32, AK4, AL$3:AL$32, ">"&AL4) ) | AN4: =IF(OR(AO4="", AO4="N/A"), "", 1 + COUNTIFS(AP$3:AP$32, ">"&AP4) + COUNTIFS(AP$3:AP$32, AP4, AQ$3:AQ$32, "<"&AQ4) + COUNTIFS(AP$3:AP$32, AP4, AQ$3:AQ$32, AQ4, AR$3:AR$32, "<"&AR4) + COUNTIFS(AP$3:AP$32, AP4, AQ$3:AQ$32, AQ4, AR$3:AR$32, AR4, AS$3:AS$32, ">"&AS4) + COUNTIFS(AP$3:AP$32, AP4, AQ$3:AQ$32, AQ4, AR$3:AR$32, AR4, AS$3:AS$32, AS4, AT$3:AT$32, ">"&AT4) + COUNTIFS(AP$3:AP$32, AP4, AQ$3:AQ$32, AQ4, AR$3:AR$32, AR4, AS$3:AS$32, AS4, AT$3:AT$32, AT4, AU$3:AU$32, ">"&AU4) + COUNTIFS(AP$3:AP$32, AP4, AQ$3:AQ$32, AQ4, AR$3:AR$32, AR4, AS$3:AS$32, AS4, AT$3:AT$32, AT4, AU$3:AU$32, AU4, AV$3:AV$32, ">"&AV4) + COUNTIFS(AP$3:AP$32, AP4, AQ$3:AQ$32, AQ4, AR$3:AR$32, AR4, AS$3:AS$32, AS4, AT$3:AT$32, AT4, AU$3:AU$32, AU4, AV$3:AV$32, AV4, AW$3:AW$32, ">"&AW4) + COUNTIFS(AP$3:AP$32, AP4, AQ$3:AQ$32, AQ4, AR$3:AR$32, AR4, AS$3:AS$32, AS4, AT$3:AT$32, AT4, AU$3:AU$32, AU4, AV$3:AV$32, AV4, AW$3:AW$32, AW4, AX$3:AX$32, ">"&AX4) + COUNTIFS(AP$3:AP$32, AP4, AQ$3:AQ$32, AQ4, AR$3:AR$32, AR4, AS$3:AS$32, AS4, AT$3:AT$32, AT4, AU$3:AU$32, AU4, AV$3:AV$32, AV4, AW$3:AW$32, AW4, AX$3:AX$32, AX4, AY$3:AY$32, ">"&AY4) ) -> 2 | AO4: Harrisburg | AP4: 290 | AQ4: 0 | AR4: 0 | AS4: 0 | AT4: 0 | AU4: 0 | AV4: 0 | AW4: 0 | AX4: 0 | AY4: 0
A5: =IF(OR(B5="", B5="N/A"), "", 1 + COUNTIFS(C$3:C$32, ">"&C5) + COUNTIFS(C$3:C$32, C5, D$3:D$32, "<"&D5) + COUNTIFS(C$3:C$32, C5, D$3:D$32, D5, E$3:E$32, "<"&E5) + COUNTIFS(C$3:C$32, C5, D$3:D$32, D5, E$3:E$32, E5, F$3:F$32, ">"&F5) + COUNTIFS(C$3:C$32, C5, D$3:D$32, D5, E$3:E$32, E5, F$3:F$32, F5, G$3:G$32, ">"&G5) + COUNTIFS(C$3:C$32, C5, D$3:D$32, D5, E$3:E$32, E5, F$3:F$32, F5, G$3:G$32, G5, H$3:H$32, ">"&H5) + COUNTIFS(C$3:C$32, C5, D$3:D$32, D5, E$3:E$32, E5, F$3:F$32, F5, G$3:G$32, G5, H$3:H$32, H5, I$3:I$32, ">"&I5) + COUNTIFS(C$3:C$32, C5, D$3:D$32, D5, E$3:E$32, E5, F$3:F$32, F5, G$3:G$32, G5, H$3:H$32, H5, I$3:I$32, I5, J$3:J$32, ">"&J5) + COUNTIFS(C$3:C$32, C5, D$3:D$32, D5, E$3:E$32, E5, F$3:F$32, F5, G$3:G$32, G5, H$3:H$32, H5, I$3:I$32, I5, J$3:J$32, J5, K$3:K$32, ">"&K5) + COUNTIFS(C$3:C$32, C5, D$3:D$32, D5, E$3:E$32, E5, F$3:F$32, F5, G$3:G$32, G5, H$3:H$32, H5, I$3:I$32, I5, J$3:J$32, J5, K$3:K$32, K5, L$3:L$32, ">"&L5) ) | N5: =IF(OR(O5="", O5="N/A"), "", 1 + COUNTIFS(P$3:P$32, ">"&P5) + COUNTIFS(P$3:P$32, P5, Q$3:Q$32, "<"&Q5) + COUNTIFS(P$3:P$32, P5, Q$3:Q$32, Q5, R$3:R$32, "<"&R5) + COUNTIFS(P$3:P$32, P5, Q$3:Q$32, Q5, R$3:R$32, R5, S$3:S$32, ">"&S5) + COUNTIFS(P$3:P$32, P5, Q$3:Q$32, Q5, R$3:R$32, R5, S$3:S$32, S5, T$3:T$32, ">"&T5) + COUNTIFS(P$3:P$32, P5, Q$3:Q$32, Q5, R$3:R$32, R5, S$3:S$32, S5, T$3:T$32, T5, U$3:U$32, ">"&U5) + COUNTIFS(P$3:P$32, P5, Q$3:Q$32, Q5, R$3:R$32, R5, S$3:S$32, S5, T$3:T$32, T5, U$3:U$32, U5, V$3:V$32, ">"&V5) + COUNTIFS(P$3:P$32, P5, Q$3:Q$32, Q5, R$3:R$32, R5, S$3:S$32, S5, T$3:T$32, T5, U$3:U$32, U5, V$3:V$32, V5, W$3:W$32, ">"&W5) + COUNTIFS(P$3:P$32, P5, Q$3:Q$32, Q5, R$3:R$32, R5, S$3:S$32, S5, T$3:T$32, T5, U$3:U$32, U5, V$3:V$32, V5, W$3:W$32, W5, X$3:X$32, ">"&X5) + COUNTIFS(P$3:P$32, P5, Q$3:Q$32, Q5, R$3:R$32, R5, S$3:S$32, S5, T$3:T$32, T5, U$3:U$32, U5, V$3:V$32, V5, W$3:W$32, W5, X$3:X$32, X5, Y$3:Y$32, ">"&Y5) ) | AA5: =IF(OR(AB5="", AB5="N/A"), "", 1 + COUNTIFS(AC$3:AC$32, ">"&AC5) + COUNTIFS(AC$3:AC$32, AC5, AD$3:AD$32, "<"&AD5) + COUNTIFS(AC$3:AC$32, AC5, AD$3:AD$32, AD5, AE$3:AE$32, "<"&AE5) + COUNTIFS(AC$3:AC$32, AC5, AD$3:AD$32, AD5, AE$3:AE$32, AE5, AF$3:AF$32, ">"&AF5) + COUNTIFS(AC$3:AC$32, AC5, AD$3:AD$32, AD5, AE$3:AE$32, AE5, AF$3:AF$32, AF5, AG$3:AG$32, ">"&AG5) + COUNTIFS(AC$3:AC$32, AC5, AD$3:AD$32, AD5, AE$3:AE$32, AE5, AF$3:AF$32, AF5, AG$3:AG$32, AG5, AH$3:AH$32, ">"&AH5) + COUNTIFS(AC$3:AC$32, AC5, AD$3:AD$32, AD5, AE$3:AE$32, AE5, AF$3:AF$32, AF5, AG$3:AG$32, AG5, AH$3:AH$32, AH5, AI$3:AI$32, ">"&AI5) + COUNTIFS(AC$3:AC$32, AC5, AD$3:AD$32, AD5, AE$3:AE$32, AE5, AF$3:AF$32, AF5, AG$3:AG$32, AG5, AH$3:AH$32, AH5, AI$3:AI$32, AI5, AJ$3:AJ$32, ">"&AJ5) + COUNTIFS(AC$3:AC$32, AC5, AD$3:AD$32, AD5, AE$3:AE$32, AE5, AF$3:AF$32, AF5, AG$3:AG$32, AG5, AH$3:AH$32, AH5, AI$3:AI$32, AI5, AJ$3:AJ$32, AJ5, AK$3:AK$32, ">"&AK5) + COUNTIFS(AC$3:AC$32, AC5, AD$3:AD$32, AD5, AE$3:AE$32, AE5, AF$3:AF$32, AF5, AG$3:AG$32, AG5, AH$3:AH$32, AH5, AI$3:AI$32, AI5, AJ$3:AJ$32, AJ5, AK$3:AK$32, AK5, AL$3:AL$32, ">"&AL5) ) | AN5: =IF(OR(AO5="", AO5="N/A"), "", 1 + COUNTIFS(AP$3:AP$32, ">"&AP5) + COUNTIFS(AP$3:AP$32, AP5, AQ$3:AQ$32, "<"&AQ5) + COUNTIFS(AP$3:AP$32, AP5, AQ$3:AQ$32, AQ5, AR$3:AR$32, "<"&AR5) + COUNTIFS(AP$3:AP$32, AP5, AQ$3:AQ$32, AQ5, AR$3:AR$32, AR5, AS$3:AS$32, ">"&AS5) + COUNTIFS(AP$3:AP$32, AP5, AQ$3:AQ$32, AQ5, AR$3:AR$32, AR5, AS$3:AS$32, AS5, AT$3:AT$32, ">"&AT5) + COUNTIFS(AP$3:AP$32, AP5, AQ$3:AQ$32, AQ5, AR$3:AR$32, AR5, AS$3:AS$32, AS5, AT$3:AT$32, AT5, AU$3:AU$32, ">"&AU5) + COUNTIFS(AP$3:AP$32, AP5, AQ$3:AQ$32, AQ5, AR$3:AR$32, AR5, AS$3:AS$32, AS5, AT$3:AT$32, AT5, AU$3:AU$32, AU5, AV$3:AV$32, ">"&AV5) + COUNTIFS(AP$3:AP$32, AP5, AQ$3:AQ$32, AQ5, AR$3:AR$32, AR5, AS$3:AS$32, AS5, AT$3:AT$32, AT5, AU$3:AU$32, AU5, AV$3:AV$32, AV5, AW$3:AW$32, ">"&AW5) + COUNTIFS(AP$3:AP$32, AP5, AQ$3:AQ$32, AQ5, AR$3:AR$32, AR5, AS$3:AS$32, AS5, AT$3:AT$32, AT5, AU$3:AU$32, AU5, AV$3:AV$32, AV5, AW$3:AW$32, AW5, AX$3:AX$32, ">"&AX5) + COUNTIFS(AP$3:AP$32, AP5, AQ$3:AQ$32, AQ5, AR$3:AR$32, AR5, AS$3:AS$32, AS5, AT$3:AT$32, AT5, AU$3:AU$32, AU5, AV$3:AV$32, AV5, AW$3:AW$32, AW5, AX$3:AX$32, AX5, AY$3:AY$32, ">"&AY5) ) -> 3 | AO5: O'Gorman | AP5: 287.5 | AQ5: 0 | AR5: 0 | AS5: 0 | AT5: 0 | AU5: 0 | AV5: 0 | AW5: 0 | AX5: 0 | AY5: 0
A6: =IF(OR(B6="", B6="N/A"), "", 1 + COUNTIFS(C$3:C$32, ">"&C6) + COUNTIFS(C$3:C$32, C6, D$3:D$32, "<"&D6) + COUNTIFS(C$3:C$32, C6, D$3:D$32, D6, E$3:E$32, "<"&E6) + COUNTIFS(C$3:C$32, C6, D$3:D$32, D6, E$3:E$32, E6, F$3:F$32, ">"&F6) + COUNTIFS(C$3:C$32, C6, D$3:D$32, D6, E$3:E$32, E6, F$3:F$32, F6, G$3:G$32, ">"&G6) + COUNTIFS(C$3:C$32, C6, D$3:D$32, D6, E$3:E$32, E6, F$3:F$32, F6, G$3:G$32, G6, H$3:H$32, ">"&H6) + COUNTIFS(C$3:C$32, C6, D$3:D$32, D6, E$3:E$32, E6, F$3:F$32, F6, G$3:G$32, G6, H$3:H$32, H6, I$3:I$32, ">"&I6) + COUNTIFS(C$3:C$32, C6, D$3:D$32, D6, E$3:E$32, E6, F$3:F$32, F6, G$3:G$32, G6, H$3:H$32, H6, I$3:I$32, I6, J$3:J$32, ">"&J6) + COUNTIFS(C$3:C$32, C6, D$3:D$32, D6, E$3:E$32, E6, F$3:F$32, F6, G$3:G$32, G6, H$3:H$32, H6, I$3:I$32, I6, J$3:J$32, J6, K$3:K$32, ">"&K6) + COUNTIFS(C$3:C$32, C6, D$3:D$32, D6, E$3:E$32, E6, F$3:F$32, F6, G$3:G$32, G6, H$3:H$32, H6, I$3:I$32, I6, J$3:J$32, J6, K$3:K$32, K6, L$3:L$32, ">"&L6) ) | N6: =IF(OR(O6="", O6="N/A"), "", 1 + COUNTIFS(P$3:P$32, ">"&P6) + COUNTIFS(P$3:P$32, P6, Q$3:Q$32, "<"&Q6) + COUNTIFS(P$3:P$32, P6, Q$3:Q$32, Q6, R$3:R$32, "<"&R6) + COUNTIFS(P$3:P$32, P6, Q$3:Q$32, Q6, R$3:R$32, R6, S$3:S$32, ">"&S6) + COUNTIFS(P$3:P$32, P6, Q$3:Q$32, Q6, R$3:R$32, R6, S$3:S$32, S6, T$3:T$32, ">"&T6) + COUNTIFS(P$3:P$32, P6, Q$3:Q$32, Q6, R$3:R$32, R6, S$3:S$32, S6, T$3:T$32, T6, U$3:U$32, ">"&U6) + COUNTIFS(P$3:P$32, P6, Q$3:Q$32, Q6, R$3:R$32, R6, S$3:S$32, S6, T$3:T$32, T6, U$3:U$32, U6, V$3:V$32, ">"&V6) + COUNTIFS(P$3:P$32, P6, Q$3:Q$32, Q6, R$3:R$32, R6, S$3:S$32, S6, T$3:T$32, T6, U$3:U$32, U6, V$3:V$32, V6, W$3:W$32, ">"&W6) + COUNTIFS(P$3:P$32, P6, Q$3:Q$32, Q6, R$3:R$32, R6, S$3:S$32, S6, T$3:T$32, T6, U$3:U$32, U6, V$3:V$32, V6, W$3:W$32, W6, X$3:X$32, ">"&X6) + COUNTIFS(P$3:P$32, P6, Q$3:Q$32, Q6, R$3:R$32, R6, S$3:S$32, S6, T$3:T$32, T6, U$3:U$32, U6, V$3:V$32, V6, W$3:W$32, W6, X$3:X$32, X6, Y$3:Y$32, ">"&Y6) ) | AA6: =IF(OR(AB6="", AB6="N/A"), "", 1 + COUNTIFS(AC$3:AC$32, ">"&AC6) + COUNTIFS(AC$3:AC$32, AC6, AD$3:AD$32, "<"&AD6) + COUNTIFS(AC$3:AC$32, AC6, AD$3:AD$32, AD6, AE$3:AE$32, "<"&AE6) + COUNTIFS(AC$3:AC$32, AC6, AD$3:AD$32, AD6, AE$3:AE$32, AE6, AF$3:AF$32, ">"&AF6) + COUNTIFS(AC$3:AC$32, AC6, AD$3:AD$32, AD6, AE$3:AE$32, AE6, AF$3:AF$32, AF6, AG$3:AG$32, ">"&AG6) + COUNTIFS(AC$3:AC$32, AC6, AD$3:AD$32, AD6, AE$3:AE$32, AE6, AF$3:AF$32, AF6, AG$3:AG$32, AG6, AH$3:AH$32, ">"&AH6) + COUNTIFS(AC$3:AC$32, AC6, AD$3:AD$32, AD6, AE$3:AE$32, AE6, AF$3:AF$32, AF6, AG$3:AG$32, AG6, AH$3:AH$32, AH6, AI$3:AI$32, ">"&AI6) + COUNTIFS(AC$3:AC$32, AC6, AD$3:AD$32, AD6, AE$3:AE$32, AE6, AF$3:AF$32, AF6, AG$3:AG$32, AG6, AH$3:AH$32, AH6, AI$3:AI$32, AI6, AJ$3:AJ$32, ">"&AJ6) + COUNTIFS(AC$3:AC$32, AC6, AD$3:AD$32, AD6, AE$3:AE$32, AE6, AF$3:AF$32, AF6, AG$3:AG$32, AG6, AH$3:AH$32, AH6, AI$3:AI$32, AI6, AJ$3:AJ$32, AJ6, AK$3:AK$32, ">"&AK6) + COUNTIFS(AC$3:AC$32, AC6, AD$3:AD$32, AD6, AE$3:AE$32, AE6, AF$3:AF$32, AF6, AG$3:AG$32, AG6, AH$3:AH$32, AH6, AI$3:AI$32, AI6, AJ$3:AJ$32, AJ6, AK$3:AK$32, AK6, AL$3:AL$32, ">"&AL6) ) | AN6: =IF(OR(AO6="", AO6="N/A"), "", 1 + COUNTIFS(AP$3:AP$32, ">"&AP6) + COUNTIFS(AP$3:AP$32, AP6, AQ$3:AQ$32, "<"&AQ6) + COUNTIFS(AP$3:AP$32, AP6, AQ$3:AQ$32, AQ6, AR$3:AR$32, "<"&AR6) + COUNTIFS(AP$3:AP$32, AP6, AQ$3:AQ$32, AQ6, AR$3:AR$32, AR6, AS$3:AS$32, ">"&AS6) + COUNTIFS(AP$3:AP$32, AP6, AQ$3:AQ$32, AQ6, AR$3:AR$32, AR6, AS$3:AS$32, AS6, AT$3:AT$32, ">"&AT6) + COUNTIFS(AP$3:AP$32, AP6, AQ$3:AQ$32, AQ6, AR$3:AR$32, AR6, AS$3:AS$32, AS6, AT$3:AT$32, AT6, AU$3:AU$32, ">"&AU6) + COUNTIFS(AP$3:AP$32, AP6, AQ$3:AQ$32, AQ6, AR$3:AR$32, AR6, AS$3:AS$32, AS6, AT$3:AT$32, AT6, AU$3:AU$32, AU6, AV$3:AV$32, ">"&AV6) + COUNTIFS(AP$3:AP$32, AP6, AQ$3:AQ$32, AQ6, AR$3:AR$32, AR6, AS$3:AS$32, AS6, AT$3:AT$32, AT6, AU$3:AU$32, AU6, AV$3:AV$32, AV6, AW$3:AW$32, ">"&AW6) + COUNTIFS(AP$3:AP$32, AP6, AQ$3:AQ$32, AQ6, AR$3:AR$32, AR6, AS$3:AS$32, AS6, AT$3:AT$32, AT6, AU$3:AU$32, AU6, AV$3:AV$32, AV6, AW$3:AW$32, AW6, AX$3:AX$32, ">"&AX6) + COUNTIFS(AP$3:AP$32, AP6, AQ$3:AQ$32, AQ6, AR$3:AR$32, AR6, AS$3:AS$32, AS6, AT$3:AT$32, AT6, AU$3:AU$32, AU6, AV$3:AV$32, AV6, AW$3:AW$32, AW6, AX$3:AX$32, AX6, AY$3:AY$32, ">"&AY6) ) -> 4 | AO6: Tea Area | AP6: 278.5 | AQ6: 0 | AR6: 0 | AS6: 0 | AT6: 0 | AU6: 0 | AV6: 0 | AW6: 0 | AX6: 0 | AY6: 0
A7: =IF(OR(B7="", B7="N/A"), "", 1 + COUNTIFS(C$3:C$32, ">"&C7) + COUNTIFS(C$3:C$32, C7, D$3:D$32, "<"&D7) + COUNTIFS(C$3:C$32, C7, D$3:D$32, D7, E$3:E$32, "<"&E7) + COUNTIFS(C$3:C$32, C7, D$3:D$32, D7, E$3:E$32, E7, F$3:F$32, ">"&F7) + COUNTIFS(C$3:C$32, C7, D$3:D$32, D7, E$3:E$32, E7, F$3:F$32, F7, G$3:G$32, ">"&G7) + COUNTIFS(C$3:C$32, C7, D$3:D$32, D7, E$3:E$32, E7, F$3:F$32, F7, G$3:G$32, G7, H$3:H$32, ">"&H7) + COUNTIFS(C$3:C$32, C7, D$3:D$32, D7, E$3:E$32, E7, F$3:F$32, F7, G$3:G$32, G7, H$3:H$32, H7, I$3:I$32, ">"&I7) + COUNTIFS(C$3:C$32, C7, D$3:D$32, D7, E$3:E$32, E7, F$3:F$32, F7, G$3:G$32, G7, H$3:H$32, H7, I$3:I$32, I7, J$3:J$32, ">"&J7) + COUNTIFS(C$3:C$32, C7, D$3:D$32, D7, E$3:E$32, E7, F$3:F$32, F7, G$3:G$32, G7, H$3:H$32, H7, I$3:I$32, I7, J$3:J$32, J7, K$3:K$32, ">"&K7) + COUNTIFS(C$3:C$32, C7, D$3:D$32, D7, E$3:E$32, E7, F$3:F$32, F7, G$3:G$32, G7, H$3:H$32, H7, I$3:I$32, I7, J$3:J$32, J7, K$3:K$32, K7, L$3:L$32, ">"&L7) ) | N7: =IF(OR(O7="", O7="N/A"), "", 1 + COUNTIFS(P$3:P$32, ">"&P7) + COUNTIFS(P$3:P$32, P7, Q$3:Q$32, "<"&Q7) + COUNTIFS(P$3:P$32, P7, Q$3:Q$32, Q7, R$3:R$32, "<"&R7) + COUNTIFS(P$3:P$32, P7, Q$3:Q$32, Q7, R$3:R$32, R7, S$3:S$32, ">"&S7) + COUNTIFS(P$3:P$32, P7, Q$3:Q$32, Q7, R$3:R$32, R7, S$3:S$32, S7, T$3:T$32, ">"&T7) + COUNTIFS(P$3:P$32, P7, Q$3:Q$32, Q7, R$3:R$32, R7, S$3:S$32, S7, T$3:T$32, T7, U$3:U$32, ">"&U7) + COUNTIFS(P$3:P$32, P7, Q$3:Q$32, Q7, R$3:R$32, R7, S$3:S$32, S7, T$3:T$32, T7, U$3:U$32, U7, V$3:V$32, ">"&V7) + COUNTIFS(P$3:P$32, P7, Q$3:Q$32, Q7, R$3:R$32, R7, S$3:S$32, S7, T$3:T$32, T7, U$3:U$32, U7, V$3:V$32, V7, W$3:W$32, ">"&W7) + COUNTIFS(P$3:P$32, P7, Q$3:Q$32, Q7, R$3:R$32, R7, S$3:S$32, S7, T$3:T$32, T7, U$3:U$32, U7, V$3:V$32, V7, W$3:W$32, W7, X$3:X$32, ">"&X7) + COUNTIFS(P$3:P$32, P7, Q$3:Q$32, Q7, R$3:R$32, R7, S$3:S$32, S7, T$3:T$32, T7, U$3:U$32, U7, V$3:V$32, V7, W$3:W$32, W7, X$3:X$32, X7, Y$3:Y$32, ">"&Y7) ) | AA7: =IF(OR(AB7="", AB7="N/A"), "", 1 + COUNTIFS(AC$3:AC$32, ">"&AC7) + COUNTIFS(AC$3:AC$32, AC7, AD$3:AD$32, "<"&AD7) + COUNTIFS(AC$3:AC$32, AC7, AD$3:AD$32, AD7, AE$3:AE$32, "<"&AE7) + COUNTIFS(AC$3:AC$32, AC7, AD$3:AD$32, AD7, AE$3:AE$32, AE7, AF$3:AF$32, ">"&AF7) + COUNTIFS(AC$3:AC$32, AC7, AD$3:AD$32, AD7, AE$3:AE$32, AE7, AF$3:AF$32, AF7, AG$3:AG$32, ">"&AG7) + COUNTIFS(AC$3:AC$32, AC7, AD$3:AD$32, AD7, AE$3:AE$32, AE7, AF$3:AF$32, AF7, AG$3:AG$32, AG7, AH$3:AH$32, ">"&AH7) + COUNTIFS(AC$3:AC$32, AC7, AD$3:AD$32, AD7, AE$3:AE$32, AE7, AF$3:AF$32, AF7, AG$3:AG$32, AG7, AH$3:AH$32, AH7, AI$3:AI$32, ">"&AI7) + COUNTIFS(AC$3:AC$32, AC7, AD$3:AD$32, AD7, AE$3:AE$32, AE7, AF$3:AF$32, AF7, AG$3:AG$32, AG7, AH$3:AH$32, AH7, AI$3:AI$32, AI7, AJ$3:AJ$32, ">"&AJ7) + COUNTIFS(AC$3:AC$32, AC7, AD$3:AD$32, AD7, AE$3:AE$32, AE7, AF$3:AF$32, AF7, AG$3:AG$32, AG7, AH$3:AH$32, AH7, AI$3:AI$32, AI7, AJ$3:AJ$32, AJ7, AK$3:AK$32, ">"&AK7) + COUNTIFS(AC$3:AC$32, AC7, AD$3:AD$32, AD7, AE$3:AE$32, AE7, AF$3:AF$32, AF7, AG$3:AG$32, AG7, AH$3:AH$32, AH7, AI$3:AI$32, AI7, AJ$3:AJ$32, AJ7, AK$3:AK$32, AK7, AL$3:AL$32, ">"&AL7) ) | AN7: =IF(OR(AO7="", AO7="N/A"), "", 1 + COUNTIFS(AP$3:AP$32, ">"&AP7) + COUNTIFS(AP$3:AP$32, AP7, AQ$3:AQ$32, "<"&AQ7) + COUNTIFS(AP$3:AP$32, AP7, AQ$3:AQ$32, AQ7, AR$3:AR$32, "<"&AR7) + COUNTIFS(AP$3:AP$32, AP7, AQ$3:AQ$32, AQ7, AR$3:AR$32, AR7, AS$3:AS$32, ">"&AS7) + COUNTIFS(AP$3:AP$32, AP7, AQ$3:AQ$32, AQ7, AR$3:AR$32, AR7, AS$3:AS$32, AS7, AT$3:AT$32, ">"&AT7) + COUNTIFS(AP$3:AP$32, AP7, AQ$3:AQ$32, AQ7, AR$3:AR$32, AR7, AS$3:AS$32, AS7, AT$3:AT$32, AT7, AU$3:AU$32, ">"&AU7) + COUNTIFS(AP$3:AP$32, AP7, AQ$3:AQ$32, AQ7, AR$3:AR$32, AR7, AS$3:AS$32, AS7, AT$3:AT$32, AT7, AU$3:AU$32, AU7, AV$3:AV$32, ">"&AV7) + COUNTIFS(AP$3:AP$32, AP7, AQ$3:AQ$32, AQ7, AR$3:AR$32, AR7, AS$3:AS$32, AS7, AT$3:AT$32, AT7, AU$3:AU$32, AU7, AV$3:AV$32, AV7, AW$3:AW$32, ">"&AW7) + COUNTIFS(AP$3:AP$32, AP7, AQ$3:AQ$32, AQ7, AR$3:AR$32, AR7, AS$3:AS$32, AS7, AT$3:AT$32, AT7, AU$3:AU$32, AU7, AV$3:AV$32, AV7, AW$3:AW$32, AW7, AX$3:AX$32, ">"&AX7) + COUNTIFS(AP$3:AP$32, AP7, AQ$3:AQ$32, AQ7, AR$3:AR$32, AR7, AS$3:AS$32, AS7, AT$3:AT$32, AT7, AU$3:AU$32, AU7, AV$3:AV$32, AV7, AW$3:AW$32, AW7, AX$3:AX$32, AX7, AY$3:AY$32, ">"&AY7) ) -> 5 | AO7: Sioux Valley | AP7: 278 | AQ7: 0 | AR7: 0 | AS7: 0 | AT7: 0 | AU7: 0 | AV7: 0 | AW7: 0 | AX7: 0 | AY7: 0
A8: =IF(OR(B8="", B8="N/A"), "", 1 + COUNTIFS(C$3:C$32, ">"&C8) + COUNTIFS(C$3:C$32, C8, D$3:D$32, "<"&D8) + COUNTIFS(C$3:C$32, C8, D$3:D$32, D8, E$3:E$32, "<"&E8) + COUNTIFS(C$3:C$32, C8, D$3:D$32, D8, E$3:E$32, E8, F$3:F$32, ">"&F8) + COUNTIFS(C$3:C$32, C8, D$3:D$32, D8, E$3:E$32, E8, F$3:F$32, F8, G$3:G$32, ">"&G8) + COUNTIFS(C$3:C$32, C8, D$3:D$32, D8, E$3:E$32, E8, F$3:F$32, F8, G$3:G$32, G8, H$3:H$32, ">"&H8) + COUNTIFS(C$3:C$32, C8, D$3:D$32, D8, E$3:E$32, E8, F$3:F$32, F8, G$3:G$32, G8, H$3:H$32, H8, I$3:I$32, ">"&I8) + COUNTIFS(C$3:C$32, C8, D$3:D$32, D8, E$3:E$32, E8, F$3:F$32, F8, G$3:G$32, G8, H$3:H$32, H8, I$3:I$32, I8, J$3:J$32, ">"&J8) + COUNTIFS(C$3:C$32, C8, D$3:D$32, D8, E$3:E$32, E8, F$3:F$32, F8, G$3:G$32, G8, H$3:H$32, H8, I$3:I$32, I8, J$3:J$32, J8, K$3:K$32, ">"&K8) + COUNTIFS(C$3:C$32, C8, D$3:D$32, D8, E$3:E$32, E8, F$3:F$32, F8, G$3:G$32, G8, H$3:H$32, H8, I$3:I$32, I8, J$3:J$32, J8, K$3:K$32, K8, L$3:L$32, ">"&L8) ) | N8: =IF(OR(O8="", O8="N/A"), "", 1 + COUNTIFS(P$3:P$32, ">"&P8) + COUNTIFS(P$3:P$32, P8, Q$3:Q$32, "<"&Q8) + COUNTIFS(P$3:P$32, P8, Q$3:Q$32, Q8, R$3:R$32, "<"&R8) + COUNTIFS(P$3:P$32, P8, Q$3:Q$32, Q8, R$3:R$32, R8, S$3:S$32, ">"&S8) + COUNTIFS(P$3:P$32, P8, Q$3:Q$32, Q8, R$3:R$32, R8, S$3:S$32, S8, T$3:T$32, ">"&T8) + COUNTIFS(P$3:P$32, P8, Q$3:Q$32, Q8, R$3:R$32, R8, S$3:S$32, S8, T$3:T$32, T8, U$3:U$32, ">"&U8) + COUNTIFS(P$3:P$32, P8, Q$3:Q$32, Q8, R$3:R$32, R8, S$3:S$32, S8, T$3:T$32, T8, U$3:U$32, U8, V$3:V$32, ">"&V8) + COUNTIFS(P$3:P$32, P8, Q$3:Q$32, Q8, R$3:R$32, R8, S$3:S$32, S8, T$3:T$32, T8, U$3:U$32, U8, V$3:V$32, V8, W$3:W$32, ">"&W8) + COUNTIFS(P$3:P$32, P8, Q$3:Q$32, Q8, R$3:R$32, R8, S$3:S$32, S8, T$3:T$32, T8, U$3:U$32, U8, V$3:V$32, V8, W$3:W$32, W8, X$3:X$32, ">"&X8) + COUNTIFS(P$3:P$32, P8, Q$3:Q$32, Q8, R$3:R$32, R8, S$3:S$32, S8, T$3:T$32, T8, U$3:U$32, U8, V$3:V$32, V8, W$3:W$32, W8, X$3:X$32, X8, Y$3:Y$32, ">"&Y8) ) | AA8: =IF(OR(AB8="", AB8="N/A"), "", 1 + COUNTIFS(AC$3:AC$32, ">"&AC8) + COUNTIFS(AC$3:AC$32, AC8, AD$3:AD$32, "<"&AD8) + COUNTIFS(AC$3:AC$32, AC8, AD$3:AD$32, AD8, AE$3:AE$32, "<"&AE8) + COUNTIFS(AC$3:AC$32, AC8, AD$3:AD$32, AD8, AE$3:AE$32, AE8, AF$3:AF$32, ">"&AF8) + COUNTIFS(AC$3:AC$32, AC8, AD$3:AD$32, AD8, AE$3:AE$32, AE8, AF$3:AF$32, AF8, AG$3:AG$32, ">"&AG8) + COUNTIFS(AC$3:AC$32, AC8, AD$3:AD$32, AD8, AE$3:AE$32, AE8, AF$3:AF$32, AF8, AG$3:AG$32, AG8, AH$3:AH$32, ">"&AH8) + COUNTIFS(AC$3:AC$32, AC8, AD$3:AD$32, AD8, AE$3:AE$32, AE8, AF$3:AF$32, AF8, AG$3:AG$32, AG8, AH$3:AH$32, AH8, AI$3:AI$32, ">"&AI8) + COUNTIFS(AC$3:AC$32, AC8, AD$3:AD$32, AD8, AE$3:AE$32, AE8, AF$3:AF$32, AF8, AG$3:AG$32, AG8, AH$3:AH$32, AH8, AI$3:AI$32, AI8, AJ$3:AJ$32, ">"&AJ8) + COUNTIFS(AC$3:AC$32, AC8, AD$3:AD$32, AD8, AE$3:AE$32, AE8, AF$3:AF$32, AF8, AG$3:AG$32, AG8, AH$3:AH$32, AH8, AI$3:AI$32, AI8, AJ$3:AJ$32, AJ8, AK$3:AK$32, ">"&AK8) + COUNTIFS(AC$3:AC$32, AC8, AD$3:AD$32, AD8, AE$3:AE$32, AE8, AF$3:AF$32, AF8, AG$3:AG$32, AG8, AH$3:AH$32, AH8, AI$3:AI$32, AI8, AJ$3:AJ$32, AJ8, AK$3:AK$32, AK8, AL$3:AL$32, ">"&AL8) ) | AN8: =IF(OR(AO8="", AO8="N/A"), "", 1 + COUNTIFS(AP$3:AP$32, ">"&AP8) + COUNTIFS(AP$3:AP$32, AP8, AQ$3:AQ$32, "<"&AQ8) + COUNTIFS(AP$3:AP$32, AP8, AQ$3:AQ$32, AQ8, AR$3:AR$32, "<"&AR8) + COUNTIFS(AP$3:AP$32, AP8, AQ$3:AQ$32, AQ8, AR$3:AR$32, AR8, AS$3:AS$32, ">"&AS8) + COUNTIFS(AP$3:AP$32, AP8, AQ$3:AQ$32, AQ8, AR$3:AR$32, AR8, AS$3:AS$32, AS8, AT$3:AT$32, ">"&AT8) + COUNTIFS(AP$3:AP$32, AP8, AQ$3:AQ$32, AQ8, AR$3:AR$32, AR8, AS$3:AS$32, AS8, AT$3:AT$32, AT8, AU$3:AU$32, ">"&AU8) + COUNTIFS(AP$3:AP$32, AP8, AQ$3:AQ$32, AQ8, AR$3:AR$32, AR8, AS$3:AS$32, AS8, AT$3:AT$32, AT8, AU$3:AU$32, AU8, AV$3:AV$32, ">"&AV8) + COUNTIFS(AP$3:AP$32, AP8, AQ$3:AQ$32, AQ8, AR$3:AR$32, AR8, AS$3:AS$32, AS8, AT$3:AT$32, AT8, AU$3:AU$32, AU8, AV$3:AV$32, AV8, AW$3:AW$32, ">"&AW8) + COUNTIFS(AP$3:AP$32, AP8, AQ$3:AQ$32, AQ8, AR$3:AR$32, AR8, AS$3:AS$32, AS8, AT$3:AT$32, AT8, AU$3:AU$32, AU8, AV$3:AV$32, AV8, AW$3:AW$32, AW8, AX$3:AX$32, ">"&AX8) + COUNTIFS(AP$3:AP$32, AP8, AQ$3:AQ$32, AQ8, AR$3:AR$32, AR8, AS$3:AS$32, AS8, AT$3:AT$32, AT8, AU$3:AU$32, AU8, AV$3:AV$32, AV8, AW$3:AW$32, AW8, AX$3:AX$32, AX8, AY$3:AY$32, ">"&AY8) ) -> 6 | AO8: Brookings | AP8: 276 | AQ8: 0 | AR8: 0 | AS8: 0 | AT8: 0 | AU8: 0 | AV8: 0 | AW8: 0 | AX8: 0 | AY8: 0
A9: =IF(OR(B9="", B9="N/A"), "", 1 + COUNTIFS(C$3:C$32, ">"&C9) + COUNTIFS(C$3:C$32, C9, D$3:D$32, "<"&D9) + COUNTIFS(C$3:C$32, C9, D$3:D$32, D9, E$3:E$32, "<"&E9) + COUNTIFS(C$3:C$32, C9, D$3:D$32, D9, E$3:E$32, E9, F$3:F$32, ">"&F9) + COUNTIFS(C$3:C$32, C9, D$3:D$32, D9, E$3:E$32, E9, F$3:F$32, F9, G$3:G$32, ">"&G9) + COUNTIFS(C$3:C$32, C9, D$3:D$32, D9, E$3:E$32, E9, F$3:F$32, F9, G$3:G$32, G9, H$3:H$32, ">"&H9) + COUNTIFS(C$3:C$32, C9, D$3:D$32, D9, E$3:E$32, E9, F$3:F$32, F9, G$3:G$32, G9, H$3:H$32, H9, I$3:I$32, ">"&I9) + COUNTIFS(C$3:C$32, C9, D$3:D$32, D9, E$3:E$32, E9, F$3:F$32, F9, G$3:G$32, G9, H$3:H$32, H9, I$3:I$32, I9, J$3:J$32, ">"&J9) + COUNTIFS(C$3:C$32, C9, D$3:D$32, D9, E$3:E$32, E9, F$3:F$32, F9, G$3:G$32, G9, H$3:H$32, H9, I$3:I$32, I9, J$3:J$32, J9, K$3:K$32, ">"&K9) + COUNTIFS(C$3:C$32, C9, D$3:D$32, D9, E$3:E$32, E9, F$3:F$32, F9, G$3:G$32, G9, H$3:H$32, H9, I$3:I$32, I9, J$3:J$32, J9, K$3:K$32, K9, L$3:L$32, ">"&L9) ) | N9: =IF(OR(O9="", O9="N/A"), "", 1 + COUNTIFS(P$3:P$32, ">"&P9) + COUNTIFS(P$3:P$32, P9, Q$3:Q$32, "<"&Q9) + COUNTIFS(P$3:P$32, P9, Q$3:Q$32, Q9, R$3:R$32, "<"&R9) + COUNTIFS(P$3:P$32, P9, Q$3:Q$32, Q9, R$3:R$32, R9, S$3:S$32, ">"&S9) + COUNTIFS(P$3:P$32, P9, Q$3:Q$32, Q9, R$3:R$32, R9, S$3:S$32, S9, T$3:T$32, ">"&T9) + COUNTIFS(P$3:P$32, P9, Q$3:Q$32, Q9, R$3:R$32, R9, S$3:S$32, S9, T$3:T$32, T9, U$3:U$32, ">"&U9) + COUNTIFS(P$3:P$32, P9, Q$3:Q$32, Q9, R$3:R$32, R9, S$3:S$32, S9, T$3:T$32, T9, U$3:U$32, U9, V$3:V$32, ">"&V9) + COUNTIFS(P$3:P$32, P9, Q$3:Q$32, Q9, R$3:R$32, R9, S$3:S$32, S9, T$3:T$32, T9, U$3:U$32, U9, V$3:V$32, V9, W$3:W$32, ">"&W9) + COUNTIFS(P$3:P$32, P9, Q$3:Q$32, Q9, R$3:R$32, R9, S$3:S$32, S9, T$3:T$32, T9, U$3:U$32, U9, V$3:V$32, V9, W$3:W$32, W9, X$3:X$32, ">"&X9) + COUNTIFS(P$3:P$32, P9, Q$3:Q$32, Q9, R$3:R$32, R9, S$3:S$32, S9, T$3:T$32, T9, U$3:U$32, U9, V$3:V$32, V9, W$3:W$32, W9, X$3:X$32, X9, Y$3:Y$32, ">"&Y9) ) | AA9: =IF(OR(AB9="", AB9="N/A"), "", 1 + COUNTIFS(AC$3:AC$32, ">"&AC9) + COUNTIFS(AC$3:AC$32, AC9, AD$3:AD$32, "<"&AD9) + COUNTIFS(AC$3:AC$32, AC9, AD$3:AD$32, AD9, AE$3:AE$32, "<"&AE9) + COUNTIFS(AC$3:AC$32, AC9, AD$3:AD$32, AD9, AE$3:AE$32, AE9, AF$3:AF$32, ">"&AF9) + COUNTIFS(AC$3:AC$32, AC9, AD$3:AD$32, AD9, AE$3:AE$32, AE9, AF$3:AF$32, AF9, AG$3:AG$32, ">"&AG9) + COUNTIFS(AC$3:AC$32, AC9, AD$3:AD$32, AD9, AE$3:AE$32, AE9, AF$3:AF$32, AF9, AG$3:AG$32, AG9, AH$3:AH$32, ">"&AH9) + COUNTIFS(AC$3:AC$32, AC9, AD$3:AD$32, AD9, AE$3:AE$32, AE9, AF$3:AF$32, AF9, AG$3:AG$32, AG9, AH$3:AH$32, AH9, AI$3:AI$32, ">"&AI9) + COUNTIFS(AC$3:AC$32, AC9, AD$3:AD$32, AD9, AE$3:AE$32, AE9, AF$3:AF$32, AF9, AG$3:AG$32, AG9, AH$3:AH$32, AH9, AI$3:AI$32, AI9, AJ$3:AJ$32, ">"&AJ9) + COUNTIFS(AC$3:AC$32, AC9, AD$3:AD$32, AD9, AE$3:AE$32, AE9, AF$3:AF$32, AF9, AG$3:AG$32, AG9, AH$3:AH$32, AH9, AI$3:AI$32, AI9, AJ$3:AJ$32, AJ9, AK$3:AK$32, ">"&AK9) + COUNTIFS(AC$3:AC$32, AC9, AD$3:AD$32, AD9, AE$3:AE$32, AE9, AF$3:AF$32, AF9, AG$3:AG$32, AG9, AH$3:AH$32, AH9, AI$3:AI$32, AI9, AJ$3:AJ$32, AJ9, AK$3:AK$32, AK9, AL$3:AL$32, ">"&AL9) ) | AN9: =IF(OR(AO9="", AO9="N/A"), "", 1 + COUNTIFS(AP$3:AP$32, ">"&AP9) + COUNTIFS(AP$3:AP$32, AP9, AQ$3:AQ$32, "<"&AQ9) + COUNTIFS(AP$3:AP$32, AP9, AQ$3:AQ$32, AQ9, AR$3:AR$32, "<"&AR9) + COUNTIFS(AP$3:AP$32, AP9, AQ$3:AQ$32, AQ9, AR$3:AR$32, AR9, AS$3:AS$32, ">"&AS9) + COUNTIFS(AP$3:AP$32, AP9, AQ$3:AQ$32, AQ9, AR$3:AR$32, AR9, AS$3:AS$32, AS9, AT$3:AT$32, ">"&AT9) + COUNTIFS(AP$3:AP$32, AP9, AQ$3:AQ$32, AQ9, AR$3:AR$32, AR9, AS$3:AS$32, AS9, AT$3:AT$32, AT9, AU$3:AU$32, ">"&AU9) + COUNTIFS(AP$3:AP$32, AP9, AQ$3:AQ$32, AQ9, AR$3:AR$32, AR9, AS$3:AS$32, AS9, AT$3:AT$32, AT9, AU$3:AU$32, AU9, AV$3:AV$32, ">"&AV9) + COUNTIFS(AP$3:AP$32, AP9, AQ$3:AQ$32, AQ9, AR$3:AR$32, AR9, AS$3:AS$32, AS9, AT$3:AT$32, AT9, AU$3:AU$32, AU9, AV$3:AV$32, AV9, AW$3:AW$32, ">"&AW9) + COUNTIFS(AP$3:AP$32, AP9, AQ$3:AQ$32, AQ9, AR$3:AR$32, AR9, AS$3:AS$32, AS9, AT$3:AT$32, AT9, AU$3:AU$32, AU9, AV$3:AV$32, AV9, AW$3:AW$32, AW9, AX$3:AX$32, ">"&AX9) + COUNTIFS(AP$3:AP$32, AP9, AQ$3:AQ$32, AQ9, AR$3:AR$32, AR9, AS$3:AS$32, AS9, AT$3:AT$32, AT9, AU$3:AU$32, AU9, AV$3:AV$32, AV9, AW$3:AW$32, AW9, AX$3:AX$32, AX9, AY$3:AY$32, ">"&AY9) ) -> 7 | AO9: Watertown | AP9: 265 | AQ9: 0 | AR9: 0 | AS9: 0 | AT9: 0 | AU9: 0 | AV9: 0 | AW9: 0 | AX9: 0 | AY9: 0
A10: =IF(OR(B10="", B10="N/A"), "", 1 + COUNTIFS(C$3:C$32, ">"&C10) + COUNTIFS(C$3:C$32, C10, D$3:D$32, "<"&D10) + COUNTIFS(C$3:C$32, C10, D$3:D$32, D10, E$3:E$32, "<"&E10) + COUNTIFS(C$3:C$32, C10, D$3:D$32, D10, E$3:E$32, E10, F$3:F$32, ">"&F10) + COUNTIFS(C$3:C$32, C10, D$3:D$32, D10, E$3:E$32, E10, F$3:F$32, F10, G$3:G$32, ">"&G10) + COUNTIFS(C$3:C$32, C10, D$3:D$32, D10, E$3:E$32, E10, F$3:F$32, F10, G$3:G$32, G10, H$3:H$32, ">"&H10) + COUNTIFS(C$3:C$32, C10, D$3:D$32, D10, E$3:E$32, E10, F$3:F$32, F10, G$3:G$32, G10, H$3:H$32, H10, I$3:I$32, ">"&I10) + COUNTIFS(C$3:C$32, C10, D$3:D$32, D10, E$3:E$32, E10, F$3:F$32, F10, G$3:G$32, G10, H$3:H$32, H10, I$3:I$32, I10, J$3:J$32, ">"&J10) + COUNTIFS(C$3:C$32, C10, D$3:D$32, D10, E$3:E$32, E10, F$3:F$32, F10, G$3:G$32, G10, H$3:H$32, H10, I$3:I$32, I10, J$3:J$32, J10, K$3:K$32, ">"&K10) + COUNTIFS(C$3:C$32, C10, D$3:D$32, D10, E$3:E$32, E10, F$3:F$32, F10, G$3:G$32, G10, H$3:H$32, H10, I$3:I$32, I10, J$3:J$32, J10, K$3:K$32, K10, L$3:L$32, ">"&L10) ) | N10: =IF(OR(O10="", O10="N/A"), "", 1 + COUNTIFS(P$3:P$32, ">"&P10) + COUNTIFS(P$3:P$32, P10, Q$3:Q$32, "<"&Q10) + COUNTIFS(P$3:P$32, P10, Q$3:Q$32, Q10, R$3:R$32, "<"&R10) + COUNTIFS(P$3:P$32, P10, Q$3:Q$32, Q10, R$3:R$32, R10, S$3:S$32, ">"&S10) + COUNTIFS(P$3:P$32, P10, Q$3:Q$32, Q10, R$3:R$32, R10, S$3:S$32, S10, T$3:T$32, ">"&T10) + COUNTIFS(P$3:P$32, P10, Q$3:Q$32, Q10, R$3:R$32, R10, S$3:S$32, S10, T$3:T$32, T10, U$3:U$32, ">"&U10) + COUNTIFS(P$3:P$32, P10, Q$3:Q$32, Q10, R$3:R$32, R10, S$3:S$32, S10, T$3:T$32, T10, U$3:U$32, U10, V$3:V$32, ">"&V10) + COUNTIFS(P$3:P$32, P10, Q$3:Q$32, Q10, R$3:R$32, R10, S$3:S$32, S10, T$3:T$32, T10, U$3:U$32, U10, V$3:V$32, V10, W$3:W$32, ">"&W10) + COUNTIFS(P$3:P$32, P10, Q$3:Q$32, Q10, R$3:R$32, R10, S$3:S$32, S10, T$3:T$32, T10, U$3:U$32, U10, V$3:V$32, V10, W$3:W$32, W10, X$3:X$32, ">"&X10) + COUNTIFS(P$3:P$32, P10, Q$3:Q$32, Q10, R$3:R$32, R10, S$3:S$32, S10, T$3:T$32, T10, U$3:U$32, U10, V$3:V$32, V10, W$3:W$32, W10, X$3:X$32, X10, Y$3:Y$32, ">"&Y10) ) | AA10: =IF(OR(AB10="", AB10="N/A"), "", 1 + COUNTIFS(AC$3:AC$32, ">"&AC10) + COUNTIFS(AC$3:AC$32, AC10, AD$3:AD$32, "<"&AD10) + COUNTIFS(AC$3:AC$32, AC10, AD$3:AD$32, AD10, AE$3:AE$32, "<"&AE10) + COUNTIFS(AC$3:AC$32, AC10, AD$3:AD$32, AD10, AE$3:AE$32, AE10, AF$3:AF$32, ">"&AF10) + COUNTIFS(AC$3:AC$32, AC10, AD$3:AD$32, AD10, AE$3:AE$32, AE10, AF$3:AF$32, AF10, AG$3:AG$32, ">"&AG10) + COUNTIFS(AC$3:AC$32, AC10, AD$3:AD$32, AD10, AE$3:AE$32, AE10, AF$3:AF$32, AF10, AG$3:AG$32, AG10, AH$3:AH$32, ">"&AH10) + COUNTIFS(AC$3:AC$32, AC10, AD$3:AD$32, AD10, AE$3:AE$32, AE10, AF$3:AF$32, AF10, AG$3:AG$32, AG10, AH$3:AH$32, AH10, AI$3:AI$32, ">"&AI10) + COUNTIFS(AC$3:AC$32, AC10, AD$3:AD$32, AD10, AE$3:AE$32, AE10, AF$3:AF$32, AF10, AG$3:AG$32, AG10, AH$3:AH$32, AH10, AI$3:AI$32, AI10, AJ$3:AJ$32, ">"&AJ10) + COUNTIFS(AC$3:AC$32, AC10, AD$3:AD$32, AD10, AE$3:AE$32, AE10, AF$3:AF$32, AF10, AG$3:AG$32, AG10, AH$3:AH$32, AH10, AI$3:AI$32, AI10, AJ$3:AJ$32, AJ10, AK$3:AK$32, ">"&AK10) + COUNTIFS(AC$3:AC$32, AC10, AD$3:AD$32, AD10, AE$3:AE$32, AE10, AF$3:AF$32, AF10, AG$3:AG$32, AG10, AH$3:AH$32, AH10, AI$3:AI$32, AI10, AJ$3:AJ$32, AJ10, AK$3:AK$32, AK10, AL$3:AL$32, ">"&AL10) ) | AN10: =IF(OR(AO10="", AO10="N/A"), "", 1 + COUNTIFS(AP$3:AP$32, ">"&AP10) + COUNTIFS(AP$3:AP$32, AP10, AQ$3:AQ$32, "<"&AQ10) + COUNTIFS(AP$3:AP$32, AP10, AQ$3:AQ$32, AQ10, AR$3:AR$32, "<"&AR10) + COUNTIFS(AP$3:AP$32, AP10, AQ$3:AQ$32, AQ10, AR$3:AR$32, AR10, AS$3:AS$32, ">"&AS10) + COUNTIFS(AP$3:AP$32, AP10, AQ$3:AQ$32, AQ10, AR$3:AR$32, AR10, AS$3:AS$32, AS10, AT$3:AT$32, ">"&AT10) + COUNTIFS(AP$3:AP$32, AP10, AQ$3:AQ$32, AQ10, AR$3:AR$32, AR10, AS$3:AS$32, AS10, AT$3:AT$32, AT10, AU$3:AU$32, ">"&AU10) + COUNTIFS(AP$3:AP$32, AP10, AQ$3:AQ$32, AQ10, AR$3:AR$32, AR10, AS$3:AS$32, AS10, AT$3:AT$32, AT10, AU$3:AU$32, AU10, AV$3:AV$32, ">"&AV10) + COUNTIFS(AP$3:AP$32, AP10, AQ$3:AQ$32, AQ10, AR$3:AR$32, AR10, AS$3:AS$32, AS10, AT$3:AT$32, AT10, AU$3:AU$32, AU10, AV$3:AV$32, AV10, AW$3:AW$32, ">"&AW10) + COUNTIFS(AP$3:AP$32, AP10, AQ$3:AQ$32, AQ10, AR$3:AR$32, AR10, AS$3:AS$32, AS10, AT$3:AT$32, AT10, AU$3:AU$32, AU10, AV$3:AV$32, AV10, AW$3:AW$32, AW10, AX$3:AX$32, ">"&AX10) + COUNTIFS(AP$3:AP$32, AP10, AQ$3:AQ$32, AQ10, AR$3:AR$32, AR10, AS$3:AS$32, AS10, AT$3:AT$32, AT10, AU$3:AU$32, AU10, AV$3:AV$32, AV10, AW$3:AW$32, AW10, AX$3:AX$32, AX10, AY$3:AY$32, ">"&AY10) ) -> 8 | AO10: Rapid City Central | AP10: 262 | AQ10: 0 | AR10: 0 | AS10: 0 | AT10: 0 | AU10: 0 | AV10: 0 | AW10: 0 | AX10: 0 | AY10: 0
A11: =IF(OR(B11="", B11="N/A"), "", 1 + COUNTIFS(C$3:C$32, ">"&C11) + COUNTIFS(C$3:C$32, C11, D$3:D$32, "<"&D11) + COUNTIFS(C$3:C$32, C11, D$3:D$32, D11, E$3:E$32, "<"&E11) + COUNTIFS(C$3:C$32, C11, D$3:D$32, D11, E$3:E$32, E11, F$3:F$32, ">"&F11) + COUNTIFS(C$3:C$32, C11, D$3:D$32, D11, E$3:E$32, E11, F$3:F$32, F11, G$3:G$32, ">"&G11) + COUNTIFS(C$3:C$32, C11, D$3:D$32, D11, E$3:E$32, E11, F$3:F$32, F11, G$3:G$32, G11, H$3:H$32, ">"&H11) + COUNTIFS(C$3:C$32, C11, D$3:D$32, D11, E$3:E$32, E11, F$3:F$32, F11, G$3:G$32, G11, H$3:H$32, H11, I$3:I$32, ">"&I11) + COUNTIFS(C$3:C$32, C11, D$3:D$32, D11, E$3:E$32, E11, F$3:F$32, F11, G$3:G$32, G11, H$3:H$32, H11, I$3:I$32, I11, J$3:J$32, ">"&J11) + COUNTIFS(C$3:C$32, C11, D$3:D$32, D11, E$3:E$32, E11, F$3:F$32, F11, G$3:G$32, G11, H$3:H$32, H11, I$3:I$32, I11, J$3:J$32, J11, K$3:K$32, ">"&K11) + COUNTIFS(C$3:C$32, C11, D$3:D$32, D11, E$3:E$32, E11, F$3:F$32, F11, G$3:G$32, G11, H$3:H$32, H11, I$3:I$32, I11, J$3:J$32, J11, K$3:K$32, K11, L$3:L$32, ">"&L11) ) | N11: =IF(OR(O11="", O11="N/A"), "", 1 + COUNTIFS(P$3:P$32, ">"&P11) + COUNTIFS(P$3:P$32, P11, Q$3:Q$32, "<"&Q11) + COUNTIFS(P$3:P$32, P11, Q$3:Q$32, Q11, R$3:R$32, "<"&R11) + COUNTIFS(P$3:P$32, P11, Q$3:Q$32, Q11, R$3:R$32, R11, S$3:S$32, ">"&S11) + COUNTIFS(P$3:P$32, P11, Q$3:Q$32, Q11, R$3:R$32, R11, S$3:S$32, S11, T$3:T$32, ">"&T11) + COUNTIFS(P$3:P$32, P11, Q$3:Q$32, Q11, R$3:R$32, R11, S$3:S$32, S11, T$3:T$32, T11, U$3:U$32, ">"&U11) + COUNTIFS(P$3:P$32, P11, Q$3:Q$32, Q11, R$3:R$32, R11, S$3:S$32, S11, T$3:T$32, T11, U$3:U$32, U11, V$3:V$32, ">"&V11) + COUNTIFS(P$3:P$32, P11, Q$3:Q$32, Q11, R$3:R$32, R11, S$3:S$32, S11, T$3:T$32, T11, U$3:U$32, U11, V$3:V$32, V11, W$3:W$32, ">"&W11) + COUNTIFS(P$3:P$32, P11, Q$3:Q$32, Q11, R$3:R$32, R11, S$3:S$32, S11, T$3:T$32, T11, U$3:U$32, U11, V$3:V$32, V11, W$3:W$32, W11, X$3:X$32, ">"&X11) + COUNTIFS(P$3:P$32, P11, Q$3:Q$32, Q11, R$3:R$32, R11, S$3:S$32, S11, T$3:T$32, T11, U$3:U$32, U11, V$3:V$32, V11, W$3:W$32, W11, X$3:X$32, X11, Y$3:Y$32, ">"&Y11) ) | AA11: =IF(OR(AB11="", AB11="N/A"), "", 1 + COUNTIFS(AC$3:AC$32, ">"&AC11) + COUNTIFS(AC$3:AC$32, AC11, AD$3:AD$32, "<"&AD11) + COUNTIFS(AC$3:AC$32, AC11, AD$3:AD$32, AD11, AE$3:AE$32, "<"&AE11) + COUNTIFS(AC$3:AC$32, AC11, AD$3:AD$32, AD11, AE$3:AE$32, AE11, AF$3:AF$32, ">"&AF11) + COUNTIFS(AC$3:AC$32, AC11, AD$3:AD$32, AD11, AE$3:AE$32, AE11, AF$3:AF$32, AF11, AG$3:AG$32, ">"&AG11) + COUNTIFS(AC$3:AC$32, AC11, AD$3:AD$32, AD11, AE$3:AE$32, AE11, AF$3:AF$32, AF11, AG$3:AG$32, AG11, AH$3:AH$32, ">"&AH11) + COUNTIFS(AC$3:AC$32, AC11, AD$3:AD$32, AD11, AE$3:AE$32, AE11, AF$3:AF$32, AF11, AG$3:AG$32, AG11, AH$3:AH$32, AH11, AI$3:AI$32, ">"&AI11) + COUNTIFS(AC$3:AC$32, AC11, AD$3:AD$32, AD11, AE$3:AE$32, AE11, AF$3:AF$32, AF11, AG$3:AG$32, AG11, AH$3:AH$32, AH11, AI$3:AI$32, AI11, AJ$3:AJ$32, ">"&AJ11) + COUNTIFS(AC$3:AC$32, AC11, AD$3:AD$32, AD11, AE$3:AE$32, AE11, AF$3:AF$32, AF11, AG$3:AG$32, AG11, AH$3:AH$32, AH11, AI$3:AI$32, AI11, AJ$3:AJ$32, AJ11, AK$3:AK$32, ">"&AK11) + COUNTIFS(AC$3:AC$32, AC11, AD$3:AD$32, AD11, AE$3:AE$32, AE11, AF$3:AF$32, AF11, AG$3:AG$32, AG11, AH$3:AH$32, AH11, AI$3:AI$32, AI11, AJ$3:AJ$32, AJ11, AK$3:AK$32, AK11, AL$3:AL$32, ">"&AL11) ) | AN11: =IF(OR(AO11="", AO11="N/A"), "", 1 + COUNTIFS(AP$3:AP$32, ">"&AP11) + COUNTIFS(AP$3:AP$32, AP11, AQ$3:AQ$32, "<"&AQ11) + COUNTIFS(AP$3:AP$32, AP11, AQ$3:AQ$32, AQ11, AR$3:AR$32, "<"&AR11) + COUNTIFS(AP$3:AP$32, AP11, AQ$3:AQ$32, AQ11, AR$3:AR$32, AR11, AS$3:AS$32, ">"&AS11) + COUNTIFS(AP$3:AP$32, AP11, AQ$3:AQ$32, AQ11, AR$3:AR$32, AR11, AS$3:AS$32, AS11, AT$3:AT$32, ">"&AT11) + COUNTIFS(AP$3:AP$32, AP11, AQ$3:AQ$32, AQ11, AR$3:AR$32, AR11, AS$3:AS$32, AS11, AT$3:AT$32, AT11, AU$3:AU$32, ">"&AU11) + COUNTIFS(AP$3:AP$32, AP11, AQ$3:AQ$32, AQ11, AR$3:AR$32, AR11, AS$3:AS$32, AS11, AT$3:AT$32, AT11, AU$3:AU$32, AU11, AV$3:AV$32, ">"&AV11) + COUNTIFS(AP$3:AP$32, AP11, AQ$3:AQ$32, AQ11, AR$3:AR$32, AR11, AS$3:AS$32, AS11, AT$3:AT$32, AT11, AU$3:AU$32, AU11, AV$3:AV$32, AV11, AW$3:AW$32, ">"&AW11) + COUNTIFS(AP$3:AP$32, AP11, AQ$3:AQ$32, AQ11, AR$3:AR$32, AR11, AS$3:AS$32, AS11, AT$3:AT$32, AT11, AU$3:AU$32, AU11, AV$3:AV$32, AV11, AW$3:AW$32, AW11, AX$3:AX$32, ">"&AX11) + COUNTIFS(AP$3:AP$32, AP11, AQ$3:AQ$32, AQ11, AR$3:AR$32, AR11, AS$3:AS$32, AS11, AT$3:AT$32, AT11, AU$3:AU$32, AU11, AV$3:AV$32, AV11, AW$3:AW$32, AW11, AX$3:AX$32, AX11, AY$3:AY$32, ">"&AY11) ) -> 9 | AO11: Sturgis | AP11: 247 | AQ11: 0 | AR11: 0 | AS11: 0 | AT11: 0 | AU11: 0 | AV11: 0 | AW11: 0 | AX11: 0 | AY11: 0
A12: =IF(OR(B12="", B12="N/A"), "", 1 + COUNTIFS(C$3:C$32, ">"&C12) + COUNTIFS(C$3:C$32, C12, D$3:D$32, "<"&D12) + COUNTIFS(C$3:C$32, C12, D$3:D$32, D12, E$3:E$32, "<"&E12) + COUNTIFS(C$3:C$32, C12, D$3:D$32, D12, E$3:E$32, E12, F$3:F$32, ">"&F12) + COUNTIFS(C$3:C$32, C12, D$3:D$32, D12, E$3:E$32, E12, F$3:F$32, F12, G$3:G$32, ">"&G12) + COUNTIFS(C$3:C$32, C12, D$3:D$32, D12, E$3:E$32, E12, F$3:F$32, F12, G$3:G$32, G12, H$3:H$32, ">"&H12) + COUNTIFS(C$3:C$32, C12, D$3:D$32, D12, E$3:E$32, E12, F$3:F$32, F12, G$3:G$32, G12, H$3:H$32, H12, I$3:I$32, ">"&I12) + COUNTIFS(C$3:C$32, C12, D$3:D$32, D12, E$3:E$32, E12, F$3:F$32, F12, G$3:G$32, G12, H$3:H$32, H12, I$3:I$32, I12, J$3:J$32, ">"&J12) + COUNTIFS(C$3:C$32, C12, D$3:D$32, D12, E$3:E$32, E12, F$3:F$32, F12, G$3:G$32, G12, H$3:H$32, H12, I$3:I$32, I12, J$3:J$32, J12, K$3:K$32, ">"&K12) + COUNTIFS(C$3:C$32, C12, D$3:D$32, D12, E$3:E$32, E12, F$3:F$32, F12, G$3:G$32, G12, H$3:H$32, H12, I$3:I$32, I12, J$3:J$32, J12, K$3:K$32, K12, L$3:L$32, ">"&L12) ) | N12: =IF(OR(O12="", O12="N/A"), "", 1 + COUNTIFS(P$3:P$32, ">"&P12) + COUNTIFS(P$3:P$32, P12, Q$3:Q$32, "<"&Q12) + COUNTIFS(P$3:P$32, P12, Q$3:Q$32, Q12, R$3:R$32, "<"&R12) + COUNTIFS(P$3:P$32, P12, Q$3:Q$32, Q12, R$3:R$32, R12, S$3:S$32, ">"&S12) + COUNTIFS(P$3:P$32, P12, Q$3:Q$32, Q12, R$3:R$32, R12, S$3:S$32, S12, T$3:T$32, ">"&T12) + COUNTIFS(P$3:P$32, P12, Q$3:Q$32, Q12, R$3:R$32, R12, S$3:S$32, S12, T$3:T$32, T12, U$3:U$32, ">"&U12) + COUNTIFS(P$3:P$32, P12, Q$3:Q$32, Q12, R$3:R$32, R12, S$3:S$32, S12, T$3:T$32, T12, U$3:U$32, U12, V$3:V$32, ">"&V12) + COUNTIFS(P$3:P$32, P12, Q$3:Q$32, Q12, R$3:R$32, R12, S$3:S$32, S12, T$3:T$32, T12, U$3:U$32, U12, V$3:V$32, V12, W$3:W$32, ">"&W12) + COUNTIFS(P$3:P$32, P12, Q$3:Q$32, Q12, R$3:R$32, R12, S$3:S$32, S12, T$3:T$32, T12, U$3:U$32, U12, V$3:V$32, V12, W$3:W$32, W12, X$3:X$32, ">"&X12) + COUNTIFS(P$3:P$32, P12, Q$3:Q$32, Q12, R$3:R$32, R12, S$3:S$32, S12, T$3:T$32, T12, U$3:U$32, U12, V$3:V$32, V12, W$3:W$32, W12, X$3:X$32, X12, Y$3:Y$32, ">"&Y12) ) | AA12: =IF(OR(AB12="", AB12="N/A"), "", 1 + COUNTIFS(AC$3:AC$32, ">"&AC12) + COUNTIFS(AC$3:AC$32, AC12, AD$3:AD$32, "<"&AD12) + COUNTIFS(AC$3:AC$32, AC12, AD$3:AD$32, AD12, AE$3:AE$32, "<"&AE12) + COUNTIFS(AC$3:AC$32, AC12, AD$3:AD$32, AD12, AE$3:AE$32, AE12, AF$3:AF$32, ">"&AF12) + COUNTIFS(AC$3:AC$32, AC12, AD$3:AD$32, AD12, AE$3:AE$32, AE12, AF$3:AF$32, AF12, AG$3:AG$32, ">"&AG12) + COUNTIFS(AC$3:AC$32, AC12, AD$3:AD$32, AD12, AE$3:AE$32, AE12, AF$3:AF$32, AF12, AG$3:AG$32, AG12, AH$3:AH$32, ">"&AH12) + COUNTIFS(AC$3:AC$32, AC12, AD$3:AD$32, AD12, AE$3:AE$32, AE12, AF$3:AF$32, AF12, AG$3:AG$32, AG12, AH$3:AH$32, AH12, AI$3:AI$32, ">"&AI12) + COUNTIFS(AC$3:AC$32, AC12, AD$3:AD$32, AD12, AE$3:AE$32, AE12, AF$3:AF$32, AF12, AG$3:AG$32, AG12, AH$3:AH$32, AH12, AI$3:AI$32, AI12, AJ$3:AJ$32, ">"&AJ12) + COUNTIFS(AC$3:AC$32, AC12, AD$3:AD$32, AD12, AE$3:AE$32, AE12, AF$3:AF$32, AF12, AG$3:AG$32, AG12, AH$3:AH$32, AH12, AI$3:AI$32, AI12, AJ$3:AJ$32, AJ12, AK$3:AK$32, ">"&AK12) + COUNTIFS(AC$3:AC$32, AC12, AD$3:AD$32, AD12, AE$3:AE$32, AE12, AF$3:AF$32, AF12, AG$3:AG$32, AG12, AH$3:AH$32, AH12, AI$3:AI$32, AI12, AJ$3:AJ$32, AJ12, AK$3:AK$32, AK12, AL$3:AL$32, ">"&AL12) ) | AN12: =IF(OR(AO12="", AO12="N/A"), "", 1 + COUNTIFS(AP$3:AP$32, ">"&AP12) + COUNTIFS(AP$3:AP$32, AP12, AQ$3:AQ$32, "<"&AQ12) + COUNTIFS(AP$3:AP$32, AP12, AQ$3:AQ$32, AQ12, AR$3:AR$32, "<"&AR12) + COUNTIFS(AP$3:AP$32, AP12, AQ$3:AQ$32, AQ12, AR$3:AR$32, AR12, AS$3:AS$32, ">"&AS12) + COUNTIFS(AP$3:AP$32, AP12, AQ$3:AQ$32, AQ12, AR$3:AR$32, AR12, AS$3:AS$32, AS12, AT$3:AT$32, ">"&AT12) + COUNTIFS(AP$3:AP$32, AP12, AQ$3:AQ$32, AQ12, AR$3:AR$32, AR12, AS$3:AS$32, AS12, AT$3:AT$32, AT12, AU$3:AU$32, ">"&AU12) + COUNTIFS(AP$3:AP$32, AP12, AQ$3:AQ$32, AQ12, AR$3:AR$32, AR12, AS$3:AS$32, AS12, AT$3:AT$32, AT12, AU$3:AU$32, AU12, AV$3:AV$32, ">"&AV12) + COUNTIFS(AP$3:AP$32, AP12, AQ$3:AQ$32, AQ12, AR$3:AR$32, AR12, AS$3:AS$32, AS12, AT$3:AT$32, AT12, AU$3:AU$32, AU12, AV$3:AV$32, AV12, AW$3:AW$32, ">"&AW12) + COUNTIFS(AP$3:AP$32, AP12, AQ$3:AQ$32, AQ12, AR$3:AR$32, AR12, AS$3:AS$32, AS12, AT$3:AT$32, AT12, AU$3:AU$32, AU12, AV$3:AV$32, AV12, AW$3:AW$32, AW12, AX$3:AX$32, ">"&AX12) + COUNTIFS(AP$3:AP$32, AP12, AQ$3:AQ$32, AQ12, AR$3:AR$32, AR12, AS$3:AS$32, AS12, AT$3:AT$32, AT12, AU$3:AU$32, AU12, AV$3:AV$32, AV12, AW$3:AW$32, AW12, AX$3:AX$32, AX12, AY$3:AY$32, ">"&AY12) ) -> 10 | AO12: Elkton-Lake Benton | AP12: 242 | AQ12: 0 | AR12: 0 | AS12: 0 | AT12: 0 | AU12: 0 | AV12: 0 | AW12: 0 | AX12: 0 | AY12: 0
A13: =IF(OR(B13="", B13="N/A"), "", 1 + COUNTIFS(C$3:C$32, ">"&C13) + COUNTIFS(C$3:C$32, C13, D$3:D$32, "<"&D13) + COUNTIFS(C$3:C$32, C13, D$3:D$32, D13, E$3:E$32, "<"&E13) + COUNTIFS(C$3:C$32, C13, D$3:D$32, D13, E$3:E$32, E13, F$3:F$32, ">"&F13) + COUNTIFS(C$3:C$32, C13, D$3:D$32, D13, E$3:E$32, E13, F$3:F$32, F13, G$3:G$32, ">"&G13) + COUNTIFS(C$3:C$32, C13, D$3:D$32, D13, E$3:E$32, E13, F$3:F$32, F13, G$3:G$32, G13, H$3:H$32, ">"&H13) + COUNTIFS(C$3:C$32, C13, D$3:D$32, D13, E$3:E$32, E13, F$3:F$32, F13, G$3:G$32, G13, H$3:H$32, H13, I$3:I$32, ">"&I13) + COUNTIFS(C$3:C$32, C13, D$3:D$32, D13, E$3:E$32, E13, F$3:F$32, F13, G$3:G$32, G13, H$3:H$32, H13, I$3:I$32, I13, J$3:J$32, ">"&J13) + COUNTIFS(C$3:C$32, C13, D$3:D$32, D13, E$3:E$32, E13, F$3:F$32, F13, G$3:G$32, G13, H$3:H$32, H13, I$3:I$32, I13, J$3:J$32, J13, K$3:K$32, ">"&K13) + COUNTIFS(C$3:C$32, C13, D$3:D$32, D13, E$3:E$32, E13, F$3:F$32, F13, G$3:G$32, G13, H$3:H$32, H13, I$3:I$32, I13, J$3:J$32, J13, K$3:K$32, K13, L$3:L$32, ">"&L13) ) | N13: =IF(OR(O13="", O13="N/A"), "", 1 + COUNTIFS(P$3:P$32, ">"&P13) + COUNTIFS(P$3:P$32, P13, Q$3:Q$32, "<"&Q13) + COUNTIFS(P$3:P$32, P13, Q$3:Q$32, Q13, R$3:R$32, "<"&R13) + COUNTIFS(P$3:P$32, P13, Q$3:Q$32, Q13, R$3:R$32, R13, S$3:S$32, ">"&S13) + COUNTIFS(P$3:P$32, P13, Q$3:Q$32, Q13, R$3:R$32, R13, S$3:S$32, S13, T$3:T$32, ">"&T13) + COUNTIFS(P$3:P$32, P13, Q$3:Q$32, Q13, R$3:R$32, R13, S$3:S$32, S13, T$3:T$32, T13, U$3:U$32, ">"&U13) + COUNTIFS(P$3:P$32, P13, Q$3:Q$32, Q13, R$3:R$32, R13, S$3:S$32, S13, T$3:T$32, T13, U$3:U$32, U13, V$3:V$32, ">"&V13) + COUNTIFS(P$3:P$32, P13, Q$3:Q$32, Q13, R$3:R$32, R13, S$3:S$32, S13, T$3:T$32, T13, U$3:U$32, U13, V$3:V$32, V13, W$3:W$32, ">"&W13) + COUNTIFS(P$3:P$32, P13, Q$3:Q$32, Q13, R$3:R$32, R13, S$3:S$32, S13, T$3:T$32, T13, U$3:U$32, U13, V$3:V$32, V13, W$3:W$32, W13, X$3:X$32, ">"&X13) + COUNTIFS(P$3:P$32, P13, Q$3:Q$32, Q13, R$3:R$32, R13, S$3:S$32, S13, T$3:T$32, T13, U$3:U$32, U13, V$3:V$32, V13, W$3:W$32, W13, X$3:X$32, X13, Y$3:Y$32, ">"&Y13) ) | AA13: =IF(OR(AB13="", AB13="N/A"), "", 1 + COUNTIFS(AC$3:AC$32, ">"&AC13) + COUNTIFS(AC$3:AC$32, AC13, AD$3:AD$32, "<"&AD13) + COUNTIFS(AC$3:AC$32, AC13, AD$3:AD$32, AD13, AE$3:AE$32, "<"&AE13) + COUNTIFS(AC$3:AC$32, AC13, AD$3:AD$32, AD13, AE$3:AE$32, AE13, AF$3:AF$32, ">"&AF13) + COUNTIFS(AC$3:AC$32, AC13, AD$3:AD$32, AD13, AE$3:AE$32, AE13, AF$3:AF$32, AF13, AG$3:AG$32, ">"&AG13) + COUNTIFS(AC$3:AC$32, AC13, AD$3:AD$32, AD13, AE$3:AE$32, AE13, AF$3:AF$32, AF13, AG$3:AG$32, AG13, AH$3:AH$32, ">"&AH13) + COUNTIFS(AC$3:AC$32, AC13, AD$3:AD$32, AD13, AE$3:AE$32, AE13, AF$3:AF$32, AF13, AG$3:AG$32, AG13, AH$3:AH$32, AH13, AI$3:AI$32, ">"&AI13) + COUNTIFS(AC$3:AC$32, AC13, AD$3:AD$32, AD13, AE$3:AE$32, AE13, AF$3:AF$32, AF13, AG$3:AG$32, AG13, AH$3:AH$32, AH13, AI$3:AI$32, AI13, AJ$3:AJ$32, ">"&AJ13) + COUNTIFS(AC$3:AC$32, AC13, AD$3:AD$32, AD13, AE$3:AE$32, AE13, AF$3:AF$32, AF13, AG$3:AG$32, AG13, AH$3:AH$32, AH13, AI$3:AI$32, AI13, AJ$3:AJ$32, AJ13, AK$3:AK$32, ">"&AK13) + COUNTIFS(AC$3:AC$32, AC13, AD$3:AD$32, AD13, AE$3:AE$32, AE13, AF$3:AF$32, AF13, AG$3:AG$32, AG13, AH$3:AH$32, AH13, AI$3:AI$32, AI13, AJ$3:AJ$32, AJ13, AK$3:AK$32, AK13, AL$3:AL$32, ">"&AL13) ) | AN13: =IF(OR(AO13="", AO13="N/A"), "", 1 + COUNTIFS(AP$3:AP$32, ">"&AP13) + COUNTIFS(AP$3:AP$32, AP13, AQ$3:AQ$32, "<"&AQ13) + COUNTIFS(AP$3:AP$32, AP13, AQ$3:AQ$32, AQ13, AR$3:AR$32, "<"&AR13) + COUNTIFS(AP$3:AP$32, AP13, AQ$3:AQ$32, AQ13, AR$3:AR$32, AR13, AS$3:AS$32, ">"&AS13) + COUNTIFS(AP$3:AP$32, AP13, AQ$3:AQ$32, AQ13, AR$3:AR$32, AR13, AS$3:AS$32, AS13, AT$3:AT$32, ">"&AT13) + COUNTIFS(AP$3:AP$32, AP13, AQ$3:AQ$32, AQ13, AR$3:AR$32, AR13, AS$3:AS$32, AS13, AT$3:AT$32, AT13, AU$3:AU$32, ">"&AU13) + COUNTIFS(AP$3:AP$32, AP13, AQ$3:AQ$32, AQ13, AR$3:AR$32, AR13, AS$3:AS$32, AS13, AT$3:AT$32, AT13, AU$3:AU$32, AU13, AV$3:AV$32, ">"&AV13) + COUNTIFS(AP$3:AP$32, AP13, AQ$3:AQ$32, AQ13, AR$3:AR$32, AR13, AS$3:AS$32, AS13, AT$3:AT$32, AT13, AU$3:AU$32, AU13, AV$3:AV$32, AV13, AW$3:AW$32, ">"&AW13) + COUNTIFS(AP$3:AP$32, AP13, AQ$3:AQ$32, AQ13, AR$3:AR$32, AR13, AS$3:AS$32, AS13, AT$3:AT$32, AT13, AU$3:AU$32, AU13, AV$3:AV$32, AV13, AW$3:AW$32, AW13, AX$3:AX$32, ">"&AX13) + COUNTIFS(AP$3:AP$32, AP13, AQ$3:AQ$32, AQ13, AR$3:AR$32, AR13, AS$3:AS$32, AS13, AT$3:AT$32, AT13, AU$3:AU$32, AU13, AV$3:AV$32, AV13, AW$3:AW$32, AW13, AX$3:AX$32, AX13, AY$3:AY$32, ">"&AY13) ) -> 11 | AO13: Yankton | AP13: 226.5 | AQ13: 0 | AR13: 0 | AS13: 0 | AT13: 0 | AU13: 0 | AV13: 0 | AW13: 0 | AX13: 0 | AY13: 0
A14: =IF(OR(B14="", B14="N/A"), "", 1 + COUNTIFS(C$3:C$32, ">"&C14) + COUNTIFS(C$3:C$32, C14, D$3:D$32, "<"&D14) + COUNTIFS(C$3:C$32, C14, D$3:D$32, D14, E$3:E$32, "<"&E14) + COUNTIFS(C$3:C$32, C14, D$3:D$32, D14, E$3:E$32, E14, F$3:F$32, ">"&F14) + COUNTIFS(C$3:C$32, C14, D$3:D$32, D14, E$3:E$32, E14, F$3:F$32, F14, G$3:G$32, ">"&G14) + COUNTIFS(C$3:C$32, C14, D$3:D$32, D14, E$3:E$32, E14, F$3:F$32, F14, G$3:G$32, G14, H$3:H$32, ">"&H14) + COUNTIFS(C$3:C$32, C14, D$3:D$32, D14, E$3:E$32, E14, F$3:F$32, F14, G$3:G$32, G14, H$3:H$32, H14, I$3:I$32, ">"&I14) + COUNTIFS(C$3:C$32, C14, D$3:D$32, D14, E$3:E$32, E14, F$3:F$32, F14, G$3:G$32, G14, H$3:H$32, H14, I$3:I$32, I14, J$3:J$32, ">"&J14) + COUNTIFS(C$3:C$32, C14, D$3:D$32, D14, E$3:E$32, E14, F$3:F$32, F14, G$3:G$32, G14, H$3:H$32, H14, I$3:I$32, I14, J$3:J$32, J14, K$3:K$32, ">"&K14) + COUNTIFS(C$3:C$32, C14, D$3:D$32, D14, E$3:E$32, E14, F$3:F$32, F14, G$3:G$32, G14, H$3:H$32, H14, I$3:I$32, I14, J$3:J$32, J14, K$3:K$32, K14, L$3:L$32, ">"&L14) ) | N14: =IF(OR(O14="", O14="N/A"), "", 1 + COUNTIFS(P$3:P$32, ">"&P14) + COUNTIFS(P$3:P$32, P14, Q$3:Q$32, "<"&Q14) + COUNTIFS(P$3:P$32, P14, Q$3:Q$32, Q14, R$3:R$32, "<"&R14) + COUNTIFS(P$3:P$32, P14, Q$3:Q$32, Q14, R$3:R$32, R14, S$3:S$32, ">"&S14) + COUNTIFS(P$3:P$32, P14, Q$3:Q$32, Q14, R$3:R$32, R14, S$3:S$32, S14, T$3:T$32, ">"&T14) + COUNTIFS(P$3:P$32, P14, Q$3:Q$32, Q14, R$3:R$32, R14, S$3:S$32, S14, T$3:T$32, T14, U$3:U$32, ">"&U14) + COUNTIFS(P$3:P$32, P14, Q$3:Q$32, Q14, R$3:R$32, R14, S$3:S$32, S14, T$3:T$32, T14, U$3:U$32, U14, V$3:V$32, ">"&V14) + COUNTIFS(P$3:P$32, P14, Q$3:Q$32, Q14, R$3:R$32, R14, S$3:S$32, S14, T$3:T$32, T14, U$3:U$32, U14, V$3:V$32, V14, W$3:W$32, ">"&W14) + COUNTIFS(P$3:P$32, P14, Q$3:Q$32, Q14, R$3:R$32, R14, S$3:S$32, S14, T$3:T$32, T14, U$3:U$32, U14, V$3:V$32, V14, W$3:W$32, W14, X$3:X$32, ">"&X14) + COUNTIFS(P$3:P$32, P14, Q$3:Q$32, Q14, R$3:R$32, R14, S$3:S$32, S14, T$3:T$32, T14, U$3:U$32, U14, V$3:V$32, V14, W$3:W$32, W14, X$3:X$32, X14, Y$3:Y$32, ">"&Y14) ) | AA14: =IF(OR(AB14="", AB14="N/A"), "", 1 + COUNTIFS(AC$3:AC$32, ">"&AC14) + COUNTIFS(AC$3:AC$32, AC14, AD$3:AD$32, "<"&AD14) + COUNTIFS(AC$3:AC$32, AC14, AD$3:AD$32, AD14, AE$3:AE$32, "<"&AE14) + COUNTIFS(AC$3:AC$32, AC14, AD$3:AD$32, AD14, AE$3:AE$32, AE14, AF$3:AF$32, ">"&AF14) + COUNTIFS(AC$3:AC$32, AC14, AD$3:AD$32, AD14, AE$3:AE$32, AE14, AF$3:AF$32, AF14, AG$3:AG$32, ">"&AG14) + COUNTIFS(AC$3:AC$32, AC14, AD$3:AD$32, AD14, AE$3:AE$32, AE14, AF$3:AF$32, AF14, AG$3:AG$32, AG14, AH$3:AH$32, ">"&AH14) + COUNTIFS(AC$3:AC$32, AC14, AD$3:AD$32, AD14, AE$3:AE$32, AE14, AF$3:AF$32, AF14, AG$3:AG$32, AG14, AH$3:AH$32, AH14, AI$3:AI$32, ">"&AI14) + COUNTIFS(AC$3:AC$32, AC14, AD$3:AD$32, AD14, AE$3:AE$32, AE14, AF$3:AF$32, AF14, AG$3:AG$32, AG14, AH$3:AH$32, AH14, AI$3:AI$32, AI14, AJ$3:AJ$32, ">"&AJ14) + COUNTIFS(AC$3:AC$32, AC14, AD$3:AD$32, AD14, AE$3:AE$32, AE14, AF$3:AF$32, AF14, AG$3:AG$32, AG14, AH$3:AH$32, AH14, AI$3:AI$32, AI14, AJ$3:AJ$32, AJ14, AK$3:AK$32, ">"&AK14) + COUNTIFS(AC$3:AC$32, AC14, AD$3:AD$32, AD14, AE$3:AE$32, AE14, AF$3:AF$32, AF14, AG$3:AG$32, AG14, AH$3:AH$32, AH14, AI$3:AI$32, AI14, AJ$3:AJ$32, AJ14, AK$3:AK$32, AK14, AL$3:AL$32, ">"&AL14) ) | AN14: =IF(OR(AO14="", AO14="N/A"), "", 1 + COUNTIFS(AP$3:AP$32, ">"&AP14) + COUNTIFS(AP$3:AP$32, AP14, AQ$3:AQ$32, "<"&AQ14) + COUNTIFS(AP$3:AP$32, AP14, AQ$3:AQ$32, AQ14, AR$3:AR$32, "<"&AR14) + COUNTIFS(AP$3:AP$32, AP14, AQ$3:AQ$32, AQ14, AR$3:AR$32, AR14, AS$3:AS$32, ">"&AS14) + COUNTIFS(AP$3:AP$32, AP14, AQ$3:AQ$32, AQ14, AR$3:AR$32, AR14, AS$3:AS$32, AS14, AT$3:AT$32, ">"&AT14) + COUNTIFS(AP$3:AP$32, AP14, AQ$3:AQ$32, AQ14, AR$3:AR$32, AR14, AS$3:AS$32, AS14, AT$3:AT$32, AT14, AU$3:AU$32, ">"&AU14) + COUNTIFS(AP$3:AP$32, AP14, AQ$3:AQ$32, AQ14, AR$3:AR$32, AR14, AS$3:AS$32, AS14, AT$3:AT$32, AT14, AU$3:AU$32, AU14, AV$3:AV$32, ">"&AV14) + COUNTIFS(AP$3:AP$32, AP14, AQ$3:AQ$32, AQ14, AR$3:AR$32, AR14, AS$3:AS$32, AS14, AT$3:AT$32, AT14, AU$3:AU$32, AU14, AV$3:AV$32, AV14, AW$3:AW$32, ">"&AW14) + COUNTIFS(AP$3:AP$32, AP14, AQ$3:AQ$32, AQ14, AR$3:AR$32, AR14, AS$3:AS$32, AS14, AT$3:AT$32, AT14, AU$3:AU$32, AU14, AV$3:AV$32, AV14, AW$3:AW$32, AW14, AX$3:AX$32, ">"&AX14) + COUNTIFS(AP$3:AP$32, AP14, AQ$3:AQ$32, AQ14, AR$3:AR$32, AR14, AS$3:AS$32, AS14, AT$3:AT$32, AT14, AU$3:AU$32, AU14, AV$3:AV$32, AV14, AW$3:AW$32, AW14, AX$3:AX$32, AX14, AY$3:AY$32, ">"&AY14) ) -> 12 | AO14: Sioux Falls Roosevelt | AP14: 217 | AQ14: 0 | AR14: 0 | AS14: 0 | AT14: 0 | AU14: 0 | AV14: 0 | AW14: 0 | AX14: 0 | AY14: 0
A15: =IF(OR(B15="", B15="N/A"), "", 1 + COUNTIFS(C$3:C$32, ">"&C15) + COUNTIFS(C$3:C$32, C15, D$3:D$32, "<"&D15) + COUNTIFS(C$3:C$32, C15, D$3:D$32, D15, E$3:E$32, "<"&E15) + COUNTIFS(C$3:C$32, C15, D$3:D$32, D15, E$3:E$32, E15, F$3:F$32, ">"&F15) + COUNTIFS(C$3:C$32, C15, D$3:D$32, D15, E$3:E$32, E15, F$3:F$32, F15, G$3:G$32, ">"&G15) + COUNTIFS(C$3:C$32, C15, D$3:D$32, D15, E$3:E$32, E15, F$3:F$32, F15, G$3:G$32, G15, H$3:H$32, ">"&H15) + COUNTIFS(C$3:C$32, C15, D$3:D$32, D15, E$3:E$32, E15, F$3:F$32, F15, G$3:G$32, G15, H$3:H$32, H15, I$3:I$32, ">"&I15) + COUNTIFS(C$3:C$32, C15, D$3:D$32, D15, E$3:E$32, E15, F$3:F$32, F15, G$3:G$32, G15, H$3:H$32, H15, I$3:I$32, I15, J$3:J$32, ">"&J15) + COUNTIFS(C$3:C$32, C15, D$3:D$32, D15, E$3:E$32, E15, F$3:F$32, F15, G$3:G$32, G15, H$3:H$32, H15, I$3:I$32, I15, J$3:J$32, J15, K$3:K$32, ">"&K15) + COUNTIFS(C$3:C$32, C15, D$3:D$32, D15, E$3:E$32, E15, F$3:F$32, F15, G$3:G$32, G15, H$3:H$32, H15, I$3:I$32, I15, J$3:J$32, J15, K$3:K$32, K15, L$3:L$32, ">"&L15) ) | N15: =IF(OR(O15="", O15="N/A"), "", 1 + COUNTIFS(P$3:P$32, ">"&P15) + COUNTIFS(P$3:P$32, P15, Q$3:Q$32, "<"&Q15) + COUNTIFS(P$3:P$32, P15, Q$3:Q$32, Q15, R$3:R$32, "<"&R15) + COUNTIFS(P$3:P$32, P15, Q$3:Q$32, Q15, R$3:R$32, R15, S$3:S$32, ">"&S15) + COUNTIFS(P$3:P$32, P15, Q$3:Q$32, Q15, R$3:R$32, R15, S$3:S$32, S15, T$3:T$32, ">"&T15) + COUNTIFS(P$3:P$32, P15, Q$3:Q$32, Q15, R$3:R$32, R15, S$3:S$32, S15, T$3:T$32, T15, U$3:U$32, ">"&U15) + COUNTIFS(P$3:P$32, P15, Q$3:Q$32, Q15, R$3:R$32, R15, S$3:S$32, S15, T$3:T$32, T15, U$3:U$32, U15, V$3:V$32, ">"&V15) + COUNTIFS(P$3:P$32, P15, Q$3:Q$32, Q15, R$3:R$32, R15, S$3:S$32, S15, T$3:T$32, T15, U$3:U$32, U15, V$3:V$32, V15, W$3:W$32, ">"&W15) + COUNTIFS(P$3:P$32, P15, Q$3:Q$32, Q15, R$3:R$32, R15, S$3:S$32, S15, T$3:T$32, T15, U$3:U$32, U15, V$3:V$32, V15, W$3:W$32, W15, X$3:X$32, ">"&X15) + COUNTIFS(P$3:P$32, P15, Q$3:Q$32, Q15, R$3:R$32, R15, S$3:S$32, S15, T$3:T$32, T15, U$3:U$32, U15, V$3:V$32, V15, W$3:W$32, W15, X$3:X$32, X15, Y$3:Y$32, ">"&Y15) ) | AA15: =IF(OR(AB15="", AB15="N/A"), "", 1 + COUNTIFS(AC$3:AC$32, ">"&AC15) + COUNTIFS(AC$3:AC$32, AC15, AD$3:AD$32, "<"&AD15) + COUNTIFS(AC$3:AC$32, AC15, AD$3:AD$32, AD15, AE$3:AE$32, "<"&AE15) + COUNTIFS(AC$3:AC$32, AC15, AD$3:AD$32, AD15, AE$3:AE$32, AE15, AF$3:AF$32, ">"&AF15) + COUNTIFS(AC$3:AC$32, AC15, AD$3:AD$32, AD15, AE$3:AE$32, AE15, AF$3:AF$32, AF15, AG$3:AG$32, ">"&AG15) + COUNTIFS(AC$3:AC$32, AC15, AD$3:AD$32, AD15, AE$3:AE$32, AE15, AF$3:AF$32, AF15, AG$3:AG$32, AG15, AH$3:AH$32, ">"&AH15) + COUNTIFS(AC$3:AC$32, AC15, AD$3:AD$32, AD15, AE$3:AE$32, AE15, AF$3:AF$32, AF15, AG$3:AG$32, AG15, AH$3:AH$32, AH15, AI$3:AI$32, ">"&AI15) + COUNTIFS(AC$3:AC$32, AC15, AD$3:AD$32, AD15, AE$3:AE$32, AE15, AF$3:AF$32, AF15, AG$3:AG$32, AG15, AH$3:AH$32, AH15, AI$3:AI$32, AI15, AJ$3:AJ$32, ">"&AJ15) + COUNTIFS(AC$3:AC$32, AC15, AD$3:AD$32, AD15, AE$3:AE$32, AE15, AF$3:AF$32, AF15, AG$3:AG$32, AG15, AH$3:AH$32, AH15, AI$3:AI$32, AI15, AJ$3:AJ$32, AJ15, AK$3:AK$32, ">"&AK15) + COUNTIFS(AC$3:AC$32, AC15, AD$3:AD$32, AD15, AE$3:AE$32, AE15, AF$3:AF$32, AF15, AG$3:AG$32, AG15, AH$3:AH$32, AH15, AI$3:AI$32, AI15, AJ$3:AJ$32, AJ15, AK$3:AK$32, AK15, AL$3:AL$32, ">"&AL15) ) | AN15: =IF(OR(AO15="", AO15="N/A"), "", 1 + COUNTIFS(AP$3:AP$32, ">"&AP15) + COUNTIFS(AP$3:AP$32, AP15, AQ$3:AQ$32, "<"&AQ15) + COUNTIFS(AP$3:AP$32, AP15, AQ$3:AQ$32, AQ15, AR$3:AR$32, "<"&AR15) + COUNTIFS(AP$3:AP$32, AP15, AQ$3:AQ$32, AQ15, AR$3:AR$32, AR15, AS$3:AS$32, ">"&AS15) + COUNTIFS(AP$3:AP$32, AP15, AQ$3:AQ$32, AQ15, AR$3:AR$32, AR15, AS$3:AS$32, AS15, AT$3:AT$32, ">"&AT15) + COUNTIFS(AP$3:AP$32, AP15, AQ$3:AQ$32, AQ15, AR$3:AR$32, AR15, AS$3:AS$32, AS15, AT$3:AT$32, AT15, AU$3:AU$32, ">"&AU15) + COUNTIFS(AP$3:AP$32, AP15, AQ$3:AQ$32, AQ15, AR$3:AR$32, AR15, AS$3:AS$32, AS15, AT$3:AT$32, AT15, AU$3:AU$32, AU15, AV$3:AV$32, ">"&AV15) + COUNTIFS(AP$3:AP$32, AP15, AQ$3:AQ$32, AQ15, AR$3:AR$32, AR15, AS$3:AS$32, AS15, AT$3:AT$32, AT15, AU$3:AU$32, AU15, AV$3:AV$32, AV15, AW$3:AW$32, ">"&AW15) + COUNTIFS(AP$3:AP$32, AP15, AQ$3:AQ$32, AQ15, AR$3:AR$32, AR15, AS$3:AS$32, AS15, AT$3:AT$32, AT15, AU$3:AU$32, AU15, AV$3:AV$32, AV15, AW$3:AW$32, AW15, AX$3:AX$32, ">"&AX15) + COUNTIFS(AP$3:AP$32, AP15, AQ$3:AQ$32, AQ15, AR$3:AR$32, AR15, AS$3:AS$32, AS15, AT$3:AT$32, AT15, AU$3:AU$32, AU15, AV$3:AV$32, AV15, AW$3:AW$32, AW15, AX$3:AX$32, AX15, AY$3:AY$32, ">"&AY15) ) -> 13 | AO15: Pierre | AP15: 208.5 | AQ15: 0 | AR15: 0 | AS15: 0 | AT15: 0 | AU15: 0 | AV15: 0 | AW15: 0 | AX15: 0 | AY15: 0
... A21: =IF(OR(B21="", B21="N/A"), "", 1 + COUNTIFS(C$3:C$32, ">"&C21) + COUNTIFS(C$3:C$32, C21, D$3:D$32, "<"&D21) + COUNTIFS(C$3:C$32, C21, D$3:D$32, D21, E$3:E$32, "<"&E21) + COUNTIFS(C$3:C$32, C21, D$3:D$32, D21, E$3:E$32, E21, F$3:F$32, ">"&F21) + COUNTIFS(C$3:C$32, C21, D$3:D$32, D21, E$3:E$32, E21, F$3:F$32, F21, G$3:G$32, ">"&G21) + COUNTIFS(C$3:C$32, C21, D$3:D$32, D21, E$3:E$32, E21, F$3:F$32, F21, G$3:G$32, G21, H$3:H$32, ">"&H21) + COUNTIFS(C$3:C$32, C21, D$3:D$32, D21, E$3:E$32, E21, F$3:F$32, F21, G$3:G$32, G21, H$3:H$32, H21, I$3:I$32, ">"&I21) + COUNTIFS(C$3:C$32, C21, D$3:D$32, D21, E$3:E$32, E21, F$3:F$32, F21, G$3:G$32, G21, H$3:H$32, H21, I$3:I$32, I21, J$3:J$32, ">"&J21) + COUNTIFS(C$3:C$32, C21, D$3:D$32, D21, E$3:E$32, E21, F$3:F$32, F21, G$3:G$32, G21, H$3:H$32, H21, I$3:I$32, I21, J$3:J$32, J21, K$3:K$32, ">"&K21) + COUNTIFS(C$3:C$32, C21, D$3:D$32, D21, E$3:E$32, E21, F$3:F$32, F21, G$3:G$32, G21, H$3:H$32, H21, I$3:I$32, I21, J$3:J$32, J21, K$3:K$32, K21, L$3:L$32, ">"&L21) ) | N21: =IF(OR(O21="", O21="N/A"), "", 1 + COUNTIFS(P$3:P$32, ">"&P21) + COUNTIFS(P$3:P$32, P21, Q$3:Q$32, "<"&Q21) + COUNTIFS(P$3:P$32, P21, Q$3:Q$32, Q21, R$3:R$32, "<"&R21) + COUNTIFS(P$3:P$32, P21, Q$3:Q$32, Q21, R$3:R$32, R21, S$3:S$32, ">"&S21) + COUNTIFS(P$3:P$32, P21, Q$3:Q$32, Q21, R$3:R$32, R21, S$3:S$32, S21, T$3:T$32, ">"&T21) + COUNTIFS(P$3:P$32, P21, Q$3:Q$32, Q21, R$3:R$32, R21, S$3:S$32, S21, T$3:T$32, T21, U$3:U$32, ">"&U21) + COUNTIFS(P$3:P$32, P21, Q$3:Q$32, Q21, R$3:R$32, R21, S$3:S$32, S21, T$3:T$32, T21, U$3:U$32, U21, V$3:V$32, ">"&V21) + COUNTIFS(P$3:P$32, P21, Q$3:Q$32, Q21, R$3:R$32, R21, S$3:S$32, S21, T$3:T$32, T21, U$3:U$32, U21, V$3:V$32, V21, W$3:W$32, ">"&W21) + COUNTIFS(P$3:P$32, P21, Q$3:Q$32, Q21, R$3:R$32, R21, S$3:S$32, S21, T$3:T$32, T21, U$3:U$32, U21, V$3:V$32, V21, W$3:W$32, W21, X$3:X$32, ">"&X21) + COUNTIFS(P$3:P$32, P21, Q$3:Q$32, Q21, R$3:R$32, R21, S$3:S$32, S21, T$3:T$32, T21, U$3:U$32, U21, V$3:V$32, V21, W$3:W$32, W21, X$3:X$32, X21, Y$3:Y$32, ">"&Y21) ) | AA21: =IF(OR(AB21="", AB21="N/A"), "", 1 + COUNTIFS(AC$3:AC$32, ">"&AC21) + COUNTIFS(AC$3:AC$32, AC21, AD$3:AD$32, "<"&AD21) + COUNTIFS(AC$3:AC$32, AC21, AD$3:AD$32, AD21, AE$3:AE$32, "<"&AE21) + COUNTIFS(AC$3:AC$32, AC21, AD$3:AD$32, AD21, AE$3:AE$32, AE21, AF$3:AF$32, ">"&AF21) + COUNTIFS(AC$3:AC$32, AC21, AD$3:AD$32, AD21, AE$3:AE$32, AE21, AF$3:AF$32, AF21, AG$3:AG$32, ">"&AG21) + COUNTIFS(AC$3:AC$32, AC21, AD$3:AD$32, AD21, AE$3:AE$32, AE21, AF$3:AF$32, AF21, AG$3:AG$32, AG21, AH$3:AH$32, ">"&AH21) + COUNTIFS(AC$3:AC$32, AC21, AD$3:AD$32, AD21, AE$3:AE$32, AE21, AF$3:AF$32, AF21, AG$3:AG$32, AG21, AH$3:AH$32, AH21, AI$3:AI$32, ">"&AI21) + COUNTIFS(AC$3:AC$32, AC21, AD$3:AD$32, AD21, AE$3:AE$32, AE21, AF$3:AF$32, AF21, AG$3:AG$32, AG21, AH$3:AH$32, AH21, AI$3:AI$32, AI21, AJ$3:AJ$32, ">"&AJ21) + COUNTIFS(AC$3:AC$32, AC21, AD$3:AD$32, AD21, AE$3:AE$32, AE21, AF$3:AF$32, AF21, AG$3:AG$32, AG21, AH$3:AH$32, AH21, AI$3:AI$32, AI21, AJ$3:AJ$32, AJ21, AK$3:AK$32, ">"&AK21) + COUNTIFS(AC$3:AC$32, AC21, AD$3:AD$32, AD21, AE$3:AE$32, AE21, AF$3:AF$32, AF21, AG$3:AG$32, AG21, AH$3:AH$32, AH21, AI$3:AI$32, AI21, AJ$3:AJ$32, AJ21, AK$3:AK$32, AK21, AL$3:AL$32, ">"&AL21) ) | AN21: =IF(OR(AO21="", AO21="N/A"), "", 1 + COUNTIFS(AP$3:AP$32, ">"&AP21) + COUNTIFS(AP$3:AP$32, AP21, AQ$3:AQ$32, "<"&AQ21) + COUNTIFS(AP$3:AP$32, AP21, AQ$3:AQ$32, AQ21, AR$3:AR$32, "<"&AR21) + COUNTIFS(AP$3:AP$32, AP21, AQ$3:AQ$32, AQ21, AR$3:AR$32, AR21, AS$3:AS$32, ">"&AS21) + COUNTIFS(AP$3:AP$32, AP21, AQ$3:AQ$32, AQ21, AR$3:AR$32, AR21, AS$3:AS$32, AS21, AT$3:AT$32, ">"&AT21) + COUNTIFS(AP$3:AP$32, AP21, AQ$3:AQ$32, AQ21, AR$3:AR$32, AR21, AS$3:AS$32, AS21, AT$3:AT$32, AT21, AU$3:AU$32, ">"&AU21) + COUNTIFS(AP$3:AP$32, AP21, AQ$3:AQ$32, AQ21, AR$3:AR$32, AR21, AS$3:AS$32, AS21, AT$3:AT$32, AT21, AU$3:AU$32, AU21, AV$3:AV$32, ">"&AV21) + COUNTIFS(AP$3:AP$32, AP21, AQ$3:AQ$32, AQ21, AR$3:AR$32, AR21, AS$3:AS$32, AS21, AT$3:AT$32, AT21, AU$3:AU$32, AU21, AV$3:AV$32, AV21, AW$3:AW$32, ">"&AW21) + COUNTIFS(AP$3:AP$32, AP21, AQ$3:AQ$32, AQ21, AR$3:AR$32, AR21, AS$3:AS$32, AS21, AT$3:AT$32, AT21, AU$3:AU$32, AU21, AV$3:AV$32, AV21, AW$3:AW$32, AW21, AX$3:AX$32, ">"&AX21) + COUNTIFS(AP$3:AP$32, AP21, AQ$3:AQ$32, AQ21, AR$3:AR$32, AR21, AS$3:AS$32, AS21, AT$3:AT$32, AT21, AU$3:AU$32, AU21, AV$3:AV$32, AV21, AW$3:AW$32, AW21, AX$3:AX$32, AX21, AY$3:AY$32, ">"&AY21) ) -> 19 | AO21: Aberdeen Central | AP21: 162 | AQ21: 0 | AR21: 0 | AS21: 0 | AT21: 0 | AU21: 0 | AV21: 0 | AW21: 0 | AX21: 0 | AY21: 0
A22: =IF(OR(B22="", B22="N/A"), "", 1 + COUNTIFS(C$3:C$32, ">"&C22) + COUNTIFS(C$3:C$32, C22, D$3:D$32, "<"&D22) + COUNTIFS(C$3:C$32, C22, D$3:D$32, D22, E$3:E$32, "<"&E22) + COUNTIFS(C$3:C$32, C22, D$3:D$32, D22, E$3:E$32, E22, F$3:F$32, ">"&F22) + COUNTIFS(C$3:C$32, C22, D$3:D$32, D22, E$3:E$32, E22, F$3:F$32, F22, G$3:G$32, ">"&G22) + COUNTIFS(C$3:C$32, C22, D$3:D$32, D22, E$3:E$32, E22, F$3:F$32, F22, G$3:G$32, G22, H$3:H$32, ">"&H22) + COUNTIFS(C$3:C$32, C22, D$3:D$32, D22, E$3:E$32, E22, F$3:F$32, F22, G$3:G$32, G22, H$3:H$32, H22, I$3:I$32, ">"&I22) + COUNTIFS(C$3:C$32, C22, D$3:D$32, D22, E$3:E$32, E22, F$3:F$32, F22, G$3:G$32, G22, H$3:H$32, H22, I$3:I$32, I22, J$3:J$32, ">"&J22) + COUNTIFS(C$3:C$32, C22, D$3:D$32, D22, E$3:E$32, E22, F$3:F$32, F22, G$3:G$32, G22, H$3:H$32, H22, I$3:I$32, I22, J$3:J$32, J22, K$3:K$32, ">"&K22) + COUNTIFS(C$3:C$32, C22, D$3:D$32, D22, E$3:E$32, E22, F$3:F$32, F22, G$3:G$32, G22, H$3:H$32, H22, I$3:I$32, I22, J$3:J$32, J22, K$3:K$32, K22, L$3:L$32, ">"&L22) ) | N22: =IF(OR(O22="", O22="N/A"), "", 1 + COUNTIFS(P$3:P$32, ">"&P22) + COUNTIFS(P$3:P$32, P22, Q$3:Q$32, "<"&Q22) + COUNTIFS(P$3:P$32, P22, Q$3:Q$32, Q22, R$3:R$32, "<"&R22) + COUNTIFS(P$3:P$32, P22, Q$3:Q$32, Q22, R$3:R$32, R22, S$3:S$32, ">"&S22) + COUNTIFS(P$3:P$32, P22, Q$3:Q$32, Q22, R$3:R$32, R22, S$3:S$32, S22, T$3:T$32, ">"&T22) + COUNTIFS(P$3:P$32, P22, Q$3:Q$32, Q22, R$3:R$32, R22, S$3:S$32, S22, T$3:T$32, T22, U$3:U$32, ">"&U22) + COUNTIFS(P$3:P$32, P22, Q$3:Q$32, Q22, R$3:R$32, R22, S$3:S$32, S22, T$3:T$32, T22, U$3:U$32, U22, V$3:V$32, ">"&V22) + COUNTIFS(P$3:P$32, P22, Q$3:Q$32, Q22, R$3:R$32, R22, S$3:S$32, S22, T$3:T$32, T22, U$3:U$32, U22, V$3:V$32, V22, W$3:W$32, ">"&W22) + COUNTIFS(P$3:P$32, P22, Q$3:Q$32, Q22, R$3:R$32, R22, S$3:S$32, S22, T$3:T$32, T22, U$3:U$32, U22, V$3:V$32, V22, W$3:W$32, W22, X$3:X$32, ">"&X22) + COUNTIFS(P$3:P$32, P22, Q$3:Q$32, Q22, R$3:R$32, R22, S$3:S$32, S22, T$3:T$32, T22, U$3:U$32, U22, V$3:V$32, V22, W$3:W$32, W22, X$3:X$32, X22, Y$3:Y$32, ">"&Y22) ) | AA22: =IF(OR(AB22="", AB22="N/A"), "", 1 + COUNTIFS(AC$3:AC$32, ">"&AC22) + COUNTIFS(AC$3:AC$32, AC22, AD$3:AD$32, "<"&AD22) + COUNTIFS(AC$3:AC$32, AC22, AD$3:AD$32, AD22, AE$3:AE$32, "<"&AE22) + COUNTIFS(AC$3:AC$32, AC22, AD$3:AD$32, AD22, AE$3:AE$32, AE22, AF$3:AF$32, ">"&AF22) + COUNTIFS(AC$3:AC$32, AC22, AD$3:AD$32, AD22, AE$3:AE$32, AE22, AF$3:AF$32, AF22, AG$3:AG$32, ">"&AG22) + COUNTIFS(AC$3:AC$32, AC22, AD$3:AD$32, AD22, AE$3:AE$32, AE22, AF$3:AF$32, AF22, AG$3:AG$32, AG22, AH$3:AH$32, ">"&AH22) + COUNTIFS(AC$3:AC$32, AC22, AD$3:AD$32, AD22, AE$3:AE$32, AE22, AF$3:AF$32, AF22, AG$3:AG$32, AG22, AH$3:AH$32, AH22, AI$3:AI$32, ">"&AI22) + COUNTIFS(AC$3:AC$32, AC22, AD$3:AD$32, AD22, AE$3:AE$32, AE22, AF$3:AF$32, AF22, AG$3:AG$32, AG22, AH$3:AH$32, AH22, AI$3:AI$32, AI22, AJ$3:AJ$32, ">"&AJ22) + COUNTIFS(AC$3:AC$32, AC22, AD$3:AD$32, AD22, AE$3:AE$32, AE22, AF$3:AF$32, AF22, AG$3:AG$32, AG22, AH$3:AH$32, AH22, AI$3:AI$32, AI22, AJ$3:AJ$32, AJ22, AK$3:AK$32, ">"&AK22) + COUNTIFS(AC$3:AC$32, AC22, AD$3:AD$32, AD22, AE$3:AE$32, AE22, AF$3:AF$32, AF22, AG$3:AG$32, AG22, AH$3:AH$32, AH22, AI$3:AI$32, AI22, AJ$3:AJ$32, AJ22, AK$3:AK$32, AK22, AL$3:AL$32, ">"&AL22) ) | AN22: =IF(OR(AO22="", AO22="N/A"), "", 1 + COUNTIFS(AP$3:AP$32, ">"&AP22) + COUNTIFS(AP$3:AP$32, AP22, AQ$3:AQ$32, "<"&AQ22) + COUNTIFS(AP$3:AP$32, AP22, AQ$3:AQ$32, AQ22, AR$3:AR$32, "<"&AR22) + COUNTIFS(AP$3:AP$32, AP22, AQ$3:AQ$32, AQ22, AR$3:AR$32, AR22, AS$3:AS$32, ">"&AS22) + COUNTIFS(AP$3:AP$32, AP22, AQ$3:AQ$32, AQ22, AR$3:AR$32, AR22, AS$3:AS$32, AS22, AT$3:AT$32, ">"&AT22) + COUNTIFS(AP$3:AP$32, AP22, AQ$3:AQ$32, AQ22, AR$3:AR$32, AR22, AS$3:AS$32, AS22, AT$3:AT$32, AT22, AU$3:AU$32, ">"&AU22) + COUNTIFS(AP$3:AP$32, AP22, AQ$3:AQ$32, AQ22, AR$3:AR$32, AR22, AS$3:AS$32, AS22, AT$3:AT$32, AT22, AU$3:AU$32, AU22, AV$3:AV$32, ">"&AV22) + COUNTIFS(AP$3:AP$32, AP22, AQ$3:AQ$32, AQ22, AR$3:AR$32, AR22, AS$3:AS$32, AS22, AT$3:AT$32, AT22, AU$3:AU$32, AU22, AV$3:AV$32, AV22, AW$3:AW$32, ">"&AW22) + COUNTIFS(AP$3:AP$32, AP22, AQ$3:AQ$32, AQ22, AR$3:AR$32, AR22, AS$3:AS$32, AS22, AT$3:AT$32, AT22, AU$3:AU$32, AU22, AV$3:AV$32, AV22, AW$3:AW$32, AW22, AX$3:AX$32, ">"&AX22) + COUNTIFS(AP$3:AP$32, AP22, AQ$3:AQ$32, AQ22, AR$3:AR$32, AR22, AS$3:AS$32, AS22, AT$3:AT$32, AT22, AU$3:AU$32, AU22, AV$3:AV$32, AV22, AW$3:AW$32, AW22, AX$3:AX$32, AX22, AY$3:AY$32, ">"&AY22) )
A23: =IF(OR(B23="", B23="N/A"), "", 1 + COUNTIFS(C$3:C$32, ">"&C23) + COUNTIFS(C$3:C$32, C23, D$3:D$32, "<"&D23) + COUNTIFS(C$3:C$32, C23, D$3:D$32, D23, E$3:E$32, "<"&E23) + COUNTIFS(C$3:C$32, C23, D$3:D$32, D23, E$3:E$32, E23, F$3:F$32, ">"&F23) + COUNTIFS(C$3:C$32, C23, D$3:D$32, D23, E$3:E$32, E23, F$3:F$32, F23, G$3:G$32, ">"&G23) + COUNTIFS(C$3:C$32, C23, D$3:D$32, D23, E$3:E$32, E23, F$3:F$32, F23, G$3:G$32, G23, H$3:H$32, ">"&H23) + COUNTIFS(C$3:C$32, C23, D$3:D$32, D23, E$3:E$32, E23, F$3:F$32, F23, G$3:G$32, G23, H$3:H$32, H23, I$3:I$32, ">"&I23) + COUNTIFS(C$3:C$32, C23, D$3:D$32, D23, E$3:E$32, E23, F$3:F$32, F23, G$3:G$32, G23, H$3:H$32, H23, I$3:I$32, I23, J$3:J$32, ">"&J23) + COUNTIFS(C$3:C$32, C23, D$3:D$32, D23, E$3:E$32, E23, F$3:F$32, F23, G$3:G$32, G23, H$3:H$32, H23, I$3:I$32, I23, J$3:J$32, J23, K$3:K$32, ">"&K23) + COUNTIFS(C$3:C$32, C23, D$3:D$32, D23, E$3:E$32, E23, F$3:F$32, F23, G$3:G$32, G23, H$3:H$32, H23, I$3:I$32, I23, J$3:J$32, J23, K$3:K$32, K23, L$3:L$32, ">"&L23) ) | N23: =IF(OR(O23="", O23="N/A"), "", 1 + COUNTIFS(P$3:P$32, ">"&P23) + COUNTIFS(P$3:P$32, P23, Q$3:Q$32, "<"&Q23) + COUNTIFS(P$3:P$32, P23, Q$3:Q$32, Q23, R$3:R$32, "<"&R23) + COUNTIFS(P$3:P$32, P23, Q$3:Q$32, Q23, R$3:R$32, R23, S$3:S$32, ">"&S23) + COUNTIFS(P$3:P$32, P23, Q$3:Q$32, Q23, R$3:R$32, R23, S$3:S$32, S23, T$3:T$32, ">"&T23) + COUNTIFS(P$3:P$32, P23, Q$3:Q$32, Q23, R$3:R$32, R23, S$3:S$32, S23, T$3:T$32, T23, U$3:U$32, ">"&U23) + COUNTIFS(P$3:P$32, P23, Q$3:Q$32, Q23, R$3:R$32, R23, S$3:S$32, S23, T$3:T$32, T23, U$3:U$32, U23, V$3:V$32, ">"&V23) + COUNTIFS(P$3:P$32, P23, Q$3:Q$32, Q23, R$3:R$32, R23, S$3:S$32, S23, T$3:T$32, T23, U$3:U$32, U23, V$3:V$32, V23, W$3:W$32, ">"&W23) + COUNTIFS(P$3:P$32, P23, Q$3:Q$32, Q23, R$3:R$32, R23, S$3:S$32, S23, T$3:T$32, T23, U$3:U$32, U23, V$3:V$32, V23, W$3:W$32, W23, X$3:X$32, ">"&X23) + COUNTIFS(P$3:P$32, P23, Q$3:Q$32, Q23, R$3:R$32, R23, S$3:S$32, S23, T$3:T$32, T23, U$3:U$32, U23, V$3:V$32, V23, W$3:W$32, W23, X$3:X$32, X23, Y$3:Y$32, ">"&Y23) ) | AA23: =IF(OR(AB23="", AB23="N/A"), "", 1 + COUNTIFS(AC$3:AC$32, ">"&AC23) + COUNTIFS(AC$3:AC$32, AC23, AD$3:AD$32, "<"&AD23) + COUNTIFS(AC$3:AC$32, AC23, AD$3:AD$32, AD23, AE$3:AE$32, "<"&AE23) + COUNTIFS(AC$3:AC$32, AC23, AD$3:AD$32, AD23, AE$3:AE$32, AE23, AF$3:AF$32, ">"&AF23) + COUNTIFS(AC$3:AC$32, AC23, AD$3:AD$32, AD23, AE$3:AE$32, AE23, AF$3:AF$32, AF23, AG$3:AG$32, ">"&AG23) + COUNTIFS(AC$3:AC$32, AC23, AD$3:AD$32, AD23, AE$3:AE$32, AE23, AF$3:AF$32, AF23, AG$3:AG$32, AG23, AH$3:AH$32, ">"&AH23) + COUNTIFS(AC$3:AC$32, AC23, AD$3:AD$32, AD23, AE$3:AE$32, AE23, AF$3:AF$32, AF23, AG$3:AG$32, AG23, AH$3:AH$32, AH23, AI$3:AI$32, ">"&AI23) + COUNTIFS(AC$3:AC$32, AC23, AD$3:AD$32, AD23, AE$3:AE$32, AE23, AF$3:AF$32, AF23, AG$3:AG$32, AG23, AH$3:AH$32, AH23, AI$3:AI$32, AI23, AJ$3:AJ$32, ">"&AJ23) + COUNTIFS(AC$3:AC$32, AC23, AD$3:AD$32, AD23, AE$3:AE$32, AE23, AF$3:AF$32, AF23, AG$3:AG$32, AG23, AH$3:AH$32, AH23, AI$3:AI$32, AI23, AJ$3:AJ$32, AJ23, AK$3:AK$32, ">"&AK23) + COUNTIFS(AC$3:AC$32, AC23, AD$3:AD$32, AD23, AE$3:AE$32, AE23, AF$3:AF$32, AF23, AG$3:AG$32, AG23, AH$3:AH$32, AH23, AI$3:AI$32, AI23, AJ$3:AJ$32, AJ23, AK$3:AK$32, AK23, AL$3:AL$32, ">"&AL23) ) | AN23: =IF(OR(AO23="", AO23="N/A"), "", 1 + COUNTIFS(AP$3:AP$32, ">"&AP23) + COUNTIFS(AP$3:AP$32, AP23, AQ$3:AQ$32, "<"&AQ23) + COUNTIFS(AP$3:AP$32, AP23, AQ$3:AQ$32, AQ23, AR$3:AR$32, "<"&AR23) + COUNTIFS(AP$3:AP$32, AP23, AQ$3:AQ$32, AQ23, AR$3:AR$32, AR23, AS$3:AS$32, ">"&AS23) + COUNTIFS(AP$3:AP$32, AP23, AQ$3:AQ$32, AQ23, AR$3:AR$32, AR23, AS$3:AS$32, AS23, AT$3:AT$32, ">"&AT23) + COUNTIFS(AP$3:AP$32, AP23, AQ$3:AQ$32, AQ23, AR$3:AR$32, AR23, AS$3:AS$32, AS23, AT$3:AT$32, AT23, AU$3:AU$32, ">"&AU23) + COUNTIFS(AP$3:AP$32, AP23, AQ$3:AQ$32, AQ23, AR$3:AR$32, AR23, AS$3:AS$32, AS23, AT$3:AT$32, AT23, AU$3:AU$32, AU23, AV$3:AV$32, ">"&AV23) + COUNTIFS(AP$3:AP$32, AP23, AQ$3:AQ$32, AQ23, AR$3:AR$32, AR23, AS$3:AS$32, AS23, AT$3:AT$32, AT23, AU$3:AU$32, AU23, AV$3:AV$32, AV23, AW$3:AW$32, ">"&AW23) + COUNTIFS(AP$3:AP$32, AP23, AQ$3:AQ$32, AQ23, AR$3:AR$32, AR23, AS$3:AS$32, AS23, AT$3:AT$32, AT23, AU$3:AU$32, AU23, AV$3:AV$32, AV23, AW$3:AW$32, AW23, AX$3:AX$32, ">"&AX23) + COUNTIFS(AP$3:AP$32, AP23, AQ$3:AQ$32, AQ23, AR$3:AR$32, AR23, AS$3:AS$32, AS23, AT$3:AT$32, AT23, AU$3:AU$32, AU23, AV$3:AV$32, AV23, AW$3:AW$32, AW23, AX$3:AX$32, AX23, AY$3:AY$32, ">"&AY23) )
A24: =IF(OR(B24="", B24="N/A"), "", 1 + COUNTIFS(C$3:C$32, ">"&C24) + COUNTIFS(C$3:C$32, C24, D$3:D$32, "<"&D24) + COUNTIFS(C$3:C$32, C24, D$3:D$32, D24, E$3:E$32, "<"&E24) + COUNTIFS(C$3:C$32, C24, D$3:D$32, D24, E$3:E$32, E24, F$3:F$32, ">"&F24) + COUNTIFS(C$3:C$32, C24, D$3:D$32, D24, E$3:E$32, E24, F$3:F$32, F24, G$3:G$32, ">"&G24) + COUNTIFS(C$3:C$32, C24, D$3:D$32, D24, E$3:E$32, E24, F$3:F$32, F24, G$3:G$32, G24, H$3:H$32, ">"&H24) + COUNTIFS(C$3:C$32, C24, D$3:D$32, D24, E$3:E$32, E24, F$3:F$32, F24, G$3:G$32, G24, H$3:H$32, H24, I$3:I$32, ">"&I24) + COUNTIFS(C$3:C$32, C24, D$3:D$32, D24, E$3:E$32, E24, F$3:F$32, F24, G$3:G$32, G24, H$3:H$32, H24, I$3:I$32, I24, J$3:J$32, ">"&J24) + COUNTIFS(C$3:C$32, C24, D$3:D$32, D24, E$3:E$32, E24, F$3:F$32, F24, G$3:G$32, G24, H$3:H$32, H24, I$3:I$32, I24, J$3:J$32, J24, K$3:K$32, ">"&K24) + COUNTIFS(C$3:C$32, C24, D$3:D$32, D24, E$3:E$32, E24, F$3:F$32, F24, G$3:G$32, G24, H$3:H$32, H24, I$3:I$32, I24, J$3:J$32, J24, K$3:K$32, K24, L$3:L$32, ">"&L24) ) | N24: =IF(OR(O24="", O24="N/A"), "", 1 + COUNTIFS(P$3:P$32, ">"&P24) + COUNTIFS(P$3:P$32, P24, Q$3:Q$32, "<"&Q24) + COUNTIFS(P$3:P$32, P24, Q$3:Q$32, Q24, R$3:R$32, "<"&R24) + COUNTIFS(P$3:P$32, P24, Q$3:Q$32, Q24, R$3:R$32, R24, S$3:S$32, ">"&S24) + COUNTIFS(P$3:P$32, P24, Q$3:Q$32, Q24, R$3:R$32, R24, S$3:S$32, S24, T$3:T$32, ">"&T24) + COUNTIFS(P$3:P$32, P24, Q$3:Q$32, Q24, R$3:R$32, R24, S$3:S$32, S24, T$3:T$32, T24, U$3:U$32, ">"&U24) + COUNTIFS(P$3:P$32, P24, Q$3:Q$32, Q24, R$3:R$32, R24, S$3:S$32, S24, T$3:T$32, T24, U$3:U$32, U24, V$3:V$32, ">"&V24) + COUNTIFS(P$3:P$32, P24, Q$3:Q$32, Q24, R$3:R$32, R24, S$3:S$32, S24, T$3:T$32, T24, U$3:U$32, U24, V$3:V$32, V24, W$3:W$32, ">"&W24) + COUNTIFS(P$3:P$32, P24, Q$3:Q$32, Q24, R$3:R$32, R24, S$3:S$32, S24, T$3:T$32, T24, U$3:U$32, U24, V$3:V$32, V24, W$3:W$32, W24, X$3:X$32, ">"&X24) + COUNTIFS(P$3:P$32, P24, Q$3:Q$32, Q24, R$3:R$32, R24, S$3:S$32, S24, T$3:T$32, T24, U$3:U$32, U24, V$3:V$32, V24, W$3:W$32, W24, X$3:X$32, X24, Y$3:Y$32, ">"&Y24) ) | AA24: =IF(OR(AB24="", AB24="N/A"), "", 1 + COUNTIFS(AC$3:AC$32, ">"&AC24) + COUNTIFS(AC$3:AC$32, AC24, AD$3:AD$32, "<"&AD24) + COUNTIFS(AC$3:AC$32, AC24, AD$3:AD$32, AD24, AE$3:AE$32, "<"&AE24) + COUNTIFS(AC$3:AC$32, AC24, AD$3:AD$32, AD24, AE$3:AE$32, AE24, AF$3:AF$32, ">"&AF24) + COUNTIFS(AC$3:AC$32, AC24, AD$3:AD$32, AD24, AE$3:AE$32, AE24, AF$3:AF$32, AF24, AG$3:AG$32, ">"&AG24) + COUNTIFS(AC$3:AC$32, AC24, AD$3:AD$32, AD24, AE$3:AE$32, AE24, AF$3:AF$32, AF24, AG$3:AG$32, AG24, AH$3:AH$32, ">"&AH24) + COUNTIFS(AC$3:AC$32, AC24, AD$3:AD$32, AD24, AE$3:AE$32, AE24, AF$3:AF$32, AF24, AG$3:AG$32, AG24, AH$3:AH$32, AH24, AI$3:AI$32, ">"&AI24) + COUNTIFS(AC$3:AC$32, AC24, AD$3:AD$32, AD24, AE$3:AE$32, AE24, AF$3:AF$32, AF24, AG$3:AG$32, AG24, AH$3:AH$32, AH24, AI$3:AI$32, AI24, AJ$3:AJ$32, ">"&AJ24) + COUNTIFS(AC$3:AC$32, AC24, AD$3:AD$32, AD24, AE$3:AE$32, AE24, AF$3:AF$32, AF24, AG$3:AG$32, AG24, AH$3:AH$32, AH24, AI$3:AI$32, AI24, AJ$3:AJ$32, AJ24, AK$3:AK$32, ">"&AK24) + COUNTIFS(AC$3:AC$32, AC24, AD$3:AD$32, AD24, AE$3:AE$32, AE24, AF$3:AF$32, AF24, AG$3:AG$32, AG24, AH$3:AH$32, AH24, AI$3:AI$32, AI24, AJ$3:AJ$32, AJ24, AK$3:AK$32, AK24, AL$3:AL$32, ">"&AL24) ) | AN24: =IF(OR(AO24="", AO24="N/A"), "", 1 + COUNTIFS(AP$3:AP$32, ">"&AP24) + COUNTIFS(AP$3:AP$32, AP24, AQ$3:AQ$32, "<"&AQ24) + COUNTIFS(AP$3:AP$32, AP24, AQ$3:AQ$32, AQ24, AR$3:AR$32, "<"&AR24) + COUNTIFS(AP$3:AP$32, AP24, AQ$3:AQ$32, AQ24, AR$3:AR$32, AR24, AS$3:AS$32, ">"&AS24) + COUNTIFS(AP$3:AP$32, AP24, AQ$3:AQ$32, AQ24, AR$3:AR$32, AR24, AS$3:AS$32, AS24, AT$3:AT$32, ">"&AT24) + COUNTIFS(AP$3:AP$32, AP24, AQ$3:AQ$32, AQ24, AR$3:AR$32, AR24, AS$3:AS$32, AS24, AT$3:AT$32, AT24, AU$3:AU$32, ">"&AU24) + COUNTIFS(AP$3:AP$32, AP24, AQ$3:AQ$32, AQ24, AR$3:AR$32, AR24, AS$3:AS$32, AS24, AT$3:AT$32, AT24, AU$3:AU$32, AU24, AV$3:AV$32, ">"&AV24) + COUNTIFS(AP$3:AP$32, AP24, AQ$3:AQ$32, AQ24, AR$3:AR$32, AR24, AS$3:AS$32, AS24, AT$3:AT$32, AT24, AU$3:AU$32, AU24, AV$3:AV$32, AV24, AW$3:AW$32, ">"&AW24) + COUNTIFS(AP$3:AP$32, AP24, AQ$3:AQ$32, AQ24, AR$3:AR$32, AR24, AS$3:AS$32, AS24, AT$3:AT$32, AT24, AU$3:AU$32, AU24, AV$3:AV$32, AV24, AW$3:AW$32, AW24, AX$3:AX$32, ">"&AX24) + COUNTIFS(AP$3:AP$32, AP24, AQ$3:AQ$32, AQ24, AR$3:AR$32, AR24, AS$3:AS$32, AS24, AT$3:AT$32, AT24, AU$3:AU$32, AU24, AV$3:AV$32, AV24, AW$3:AW$32, AW24, AX$3:AX$32, AX24, AY$3:AY$32, ">"&AY24) )
A25: =IF(OR(B25="", B25="N/A"), "", 1 + COUNTIFS(C$3:C$32, ">"&C25) + COUNTIFS(C$3:C$32, C25, D$3:D$32, "<"&D25) + COUNTIFS(C$3:C$32, C25, D$3:D$32, D25, E$3:E$32, "<"&E25) + COUNTIFS(C$3:C$32, C25, D$3:D$32, D25, E$3:E$32, E25, F$3:F$32, ">"&F25) + COUNTIFS(C$3:C$32, C25, D$3:D$32, D25, E$3:E$32, E25, F$3:F$32, F25, G$3:G$32, ">"&G25) + COUNTIFS(C$3:C$32, C25, D$3:D$32, D25, E$3:E$32, E25, F$3:F$32, F25, G$3:G$32, G25, H$3:H$32, ">"&H25) + COUNTIFS(C$3:C$32, C25, D$3:D$32, D25, E$3:E$32, E25, F$3:F$32, F25, G$3:G$32, G25, H$3:H$32, H25, I$3:I$32, ">"&I25) + COUNTIFS(C$3:C$32, C25, D$3:D$32, D25, E$3:E$32, E25, F$3:F$32, F25, G$3:G$32, G25, H$3:H$32, H25, I$3:I$32, I25, J$3:J$32, ">"&J25) + COUNTIFS(C$3:C$32, C25, D$3:D$32, D25, E$3:E$32, E25, F$3:F$32, F25, G$3:G$32, G25, H$3:H$32, H25, I$3:I$32, I25, J$3:J$32, J25, K$3:K$32, ">"&K25) + COUNTIFS(C$3:C$32, C25, D$3:D$32, D25, E$3:E$32, E25, F$3:F$32, F25, G$3:G$32, G25, H$3:H$32, H25, I$3:I$32, I25, J$3:J$32, J25, K$3:K$32, K25, L$3:L$32, ">"&L25) ) | N25: =IF(OR(O25="", O25="N/A"), "", 1 + COUNTIFS(P$3:P$32, ">"&P25) + COUNTIFS(P$3:P$32, P25, Q$3:Q$32, "<"&Q25) + COUNTIFS(P$3:P$32, P25, Q$3:Q$32, Q25, R$3:R$32, "<"&R25) + COUNTIFS(P$3:P$32, P25, Q$3:Q$32, Q25, R$3:R$32, R25, S$3:S$32, ">"&S25) + COUNTIFS(P$3:P$32, P25, Q$3:Q$32, Q25, R$3:R$32, R25, S$3:S$32, S25, T$3:T$32, ">"&T25) + COUNTIFS(P$3:P$32, P25, Q$3:Q$32, Q25, R$3:R$32, R25, S$3:S$32, S25, T$3:T$32, T25, U$3:U$32, ">"&U25) + COUNTIFS(P$3:P$32, P25, Q$3:Q$32, Q25, R$3:R$32, R25, S$3:S$32, S25, T$3:T$32, T25, U$3:U$32, U25, V$3:V$32, ">"&V25) + COUNTIFS(P$3:P$32, P25, Q$3:Q$32, Q25, R$3:R$32, R25, S$3:S$32, S25, T$3:T$32, T25, U$3:U$32, U25, V$3:V$32, V25, W$3:W$32, ">"&W25) + COUNTIFS(P$3:P$32, P25, Q$3:Q$32, Q25, R$3:R$32, R25, S$3:S$32, S25, T$3:T$32, T25, U$3:U$32, U25, V$3:V$32, V25, W$3:W$32, W25, X$3:X$32, ">"&X25) + COUNTIFS(P$3:P$32, P25, Q$3:Q$32, Q25, R$3:R$32, R25, S$3:S$32, S25, T$3:T$32, T25, U$3:U$32, U25, V$3:V$32, V25, W$3:W$32, W25, X$3:X$32, X25, Y$3:Y$32, ">"&Y25) ) | AA25: =IF(OR(AB25="", AB25="N/A"), "", 1 + COUNTIFS(AC$3:AC$32, ">"&AC25) + COUNTIFS(AC$3:AC$32, AC25, AD$3:AD$32, "<"&AD25) + COUNTIFS(AC$3:AC$32, AC25, AD$3:AD$32, AD25, AE$3:AE$32, "<"&AE25) + COUNTIFS(AC$3:AC$32, AC25, AD$3:AD$32, AD25, AE$3:AE$32, AE25, AF$3:AF$32, ">"&AF25) + COUNTIFS(AC$3:AC$32, AC25, AD$3:AD$32, AD25, AE$3:AE$32, AE25, AF$3:AF$32, AF25, AG$3:AG$32, ">"&AG25) + COUNTIFS(AC$3:AC$32, AC25, AD$3:AD$32, AD25, AE$3:AE$32, AE25, AF$3:AF$32, AF25, AG$3:AG$32, AG25, AH$3:AH$32, ">"&AH25) + COUNTIFS(AC$3:AC$32, AC25, AD$3:AD$32, AD25, AE$3:AE$32, AE25, AF$3:AF$32, AF25, AG$3:AG$32, AG25, AH$3:AH$32, AH25, AI$3:AI$32, ">"&AI25) + COUNTIFS(AC$3:AC$32, AC25, AD$3:AD$32, AD25, AE$3:AE$32, AE25, AF$3:AF$32, AF25, AG$3:AG$32, AG25, AH$3:AH$32, AH25, AI$3:AI$32, AI25, AJ$3:AJ$32, ">"&AJ25) + COUNTIFS(AC$3:AC$32, AC25, AD$3:AD$32, AD25, AE$3:AE$32, AE25, AF$3:AF$32, AF25, AG$3:AG$32, AG25, AH$3:AH$32, AH25, AI$3:AI$32, AI25, AJ$3:AJ$32, AJ25, AK$3:AK$32, ">"&AK25) + COUNTIFS(AC$3:AC$32, AC25, AD$3:AD$32, AD25, AE$3:AE$32, AE25, AF$3:AF$32, AF25, AG$3:AG$32, AG25, AH$3:AH$32, AH25, AI$3:AI$32, AI25, AJ$3:AJ$32, AJ25, AK$3:AK$32, AK25, AL$3:AL$32, ">"&AL25) ) | AN25: =IF(OR(AO25="", AO25="N/A"), "", 1 + COUNTIFS(AP$3:AP$32, ">"&AP25) + COUNTIFS(AP$3:AP$32, AP25, AQ$3:AQ$32, "<"&AQ25) + COUNTIFS(AP$3:AP$32, AP25, AQ$3:AQ$32, AQ25, AR$3:AR$32, "<"&AR25) + COUNTIFS(AP$3:AP$32, AP25, AQ$3:AQ$32, AQ25, AR$3:AR$32, AR25, AS$3:AS$32, ">"&AS25) + COUNTIFS(AP$3:AP$32, AP25, AQ$3:AQ$32, AQ25, AR$3:AR$32, AR25, AS$3:AS$32, AS25, AT$3:AT$32, ">"&AT25) + COUNTIFS(AP$3:AP$32, AP25, AQ$3:AQ$32, AQ25, AR$3:AR$32, AR25, AS$3:AS$32, AS25, AT$3:AT$32, AT25, AU$3:AU$32, ">"&AU25) + COUNTIFS(AP$3:AP$32, AP25, AQ$3:AQ$32, AQ25, AR$3:AR$32, AR25, AS$3:AS$32, AS25, AT$3:AT$32, AT25, AU$3:AU$32, AU25, AV$3:AV$32, ">"&AV25) + COUNTIFS(AP$3:AP$32, AP25, AQ$3:AQ$32, AQ25, AR$3:AR$32, AR25, AS$3:AS$32, AS25, AT$3:AT$32, AT25, AU$3:AU$32, AU25, AV$3:AV$32, AV25, AW$3:AW$32, ">"&AW25) + COUNTIFS(AP$3:AP$32, AP25, AQ$3:AQ$32, AQ25, AR$3:AR$32, AR25, AS$3:AS$32, AS25, AT$3:AT$32, AT25, AU$3:AU$32, AU25, AV$3:AV$32, AV25, AW$3:AW$32, AW25, AX$3:AX$32, ">"&AX25) + COUNTIFS(AP$3:AP$32, AP25, AQ$3:AQ$32, AQ25, AR$3:AR$32, AR25, AS$3:AS$32, AS25, AT$3:AT$32, AT25, AU$3:AU$32, AU25, AV$3:AV$32, AV25, AW$3:AW$32, AW25, AX$3:AX$32, AX25, AY$3:AY$32, ">"&AY25) )
A26: =IF(OR(B26="", B26="N/A"), "", 1 + COUNTIFS(C$3:C$32, ">"&C26) + COUNTIFS(C$3:C$32, C26, D$3:D$32, "<"&D26) + COUNTIFS(C$3:C$32, C26, D$3:D$32, D26, E$3:E$32, "<"&E26) + COUNTIFS(C$3:C$32, C26, D$3:D$32, D26, E$3:E$32, E26, F$3:F$32, ">"&F26) + COUNTIFS(C$3:C$32, C26, D$3:D$32, D26, E$3:E$32, E26, F$3:F$32, F26, G$3:G$32, ">"&G26) + COUNTIFS(C$3:C$32, C26, D$3:D$32, D26, E$3:E$32, E26, F$3:F$32, F26, G$3:G$32, G26, H$3:H$32, ">"&H26) + COUNTIFS(C$3:C$32, C26, D$3:D$32, D26, E$3:E$32, E26, F$3:F$32, F26, G$3:G$32, G26, H$3:H$32, H26, I$3:I$32, ">"&I26) + COUNTIFS(C$3:C$32, C26, D$3:D$32, D26, E$3:E$32, E26, F$3:F$32, F26, G$3:G$32, G26, H$3:H$32, H26, I$3:I$32, I26, J$3:J$32, ">"&J26) + COUNTIFS(C$3:C$32, C26, D$3:D$32, D26, E$3:E$32, E26, F$3:F$32, F26, G$3:G$32, G26, H$3:H$32, H26, I$3:I$32, I26, J$3:J$32, J26, K$3:K$32, ">"&K26) + COUNTIFS(C$3:C$32, C26, D$3:D$32, D26, E$3:E$32, E26, F$3:F$32, F26, G$3:G$32, G26, H$3:H$32, H26, I$3:I$32, I26, J$3:J$32, J26, K$3:K$32, K26, L$3:L$32, ">"&L26) ) | N26: =IF(OR(O26="", O26="N/A"), "", 1 + COUNTIFS(P$3:P$32, ">"&P26) + COUNTIFS(P$3:P$32, P26, Q$3:Q$32, "<"&Q26) + COUNTIFS(P$3:P$32, P26, Q$3:Q$32, Q26, R$3:R$32, "<"&R26) + COUNTIFS(P$3:P$32, P26, Q$3:Q$32, Q26, R$3:R$32, R26, S$3:S$32, ">"&S26) + COUNTIFS(P$3:P$32, P26, Q$3:Q$32, Q26, R$3:R$32, R26, S$3:S$32, S26, T$3:T$32, ">"&T26) + COUNTIFS(P$3:P$32, P26, Q$3:Q$32, Q26, R$3:R$32, R26, S$3:S$32, S26, T$3:T$32, T26, U$3:U$32, ">"&U26) + COUNTIFS(P$3:P$32, P26, Q$3:Q$32, Q26, R$3:R$32, R26, S$3:S$32, S26, T$3:T$32, T26, U$3:U$32, U26, V$3:V$32, ">"&V26) + COUNTIFS(P$3:P$32, P26, Q$3:Q$32, Q26, R$3:R$32, R26, S$3:S$32, S26, T$3:T$32, T26, U$3:U$32, U26, V$3:V$32, V26, W$3:W$32, ">"&W26) + COUNTIFS(P$3:P$32, P26, Q$3:Q$32, Q26, R$3:R$32, R26, S$3:S$32, S26, T$3:T$32, T26, U$3:U$32, U26, V$3:V$32, V26, W$3:W$32, W26, X$3:X$32, ">"&X26) + COUNTIFS(P$3:P$32, P26, Q$3:Q$32, Q26, R$3:R$32, R26, S$3:S$32, S26, T$3:T$32, T26, U$3:U$32, U26, V$3:V$32, V26, W$3:W$32, W26, X$3:X$32, X26, Y$3:Y$32, ">"&Y26) ) | AA26: =IF(OR(AB26="", AB26="N/A"), "", 1 + COUNTIFS(AC$3:AC$32, ">"&AC26) + COUNTIFS(AC$3:AC$32, AC26, AD$3:AD$32, "<"&AD26) + COUNTIFS(AC$3:AC$32, AC26, AD$3:AD$32, AD26, AE$3:AE$32, "<"&AE26) + COUNTIFS(AC$3:AC$32, AC26, AD$3:AD$32, AD26, AE$3:AE$32, AE26, AF$3:AF$32, ">"&AF26) + COUNTIFS(AC$3:AC$32, AC26, AD$3:AD$32, AD26, AE$3:AE$32, AE26, AF$3:AF$32, AF26, AG$3:AG$32, ">"&AG26) + COUNTIFS(AC$3:AC$32, AC26, AD$3:AD$32, AD26, AE$3:AE$32, AE26, AF$3:AF$32, AF26, AG$3:AG$32, AG26, AH$3:AH$32, ">"&AH26) + COUNTIFS(AC$3:AC$32, AC26, AD$3:AD$32, AD26, AE$3:AE$32, AE26, AF$3:AF$32, AF26, AG$3:AG$32, AG26, AH$3:AH$32, AH26, AI$3:AI$32, ">"&AI26) + COUNTIFS(AC$3:AC$32, AC26, AD$3:AD$32, AD26, AE$3:AE$32, AE26, AF$3:AF$32, AF26, AG$3:AG$32, AG26, AH$3:AH$32, AH26, AI$3:AI$32, AI26, AJ$3:AJ$32, ">"&AJ26) + COUNTIFS(AC$3:AC$32, AC26, AD$3:AD$32, AD26, AE$3:AE$32, AE26, AF$3:AF$32, AF26, AG$3:AG$32, AG26, AH$3:AH$32, AH26, AI$3:AI$32, AI26, AJ$3:AJ$32, AJ26, AK$3:AK$32, ">"&AK26) + COUNTIFS(AC$3:AC$32, AC26, AD$3:AD$32, AD26, AE$3:AE$32, AE26, AF$3:AF$32, AF26, AG$3:AG$32, AG26, AH$3:AH$32, AH26, AI$3:AI$32, AI26, AJ$3:AJ$32, AJ26, AK$3:AK$32, AK26, AL$3:AL$32, ">"&AL26) ) | AN26: =IF(OR(AO26="", AO26="N/A"), "", 1 + COUNTIFS(AP$3:AP$32, ">"&AP26) + COUNTIFS(AP$3:AP$32, AP26, AQ$3:AQ$32, "<"&AQ26) + COUNTIFS(AP$3:AP$32, AP26, AQ$3:AQ$32, AQ26, AR$3:AR$32, "<"&AR26) + COUNTIFS(AP$3:AP$32, AP26, AQ$3:AQ$32, AQ26, AR$3:AR$32, AR26, AS$3:AS$32, ">"&AS26) + COUNTIFS(AP$3:AP$32, AP26, AQ$3:AQ$32, AQ26, AR$3:AR$32, AR26, AS$3:AS$32, AS26, AT$3:AT$32, ">"&AT26) + COUNTIFS(AP$3:AP$32, AP26, AQ$3:AQ$32, AQ26, AR$3:AR$32, AR26, AS$3:AS$32, AS26, AT$3:AT$32, AT26, AU$3:AU$32, ">"&AU26) + COUNTIFS(AP$3:AP$32, AP26, AQ$3:AQ$32, AQ26, AR$3:AR$32, AR26, AS$3:AS$32, AS26, AT$3:AT$32, AT26, AU$3:AU$32, AU26, AV$3:AV$32, ">"&AV26) + COUNTIFS(AP$3:AP$32, AP26, AQ$3:AQ$32, AQ26, AR$3:AR$32, AR26, AS$3:AS$32, AS26, AT$3:AT$32, AT26, AU$3:AU$32, AU26, AV$3:AV$32, AV26, AW$3:AW$32, ">"&AW26) + COUNTIFS(AP$3:AP$32, AP26, AQ$3:AQ$32, AQ26, AR$3:AR$32, AR26, AS$3:AS$32, AS26, AT$3:AT$32, AT26, AU$3:AU$32, AU26, AV$3:AV$32, AV26, AW$3:AW$32, AW26, AX$3:AX$32, ">"&AX26) + COUNTIFS(AP$3:AP$32, AP26, AQ$3:AQ$32, AQ26, AR$3:AR$32, AR26, AS$3:AS$32, AS26, AT$3:AT$32, AT26, AU$3:AU$32, AU26, AV$3:AV$32, AV26, AW$3:AW$32, AW26, AX$3:AX$32, AX26, AY$3:AY$32, ">"&AY26) )
A27: =IF(OR(B27="", B27="N/A"), "", 1 + COUNTIFS(C$3:C$32, ">"&C27) + COUNTIFS(C$3:C$32, C27, D$3:D$32, "<"&D27) + COUNTIFS(C$3:C$32, C27, D$3:D$32, D27, E$3:E$32, "<"&E27) + COUNTIFS(C$3:C$32, C27, D$3:D$32, D27, E$3:E$32, E27, F$3:F$32, ">"&F27) + COUNTIFS(C$3:C$32, C27, D$3:D$32, D27, E$3:E$32, E27, F$3:F$32, F27, G$3:G$32, ">"&G27) + COUNTIFS(C$3:C$32, C27, D$3:D$32, D27, E$3:E$32, E27, F$3:F$32, F27, G$3:G$32, G27, H$3:H$32, ">"&H27) + COUNTIFS(C$3:C$32, C27, D$3:D$32, D27, E$3:E$32, E27, F$3:F$32, F27, G$3:G$32, G27, H$3:H$32, H27, I$3:I$32, ">"&I27) + COUNTIFS(C$3:C$32, C27, D$3:D$32, D27, E$3:E$32, E27, F$3:F$32, F27, G$3:G$32, G27, H$3:H$32, H27, I$3:I$32, I27, J$3:J$32, ">"&J27) + COUNTIFS(C$3:C$32, C27, D$3:D$32, D27, E$3:E$32, E27, F$3:F$32, F27, G$3:G$32, G27, H$3:H$32, H27, I$3:I$32, I27, J$3:J$32, J27, K$3:K$32, ">"&K27) + COUNTIFS(C$3:C$32, C27, D$3:D$32, D27, E$3:E$32, E27, F$3:F$32, F27, G$3:G$32, G27, H$3:H$32, H27, I$3:I$32, I27, J$3:J$32, J27, K$3:K$32, K27, L$3:L$32, ">"&L27) ) | N27: =IF(OR(O27="", O27="N/A"), "", 1 + COUNTIFS(P$3:P$32, ">"&P27) + COUNTIFS(P$3:P$32, P27, Q$3:Q$32, "<"&Q27) + COUNTIFS(P$3:P$32, P27, Q$3:Q$32, Q27, R$3:R$32, "<"&R27) + COUNTIFS(P$3:P$32, P27, Q$3:Q$32, Q27, R$3:R$32, R27, S$3:S$32, ">"&S27) + COUNTIFS(P$3:P$32, P27, Q$3:Q$32, Q27, R$3:R$32, R27, S$3:S$32, S27, T$3:T$32, ">"&T27) + COUNTIFS(P$3:P$32, P27, Q$3:Q$32, Q27, R$3:R$32, R27, S$3:S$32, S27, T$3:T$32, T27, U$3:U$32, ">"&U27) + COUNTIFS(P$3:P$32, P27, Q$3:Q$32, Q27, R$3:R$32, R27, S$3:S$32, S27, T$3:T$32, T27, U$3:U$32, U27, V$3:V$32, ">"&V27) + COUNTIFS(P$3:P$32, P27, Q$3:Q$32, Q27, R$3:R$32, R27, S$3:S$32, S27, T$3:T$32, T27, U$3:U$32, U27, V$3:V$32, V27, W$3:W$32, ">"&W27) + COUNTIFS(P$3:P$32, P27, Q$3:Q$32, Q27, R$3:R$32, R27, S$3:S$32, S27, T$3:T$32, T27, U$3:U$32, U27, V$3:V$32, V27, W$3:W$32, W27, X$3:X$32, ">"&X27) + COUNTIFS(P$3:P$32, P27, Q$3:Q$32, Q27, R$3:R$32, R27, S$3:S$32, S27, T$3:T$32, T27, U$3:U$32, U27, V$3:V$32, V27, W$3:W$32, W27, X$3:X$32, X27, Y$3:Y$32, ">"&Y27) ) | AA27: =IF(OR(AB27="", AB27="N/A"), "", 1 + COUNTIFS(AC$3:AC$32, ">"&AC27) + COUNTIFS(AC$3:AC$32, AC27, AD$3:AD$32, "<"&AD27) + COUNTIFS(AC$3:AC$32, AC27, AD$3:AD$32, AD27, AE$3:AE$32, "<"&AE27) + COUNTIFS(AC$3:AC$32, AC27, AD$3:AD$32, AD27, AE$3:AE$32, AE27, AF$3:AF$32, ">"&AF27) + COUNTIFS(AC$3:AC$32, AC27, AD$3:AD$32, AD27, AE$3:AE$32, AE27, AF$3:AF$32, AF27, AG$3:AG$32, ">"&AG27) + COUNTIFS(AC$3:AC$32, AC27, AD$3:AD$32, AD27, AE$3:AE$32, AE27, AF$3:AF$32, AF27, AG$3:AG$32, AG27, AH$3:AH$32, ">"&AH27) + COUNTIFS(AC$3:AC$32, AC27, AD$3:AD$32, AD27, AE$3:AE$32, AE27, AF$3:AF$32, AF27, AG$3:AG$32, AG27, AH$3:AH$32, AH27, AI$3:AI$32, ">"&AI27) + COUNTIFS(AC$3:AC$32, AC27, AD$3:AD$32, AD27, AE$3:AE$32, AE27, AF$3:AF$32, AF27, AG$3:AG$32, AG27, AH$3:AH$32, AH27, AI$3:AI$32, AI27, AJ$3:AJ$32, ">"&AJ27) + COUNTIFS(AC$3:AC$32, AC27, AD$3:AD$32, AD27, AE$3:AE$32, AE27, AF$3:AF$32, AF27, AG$3:AG$32, AG27, AH$3:AH$32, AH27, AI$3:AI$32, AI27, AJ$3:AJ$32, AJ27, AK$3:AK$32, ">"&AK27) + COUNTIFS(AC$3:AC$32, AC27, AD$3:AD$32, AD27, AE$3:AE$32, AE27, AF$3:AF$32, AF27, AG$3:AG$32, AG27, AH$3:AH$32, AH27, AI$3:AI$32, AI27, AJ$3:AJ$32, AJ27, AK$3:AK$32, AK27, AL$3:AL$32, ">"&AL27) ) | AN27: =IF(OR(AO27="", AO27="N/A"), "", 1 + COUNTIFS(AP$3:AP$32, ">"&AP27) + COUNTIFS(AP$3:AP$32, AP27, AQ$3:AQ$32, "<"&AQ27) + COUNTIFS(AP$3:AP$32, AP27, AQ$3:AQ$32, AQ27, AR$3:AR$32, "<"&AR27) + COUNTIFS(AP$3:AP$32, AP27, AQ$3:AQ$32, AQ27, AR$3:AR$32, AR27, AS$3:AS$32, ">"&AS27) + COUNTIFS(AP$3:AP$32, AP27, AQ$3:AQ$32, AQ27, AR$3:AR$32, AR27, AS$3:AS$32, AS27, AT$3:AT$32, ">"&AT27) + COUNTIFS(AP$3:AP$32, AP27, AQ$3:AQ$32, AQ27, AR$3:AR$32, AR27, AS$3:AS$32, AS27, AT$3:AT$32, AT27, AU$3:AU$32, ">"&AU27) + COUNTIFS(AP$3:AP$32, AP27, AQ$3:AQ$32, AQ27, AR$3:AR$32, AR27, AS$3:AS$32, AS27, AT$3:AT$32, AT27, AU$3:AU$32, AU27, AV$3:AV$32, ">"&AV27) + COUNTIFS(AP$3:AP$32, AP27, AQ$3:AQ$32, AQ27, AR$3:AR$32, AR27, AS$3:AS$32, AS27, AT$3:AT$32, AT27, AU$3:AU$32, AU27, AV$3:AV$32, AV27, AW$3:AW$32, ">"&AW27) + COUNTIFS(AP$3:AP$32, AP27, AQ$3:AQ$32, AQ27, AR$3:AR$32, AR27, AS$3:AS$32, AS27, AT$3:AT$32, AT27, AU$3:AU$32, AU27, AV$3:AV$32, AV27, AW$3:AW$32, AW27, AX$3:AX$32, ">"&AX27) + COUNTIFS(AP$3:AP$32, AP27, AQ$3:AQ$32, AQ27, AR$3:AR$32, AR27, AS$3:AS$32, AS27, AT$3:AT$32, AT27, AU$3:AU$32, AU27, AV$3:AV$32, AV27, AW$3:AW$32, AW27, AX$3:AX$32, AX27, AY$3:AY$32, ">"&AY27) )
A28: =IF(OR(B28="", B28="N/A"), "", 1 + COUNTIFS(C$3:C$32, ">"&C28) + COUNTIFS(C$3:C$32, C28, D$3:D$32, "<"&D28) + COUNTIFS(C$3:C$32, C28, D$3:D$32, D28, E$3:E$32, "<"&E28) + COUNTIFS(C$3:C$32, C28, D$3:D$32, D28, E$3:E$32, E28, F$3:F$32, ">"&F28) + COUNTIFS(C$3:C$32, C28, D$3:D$32, D28, E$3:E$32, E28, F$3:F$32, F28, G$3:G$32, ">"&G28) + COUNTIFS(C$3:C$32, C28, D$3:D$32, D28, E$3:E$32, E28, F$3:F$32, F28, G$3:G$32, G28, H$3:H$32, ">"&H28) + COUNTIFS(C$3:C$32, C28, D$3:D$32, D28, E$3:E$32, E28, F$3:F$32, F28, G$3:G$32, G28, H$3:H$32, H28, I$3:I$32, ">"&I28) + COUNTIFS(C$3:C$32, C28, D$3:D$32, D28, E$3:E$32, E28, F$3:F$32, F28, G$3:G$32, G28, H$3:H$32, H28, I$3:I$32, I28, J$3:J$32, ">"&J28) + COUNTIFS(C$3:C$32, C28, D$3:D$32, D28, E$3:E$32, E28, F$3:F$32, F28, G$3:G$32, G28, H$3:H$32, H28, I$3:I$32, I28, J$3:J$32, J28, K$3:K$32, ">"&K28) + COUNTIFS(C$3:C$32, C28, D$3:D$32, D28, E$3:E$32, E28, F$3:F$32, F28, G$3:G$32, G28, H$3:H$32, H28, I$3:I$32, I28, J$3:J$32, J28, K$3:K$32, K28, L$3:L$32, ">"&L28) ) | N28: =IF(OR(O28="", O28="N/A"), "", 1 + COUNTIFS(P$3:P$32, ">"&P28) + COUNTIFS(P$3:P$32, P28, Q$3:Q$32, "<"&Q28) + COUNTIFS(P$3:P$32, P28, Q$3:Q$32, Q28, R$3:R$32, "<"&R28) + COUNTIFS(P$3:P$32, P28, Q$3:Q$32, Q28, R$3:R$32, R28, S$3:S$32, ">"&S28) + COUNTIFS(P$3:P$32, P28, Q$3:Q$32, Q28, R$3:R$32, R28, S$3:S$32, S28, T$3:T$32, ">"&T28) + COUNTIFS(P$3:P$32, P28, Q$3:Q$32, Q28, R$3:R$32, R28, S$3:S$32, S28, T$3:T$32, T28, U$3:U$32, ">"&U28) + COUNTIFS(P$3:P$32, P28, Q$3:Q$32, Q28, R$3:R$32, R28, S$3:S$32, S28, T$3:T$32, T28, U$3:U$32, U28, V$3:V$32, ">"&V28) + COUNTIFS(P$3:P$32, P28, Q$3:Q$32, Q28, R$3:R$32, R28, S$3:S$32, S28, T$3:T$32, T28, U$3:U$32, U28, V$3:V$32, V28, W$3:W$32, ">"&W28) + COUNTIFS(P$3:P$32, P28, Q$3:Q$32, Q28, R$3:R$32, R28, S$3:S$32, S28, T$3:T$32, T28, U$3:U$32, U28, V$3:V$32, V28, W$3:W$32, W28, X$3:X$32, ">"&X28) + COUNTIFS(P$3:P$32, P28, Q$3:Q$32, Q28, R$3:R$32, R28, S$3:S$32, S28, T$3:T$32, T28, U$3:U$32, U28, V$3:V$32, V28, W$3:W$32, W28, X$3:X$32, X28, Y$3:Y$32, ">"&Y28) ) | AA28: =IF(OR(AB28="", AB28="N/A"), "", 1 + COUNTIFS(AC$3:AC$32, ">"&AC28) + COUNTIFS(AC$3:AC$32, AC28, AD$3:AD$32, "<"&AD28) + COUNTIFS(AC$3:AC$32, AC28, AD$3:AD$32, AD28, AE$3:AE$32, "<"&AE28) + COUNTIFS(AC$3:AC$32, AC28, AD$3:AD$32, AD28, AE$3:AE$32, AE28, AF$3:AF$32, ">"&AF28) + COUNTIFS(AC$3:AC$32, AC28, AD$3:AD$32, AD28, AE$3:AE$32, AE28, AF$3:AF$32, AF28, AG$3:AG$32, ">"&AG28) + COUNTIFS(AC$3:AC$32, AC28, AD$3:AD$32, AD28, AE$3:AE$32, AE28, AF$3:AF$32, AF28, AG$3:AG$32, AG28, AH$3:AH$32, ">"&AH28) + COUNTIFS(AC$3:AC$32, AC28, AD$3:AD$32, AD28, AE$3:AE$32, AE28, AF$3:AF$32, AF28, AG$3:AG$32, AG28, AH$3:AH$32, AH28, AI$3:AI$32, ">"&AI28) + COUNTIFS(AC$3:AC$32, AC28, AD$3:AD$32, AD28, AE$3:AE$32, AE28, AF$3:AF$32, AF28, AG$3:AG$32, AG28, AH$3:AH$32, AH28, AI$3:AI$32, AI28, AJ$3:AJ$32, ">"&AJ28) + COUNTIFS(AC$3:AC$32, AC28, AD$3:AD$32, AD28, AE$3:AE$32, AE28, AF$3:AF$32, AF28, AG$3:AG$32, AG28, AH$3:AH$32, AH28, AI$3:AI$32, AI28, AJ$3:AJ$32, AJ28, AK$3:AK$32, ">"&AK28) + COUNTIFS(AC$3:AC$32, AC28, AD$3:AD$32, AD28, AE$3:AE$32, AE28, AF$3:AF$32, AF28, AG$3:AG$32, AG28, AH$3:AH$32, AH28, AI$3:AI$32, AI28, AJ$3:AJ$32, AJ28, AK$3:AK$32, AK28, AL$3:AL$32, ">"&AL28) ) | AN28: =IF(OR(AO28="", AO28="N/A"), "", 1 + COUNTIFS(AP$3:AP$32, ">"&AP28) + COUNTIFS(AP$3:AP$32, AP28, AQ$3:AQ$32, "<"&AQ28) + COUNTIFS(AP$3:AP$32, AP28, AQ$3:AQ$32, AQ28, AR$3:AR$32, "<"&AR28) + COUNTIFS(AP$3:AP$32, AP28, AQ$3:AQ$32, AQ28, AR$3:AR$32, AR28, AS$3:AS$32, ">"&AS28) + COUNTIFS(AP$3:AP$32, AP28, AQ$3:AQ$32, AQ28, AR$3:AR$32, AR28, AS$3:AS$32, AS28, AT$3:AT$32, ">"&AT28) + COUNTIFS(AP$3:AP$32, AP28, AQ$3:AQ$32, AQ28, AR$3:AR$32, AR28, AS$3:AS$32, AS28, AT$3:AT$32, AT28, AU$3:AU$32, ">"&AU28) + COUNTIFS(AP$3:AP$32, AP28, AQ$3:AQ$32, AQ28, AR$3:AR$32, AR28, AS$3:AS$32, AS28, AT$3:AT$32, AT28, AU$3:AU$32, AU28, AV$3:AV$32, ">"&AV28) + COUNTIFS(AP$3:AP$32, AP28, AQ$3:AQ$32, AQ28, AR$3:AR$32, AR28, AS$3:AS$32, AS28, AT$3:AT$32, AT28, AU$3:AU$32, AU28, AV$3:AV$32, AV28, AW$3:AW$32, ">"&AW28) + COUNTIFS(AP$3:AP$32, AP28, AQ$3:AQ$32, AQ28, AR$3:AR$32, AR28, AS$3:AS$32, AS28, AT$3:AT$32, AT28, AU$3:AU$32, AU28, AV$3:AV$32, AV28, AW$3:AW$32, AW28, AX$3:AX$32, ">"&AX28) + COUNTIFS(AP$3:AP$32, AP28, AQ$3:AQ$32, AQ28, AR$3:AR$32, AR28, AS$3:AS$32, AS28, AT$3:AT$32, AT28, AU$3:AU$32, AU28, AV$3:AV$32, AV28, AW$3:AW$32, AW28, AX$3:AX$32, AX28, AY$3:AY$32, ">"&AY28) )
A29: =IF(OR(B29="", B29="N/A"), "", 1 + COUNTIFS(C$3:C$32, ">"&C29) + COUNTIFS(C$3:C$32, C29, D$3:D$32, "<"&D29) + COUNTIFS(C$3:C$32, C29, D$3:D$32, D29, E$3:E$32, "<"&E29) + COUNTIFS(C$3:C$32, C29, D$3:D$32, D29, E$3:E$32, E29, F$3:F$32, ">"&F29) + COUNTIFS(C$3:C$32, C29, D$3:D$32, D29, E$3:E$32, E29, F$3:F$32, F29, G$3:G$32, ">"&G29) + COUNTIFS(C$3:C$32, C29, D$3:D$32, D29, E$3:E$32, E29, F$3:F$32, F29, G$3:G$32, G29, H$3:H$32, ">"&H29) + COUNTIFS(C$3:C$32, C29, D$3:D$32, D29, E$3:E$32, E29, F$3:F$32, F29, G$3:G$32, G29, H$3:H$32, H29, I$3:I$32, ">"&I29) + COUNTIFS(C$3:C$32, C29, D$3:D$32, D29, E$3:E$32, E29, F$3:F$32, F29, G$3:G$32, G29, H$3:H$32, H29, I$3:I$32, I29, J$3:J$32, ">"&J29) + COUNTIFS(C$3:C$32, C29, D$3:D$32, D29, E$3:E$32, E29, F$3:F$32, F29, G$3:G$32, G29, H$3:H$32, H29, I$3:I$32, I29, J$3:J$32, J29, K$3:K$32, ">"&K29) + COUNTIFS(C$3:C$32, C29, D$3:D$32, D29, E$3:E$32, E29, F$3:F$32, F29, G$3:G$32, G29, H$3:H$32, H29, I$3:I$32, I29, J$3:J$32, J29, K$3:K$32, K29, L$3:L$32, ">"&L29) ) | N29: =IF(OR(O29="", O29="N/A"), "", 1 + COUNTIFS(P$3:P$32, ">"&P29) + COUNTIFS(P$3:P$32, P29, Q$3:Q$32, "<"&Q29) + COUNTIFS(P$3:P$32, P29, Q$3:Q$32, Q29, R$3:R$32, "<"&R29) + COUNTIFS(P$3:P$32, P29, Q$3:Q$32, Q29, R$3:R$32, R29, S$3:S$32, ">"&S29) + COUNTIFS(P$3:P$32, P29, Q$3:Q$32, Q29, R$3:R$32, R29, S$3:S$32, S29, T$3:T$32, ">"&T29) + COUNTIFS(P$3:P$32, P29, Q$3:Q$32, Q29, R$3:R$32, R29, S$3:S$32, S29, T$3:T$32, T29, U$3:U$32, ">"&U29) + COUNTIFS(P$3:P$32, P29, Q$3:Q$32, Q29, R$3:R$32, R29, S$3:S$32, S29, T$3:T$32, T29, U$3:U$32, U29, V$3:V$32, ">"&V29) + COUNTIFS(P$3:P$32, P29, Q$3:Q$32, Q29, R$3:R$32, R29, S$3:S$32, S29, T$3:T$32, T29, U$3:U$32, U29, V$3:V$32, V29, W$3:W$32, ">"&W29) + COUNTIFS(P$3:P$32, P29, Q$3:Q$32, Q29, R$3:R$32, R29, S$3:S$32, S29, T$3:T$32, T29, U$3:U$32, U29, V$3:V$32, V29, W$3:W$32, W29, X$3:X$32, ">"&X29) + COUNTIFS(P$3:P$32, P29, Q$3:Q$32, Q29, R$3:R$32, R29, S$3:S$32, S29, T$3:T$32, T29, U$3:U$32, U29, V$3:V$32, V29, W$3:W$32, W29, X$3:X$32, X29, Y$3:Y$32, ">"&Y29) ) | AA29: =IF(OR(AB29="", AB29="N/A"), "", 1 + COUNTIFS(AC$3:AC$32, ">"&AC29) + COUNTIFS(AC$3:AC$32, AC29, AD$3:AD$32, "<"&AD29) + COUNTIFS(AC$3:AC$32, AC29, AD$3:AD$32, AD29, AE$3:AE$32, "<"&AE29) + COUNTIFS(AC$3:AC$32, AC29, AD$3:AD$32, AD29, AE$3:AE$32, AE29, AF$3:AF$32, ">"&AF29) + COUNTIFS(AC$3:AC$32, AC29, AD$3:AD$32, AD29, AE$3:AE$32, AE29, AF$3:AF$32, AF29, AG$3:AG$32, ">"&AG29) + COUNTIFS(AC$3:AC$32, AC29, AD$3:AD$32, AD29, AE$3:AE$32, AE29, AF$3:AF$32, AF29, AG$3:AG$32, AG29, AH$3:AH$32, ">"&AH29) + COUNTIFS(AC$3:AC$32, AC29, AD$3:AD$32, AD29, AE$3:AE$32, AE29, AF$3:AF$32, AF29, AG$3:AG$32, AG29, AH$3:AH$32, AH29, AI$3:AI$32, ">"&AI29) + COUNTIFS(AC$3:AC$32, AC29, AD$3:AD$32, AD29, AE$3:AE$32, AE29, AF$3:AF$32, AF29, AG$3:AG$32, AG29, AH$3:AH$32, AH29, AI$3:AI$32, AI29, AJ$3:AJ$32, ">"&AJ29) + COUNTIFS(AC$3:AC$32, AC29, AD$3:AD$32, AD29, AE$3:AE$32, AE29, AF$3:AF$32, AF29, AG$3:AG$32, AG29, AH$3:AH$32, AH29, AI$3:AI$32, AI29, AJ$3:AJ$32, AJ29, AK$3:AK$32, ">"&AK29) + COUNTIFS(AC$3:AC$32, AC29, AD$3:AD$32, AD29, AE$3:AE$32, AE29, AF$3:AF$32, AF29, AG$3:AG$32, AG29, AH$3:AH$32, AH29, AI$3:AI$32, AI29, AJ$3:AJ$32, AJ29, AK$3:AK$32, AK29, AL$3:AL$32, ">"&AL29) ) | AN29: =IF(OR(AO29="", AO29="N/A"), "", 1 + COUNTIFS(AP$3:AP$32, ">"&AP29) + COUNTIFS(AP$3:AP$32, AP29, AQ$3:AQ$32, "<"&AQ29) + COUNTIFS(AP$3:AP$32, AP29, AQ$3:AQ$32, AQ29, AR$3:AR$32, "<"&AR29) + COUNTIFS(AP$3:AP$32, AP29, AQ$3:AQ$32, AQ29, AR$3:AR$32, AR29, AS$3:AS$32, ">"&AS29) + COUNTIFS(AP$3:AP$32, AP29, AQ$3:AQ$32, AQ29, AR$3:AR$32, AR29, AS$3:AS$32, AS29, AT$3:AT$32, ">"&AT29) + COUNTIFS(AP$3:AP$32, AP29, AQ$3:AQ$32, AQ29, AR$3:AR$32, AR29, AS$3:AS$32, AS29, AT$3:AT$32, AT29, AU$3:AU$32, ">"&AU29) + COUNTIFS(AP$3:AP$32, AP29, AQ$3:AQ$32, AQ29, AR$3:AR$32, AR29, AS$3:AS$32, AS29, AT$3:AT$32, AT29, AU$3:AU$32, AU29, AV$3:AV$32, ">"&AV29) + COUNTIFS(AP$3:AP$32, AP29, AQ$3:AQ$32, AQ29, AR$3:AR$32, AR29, AS$3:AS$32, AS29, AT$3:AT$32, AT29, AU$3:AU$32, AU29, AV$3:AV$32, AV29, AW$3:AW$32, ">"&AW29) + COUNTIFS(AP$3:AP$32, AP29, AQ$3:AQ$32, AQ29, AR$3:AR$32, AR29, AS$3:AS$32, AS29, AT$3:AT$32, AT29, AU$3:AU$32, AU29, AV$3:AV$32, AV29, AW$3:AW$32, AW29, AX$3:AX$32, ">"&AX29) + COUNTIFS(AP$3:AP$32, AP29, AQ$3:AQ$32, AQ29, AR$3:AR$32, AR29, AS$3:AS$32, AS29, AT$3:AT$32, AT29, AU$3:AU$32, AU29, AV$3:AV$32, AV29, AW$3:AW$32, AW29, AX$3:AX$32, AX29, AY$3:AY$32, ">"&AY29) )
A30: =IF(OR(B30="", B30="N/A"), "", 1 + COUNTIFS(C$3:C$32, ">"&C30) + COUNTIFS(C$3:C$32, C30, D$3:D$32, "<"&D30) + COUNTIFS(C$3:C$32, C30, D$3:D$32, D30, E$3:E$32, "<"&E30) + COUNTIFS(C$3:C$32, C30, D$3:D$32, D30, E$3:E$32, E30, F$3:F$32, ">"&F30) + COUNTIFS(C$3:C$32, C30, D$3:D$32, D30, E$3:E$32, E30, F$3:F$32, F30, G$3:G$32, ">"&G30) + COUNTIFS(C$3:C$32, C30, D$3:D$32, D30, E$3:E$32, E30, F$3:F$32, F30, G$3:G$32, G30, H$3:H$32, ">"&H30) + COUNTIFS(C$3:C$32, C30, D$3:D$32, D30, E$3:E$32, E30, F$3:F$32, F30, G$3:G$32, G30, H$3:H$32, H30, I$3:I$32, ">"&I30) + COUNTIFS(C$3:C$32, C30, D$3:D$32, D30, E$3:E$32, E30, F$3:F$32, F30, G$3:G$32, G30, H$3:H$32, H30, I$3:I$32, I30, J$3:J$32, ">"&J30) + COUNTIFS(C$3:C$32, C30, D$3:D$32, D30, E$3:E$32, E30, F$3:F$32, F30, G$3:G$32, G30, H$3:H$32, H30, I$3:I$32, I30, J$3:J$32, J30, K$3:K$32, ">"&K30) + COUNTIFS(C$3:C$32, C30, D$3:D$32, D30, E$3:E$32, E30, F$3:F$32, F30, G$3:G$32, G30, H$3:H$32, H30, I$3:I$32, I30, J$3:J$32, J30, K$3:K$32, K30, L$3:L$32, ">"&L30) ) | N30: =IF(OR(O30="", O30="N/A"), "", 1 + COUNTIFS(P$3:P$32, ">"&P30) + COUNTIFS(P$3:P$32, P30, Q$3:Q$32, "<"&Q30) + COUNTIFS(P$3:P$32, P30, Q$3:Q$32, Q30, R$3:R$32, "<"&R30) + COUNTIFS(P$3:P$32, P30, Q$3:Q$32, Q30, R$3:R$32, R30, S$3:S$32, ">"&S30) + COUNTIFS(P$3:P$32, P30, Q$3:Q$32, Q30, R$3:R$32, R30, S$3:S$32, S30, T$3:T$32, ">"&T30) + COUNTIFS(P$3:P$32, P30, Q$3:Q$32, Q30, R$3:R$32, R30, S$3:S$32, S30, T$3:T$32, T30, U$3:U$32, ">"&U30) + COUNTIFS(P$3:P$32, P30, Q$3:Q$32, Q30, R$3:R$32, R30, S$3:S$32, S30, T$3:T$32, T30, U$3:U$32, U30, V$3:V$32, ">"&V30) + COUNTIFS(P$3:P$32, P30, Q$3:Q$32, Q30, R$3:R$32, R30, S$3:S$32, S30, T$3:T$32, T30, U$3:U$32, U30, V$3:V$32, V30, W$3:W$32, ">"&W30) + COUNTIFS(P$3:P$32, P30, Q$3:Q$32, Q30, R$3:R$32, R30, S$3:S$32, S30, T$3:T$32, T30, U$3:U$32, U30, V$3:V$32, V30, W$3:W$32, W30, X$3:X$32, ">"&X30) + COUNTIFS(P$3:P$32, P30, Q$3:Q$32, Q30, R$3:R$32, R30, S$3:S$32, S30, T$3:T$32, T30, U$3:U$32, U30, V$3:V$32, V30, W$3:W$32, W30, X$3:X$32, X30, Y$3:Y$32, ">"&Y30) ) | AA30: =IF(OR(AB30="", AB30="N/A"), "", 1 + COUNTIFS(AC$3:AC$32, ">"&AC30) + COUNTIFS(AC$3:AC$32, AC30, AD$3:AD$32, "<"&AD30) + COUNTIFS(AC$3:AC$32, AC30, AD$3:AD$32, AD30, AE$3:AE$32, "<"&AE30) + COUNTIFS(AC$3:AC$32, AC30, AD$3:AD$32, AD30, AE$3:AE$32, AE30, AF$3:AF$32, ">"&AF30) + COUNTIFS(AC$3:AC$32, AC30, AD$3:AD$32, AD30, AE$3:AE$32, AE30, AF$3:AF$32, AF30, AG$3:AG$32, ">"&AG30) + COUNTIFS(AC$3:AC$32, AC30, AD$3:AD$32, AD30, AE$3:AE$32, AE30, AF$3:AF$32, AF30, AG$3:AG$32, AG30, AH$3:AH$32, ">"&AH30) + COUNTIFS(AC$3:AC$32, AC30, AD$3:AD$32, AD30, AE$3:AE$32, AE30, AF$3:AF$32, AF30, AG$3:AG$32, AG30, AH$3:AH$32, AH30, AI$3:AI$32, ">"&AI30) + COUNTIFS(AC$3:AC$32, AC30, AD$3:AD$32, AD30, AE$3:AE$32, AE30, AF$3:AF$32, AF30, AG$3:AG$32, AG30, AH$3:AH$32, AH30, AI$3:AI$32, AI30, AJ$3:AJ$32, ">"&AJ30) + COUNTIFS(AC$3:AC$32, AC30, AD$3:AD$32, AD30, AE$3:AE$32, AE30, AF$3:AF$32, AF30, AG$3:AG$32, AG30, AH$3:AH$32, AH30, AI$3:AI$32, AI30, AJ$3:AJ$32, AJ30, AK$3:AK$32, ">"&AK30) + COUNTIFS(AC$3:AC$32, AC30, AD$3:AD$32, AD30, AE$3:AE$32, AE30, AF$3:AF$32, AF30, AG$3:AG$32, AG30, AH$3:AH$32, AH30, AI$3:AI$32, AI30, AJ$3:AJ$32, AJ30, AK$3:AK$32, AK30, AL$3:AL$32, ">"&AL30) ) | AN30: =IF(OR(AO30="", AO30="N/A"), "", 1 + COUNTIFS(AP$3:AP$32, ">"&AP30) + COUNTIFS(AP$3:AP$32, AP30, AQ$3:AQ$32, "<"&AQ30) + COUNTIFS(AP$3:AP$32, AP30, AQ$3:AQ$32, AQ30, AR$3:AR$32, "<"&AR30) + COUNTIFS(AP$3:AP$32, AP30, AQ$3:AQ$32, AQ30, AR$3:AR$32, AR30, AS$3:AS$32, ">"&AS30) + COUNTIFS(AP$3:AP$32, AP30, AQ$3:AQ$32, AQ30, AR$3:AR$32, AR30, AS$3:AS$32, AS30, AT$3:AT$32, ">"&AT30) + COUNTIFS(AP$3:AP$32, AP30, AQ$3:AQ$32, AQ30, AR$3:AR$32, AR30, AS$3:AS$32, AS30, AT$3:AT$32, AT30, AU$3:AU$32, ">"&AU30) + COUNTIFS(AP$3:AP$32, AP30, AQ$3:AQ$32, AQ30, AR$3:AR$32, AR30, AS$3:AS$32, AS30, AT$3:AT$32, AT30, AU$3:AU$32, AU30, AV$3:AV$32, ">"&AV30) + COUNTIFS(AP$3:AP$32, AP30, AQ$3:AQ$32, AQ30, AR$3:AR$32, AR30, AS$3:AS$32, AS30, AT$3:AT$32, AT30, AU$3:AU$32, AU30, AV$3:AV$32, AV30, AW$3:AW$32, ">"&AW30) + COUNTIFS(AP$3:AP$32, AP30, AQ$3:AQ$32, AQ30, AR$3:AR$32, AR30, AS$3:AS$32, AS30, AT$3:AT$32, AT30, AU$3:AU$32, AU30, AV$3:AV$32, AV30, AW$3:AW$32, AW30, AX$3:AX$32, ">"&AX30) + COUNTIFS(AP$3:AP$32, AP30, AQ$3:AQ$32, AQ30, AR$3:AR$32, AR30, AS$3:AS$32, AS30, AT$3:AT$32, AT30, AU$3:AU$32, AU30, AV$3:AV$32, AV30, AW$3:AW$32, AW30, AX$3:AX$32, AX30, AY$3:AY$32, ">"&AY30) )
A31: =IF(OR(B31="", B31="N/A"), "", 1 + COUNTIFS(C$3:C$32, ">"&C31) + COUNTIFS(C$3:C$32, C31, D$3:D$32, "<"&D31) + COUNTIFS(C$3:C$32, C31, D$3:D$32, D31, E$3:E$32, "<"&E31) + COUNTIFS(C$3:C$32, C31, D$3:D$32, D31, E$3:E$32, E31, F$3:F$32, ">"&F31) + COUNTIFS(C$3:C$32, C31, D$3:D$32, D31, E$3:E$32, E31, F$3:F$32, F31, G$3:G$32, ">"&G31) + COUNTIFS(C$3:C$32, C31, D$3:D$32, D31, E$3:E$32, E31, F$3:F$32, F31, G$3:G$32, G31, H$3:H$32, ">"&H31) + COUNTIFS(C$3:C$32, C31, D$3:D$32, D31, E$3:E$32, E31, F$3:F$32, F31, G$3:G$32, G31, H$3:H$32, H31, I$3:I$32, ">"&I31) + COUNTIFS(C$3:C$32, C31, D$3:D$32, D31, E$3:E$32, E31, F$3:F$32, F31, G$3:G$32, G31, H$3:H$32, H31, I$3:I$32, I31, J$3:J$32, ">"&J31) + COUNTIFS(C$3:C$32, C31, D$3:D$32, D31, E$3:E$32, E31, F$3:F$32, F31, G$3:G$32, G31, H$3:H$32, H31, I$3:I$32, I31, J$3:J$32, J31, K$3:K$32, ">"&K31) + COUNTIFS(C$3:C$32, C31, D$3:D$32, D31, E$3:E$32, E31, F$3:F$32, F31, G$3:G$32, G31, H$3:H$32, H31, I$3:I$32, I31, J$3:J$32, J31, K$3:K$32, K31, L$3:L$32, ">"&L31) ) | N31: =IF(OR(O31="", O31="N/A"), "", 1 + COUNTIFS(P$3:P$32, ">"&P31) + COUNTIFS(P$3:P$32, P31, Q$3:Q$32, "<"&Q31) + COUNTIFS(P$3:P$32, P31, Q$3:Q$32, Q31, R$3:R$32, "<"&R31) + COUNTIFS(P$3:P$32, P31, Q$3:Q$32, Q31, R$3:R$32, R31, S$3:S$32, ">"&S31) + COUNTIFS(P$3:P$32, P31, Q$3:Q$32, Q31, R$3:R$32, R31, S$3:S$32, S31, T$3:T$32, ">"&T31) + COUNTIFS(P$3:P$32, P31, Q$3:Q$32, Q31, R$3:R$32, R31, S$3:S$32, S31, T$3:T$32, T31, U$3:U$32, ">"&U31) + COUNTIFS(P$3:P$32, P31, Q$3:Q$32, Q31, R$3:R$32, R31, S$3:S$32, S31, T$3:T$32, T31, U$3:U$32, U31, V$3:V$32, ">"&V31) + COUNTIFS(P$3:P$32, P31, Q$3:Q$32, Q31, R$3:R$32, R31, S$3:S$32, S31, T$3:T$32, T31, U$3:U$32, U31, V$3:V$32, V31, W$3:W$32, ">"&W31) + COUNTIFS(P$3:P$32, P31, Q$3:Q$32, Q31, R$3:R$32, R31, S$3:S$32, S31, T$3:T$32, T31, U$3:U$32, U31, V$3:V$32, V31, W$3:W$32, W31, X$3:X$32, ">"&X31) + COUNTIFS(P$3:P$32, P31, Q$3:Q$32, Q31, R$3:R$32, R31, S$3:S$32, S31, T$3:T$32, T31, U$3:U$32, U31, V$3:V$32, V31, W$3:W$32, W31, X$3:X$32, X31, Y$3:Y$32, ">"&Y31) ) | AA31: =IF(OR(AB31="", AB31="N/A"), "", 1 + COUNTIFS(AC$3:AC$32, ">"&AC31) + COUNTIFS(AC$3:AC$32, AC31, AD$3:AD$32, "<"&AD31) + COUNTIFS(AC$3:AC$32, AC31, AD$3:AD$32, AD31, AE$3:AE$32, "<"&AE31) + COUNTIFS(AC$3:AC$32, AC31, AD$3:AD$32, AD31, AE$3:AE$32, AE31, AF$3:AF$32, ">"&AF31) + COUNTIFS(AC$3:AC$32, AC31, AD$3:AD$32, AD31, AE$3:AE$32, AE31, AF$3:AF$32, AF31, AG$3:AG$32, ">"&AG31) + COUNTIFS(AC$3:AC$32, AC31, AD$3:AD$32, AD31, AE$3:AE$32, AE31, AF$3:AF$32, AF31, AG$3:AG$32, AG31, AH$3:AH$32, ">"&AH31) + COUNTIFS(AC$3:AC$32, AC31, AD$3:AD$32, AD31, AE$3:AE$32, AE31, AF$3:AF$32, AF31, AG$3:AG$32, AG31, AH$3:AH$32, AH31, AI$3:AI$32, ">"&AI31) + COUNTIFS(AC$3:AC$32, AC31, AD$3:AD$32, AD31, AE$3:AE$32, AE31, AF$3:AF$32, AF31, AG$3:AG$32, AG31, AH$3:AH$32, AH31, AI$3:AI$32, AI31, AJ$3:AJ$32, ">"&AJ31) + COUNTIFS(AC$3:AC$32, AC31, AD$3:AD$32, AD31, AE$3:AE$32, AE31, AF$3:AF$32, AF31, AG$3:AG$32, AG31, AH$3:AH$32, AH31, AI$3:AI$32, AI31, AJ$3:AJ$32, AJ31, AK$3:AK$32, ">"&AK31) + COUNTIFS(AC$3:AC$32, AC31, AD$3:AD$32, AD31, AE$3:AE$32, AE31, AF$3:AF$32, AF31, AG$3:AG$32, AG31, AH$3:AH$32, AH31, AI$3:AI$32, AI31, AJ$3:AJ$32, AJ31, AK$3:AK$32, AK31, AL$3:AL$32, ">"&AL31) ) | AN31: =IF(OR(AO31="", AO31="N/A"), "", 1 + COUNTIFS(AP$3:AP$32, ">"&AP31) + COUNTIFS(AP$3:AP$32, AP31, AQ$3:AQ$32, "<"&AQ31) + COUNTIFS(AP$3:AP$32, AP31, AQ$3:AQ$32, AQ31, AR$3:AR$32, "<"&AR31) + COUNTIFS(AP$3:AP$32, AP31, AQ$3:AQ$32, AQ31, AR$3:AR$32, AR31, AS$3:AS$32, ">"&AS31) + COUNTIFS(AP$3:AP$32, AP31, AQ$3:AQ$32, AQ31, AR$3:AR$32, AR31, AS$3:AS$32, AS31, AT$3:AT$32, ">"&AT31) + COUNTIFS(AP$3:AP$32, AP31, AQ$3:AQ$32, AQ31, AR$3:AR$32, AR31, AS$3:AS$32, AS31, AT$3:AT$32, AT31, AU$3:AU$32, ">"&AU31) + COUNTIFS(AP$3:AP$32, AP31, AQ$3:AQ$32, AQ31, AR$3:AR$32, AR31, AS$3:AS$32, AS31, AT$3:AT$32, AT31, AU$3:AU$32, AU31, AV$3:AV$32, ">"&AV31) + COUNTIFS(AP$3:AP$32, AP31, AQ$3:AQ$32, AQ31, AR$3:AR$32, AR31, AS$3:AS$32, AS31, AT$3:AT$32, AT31, AU$3:AU$32, AU31, AV$3:AV$32, AV31, AW$3:AW$32, ">"&AW31) + COUNTIFS(AP$3:AP$32, AP31, AQ$3:AQ$32, AQ31, AR$3:AR$32, AR31, AS$3:AS$32, AS31, AT$3:AT$32, AT31, AU$3:AU$32, AU31, AV$3:AV$32, AV31, AW$3:AW$32, AW31, AX$3:AX$32, ">"&AX31) + COUNTIFS(AP$3:AP$32, AP31, AQ$3:AQ$32, AQ31, AR$3:AR$32, AR31, AS$3:AS$32, AS31, AT$3:AT$32, AT31, AU$3:AU$32, AU31, AV$3:AV$32, AV31, AW$3:AW$32, AW31, AX$3:AX$32, AX31, AY$3:AY$32, ">"&AY31) )
A32: =IF(OR(B32="", B32="N/A"), "", 1 + COUNTIFS(C$3:C$32, ">"&C32) + COUNTIFS(C$3:C$32, C32, D$3:D$32, "<"&D32) + COUNTIFS(C$3:C$32, C32, D$3:D$32, D32, E$3:E$32, "<"&E32) + COUNTIFS(C$3:C$32, C32, D$3:D$32, D32, E$3:E$32, E32, F$3:F$32, ">"&F32) + COUNTIFS(C$3:C$32, C32, D$3:D$32, D32, E$3:E$32, E32, F$3:F$32, F32, G$3:G$32, ">"&G32) + COUNTIFS(C$3:C$32, C32, D$3:D$32, D32, E$3:E$32, E32, F$3:F$32, F32, G$3:G$32, G32, H$3:H$32, ">"&H32) + COUNTIFS(C$3:C$32, C32, D$3:D$32, D32, E$3:E$32, E32, F$3:F$32, F32, G$3:G$32, G32, H$3:H$32, H32, I$3:I$32, ">"&I32) + COUNTIFS(C$3:C$32, C32, D$3:D$32, D32, E$3:E$32, E32, F$3:F$32, F32, G$3:G$32, G32, H$3:H$32, H32, I$3:I$32, I32, J$3:J$32, ">"&J32) + COUNTIFS(C$3:C$32, C32, D$3:D$32, D32, E$3:E$32, E32, F$3:F$32, F32, G$3:G$32, G32, H$3:H$32, H32, I$3:I$32, I32, J$3:J$32, J32, K$3:K$32, ">"&K32) + COUNTIFS(C$3:C$32, C32, D$3:D$32, D32, E$3:E$32, E32, F$3:F$32, F32, G$3:G$32, G32, H$3:H$32, H32, I$3:I$32, I32, J$3:J$32, J32, K$3:K$32, K32, L$3:L$32, ">"&L32) ) | N32: =IF(OR(O32="", O32="N/A"), "", 1 + COUNTIFS(P$3:P$32, ">"&P32) + COUNTIFS(P$3:P$32, P32, Q$3:Q$32, "<"&Q32) + COUNTIFS(P$3:P$32, P32, Q$3:Q$32, Q32, R$3:R$32, "<"&R32) + COUNTIFS(P$3:P$32, P32, Q$3:Q$32, Q32, R$3:R$32, R32, S$3:S$32, ">"&S32) + COUNTIFS(P$3:P$32, P32, Q$3:Q$32, Q32, R$3:R$32, R32, S$3:S$32, S32, T$3:T$32, ">"&T32) + COUNTIFS(P$3:P$32, P32, Q$3:Q$32, Q32, R$3:R$32, R32, S$3:S$32, S32, T$3:T$32, T32, U$3:U$32, ">"&U32) + COUNTIFS(P$3:P$32, P32, Q$3:Q$32, Q32, R$3:R$32, R32, S$3:S$32, S32, T$3:T$32, T32, U$3:U$32, U32, V$3:V$32, ">"&V32) + COUNTIFS(P$3:P$32, P32, Q$3:Q$32, Q32, R$3:R$32, R32, S$3:S$32, S32, T$3:T$32, T32, U$3:U$32, U32, V$3:V$32, V32, W$3:W$32, ">"&W32) + COUNTIFS(P$3:P$32, P32, Q$3:Q$32, Q32, R$3:R$32, R32, S$3:S$32, S32, T$3:T$32, T32, U$3:U$32, U32, V$3:V$32, V32, W$3:W$32, W32, X$3:X$32, ">"&X32) + COUNTIFS(P$3:P$32, P32, Q$3:Q$32, Q32, R$3:R$32, R32, S$3:S$32, S32, T$3:T$32, T32, U$3:U$32, U32, V$3:V$32, V32, W$3:W$32, W32, X$3:X$32, X32, Y$3:Y$32, ">"&Y32) ) | AA32: =IF(OR(AB32="", AB32="N/A"), "", 1 + COUNTIFS(AC$3:AC$32, ">"&AC32) + COUNTIFS(AC$3:AC$32, AC32, AD$3:AD$32, "<"&AD32) + COUNTIFS(AC$3:AC$32, AC32, AD$3:AD$32, AD32, AE$3:AE$32, "<"&AE32) + COUNTIFS(AC$3:AC$32, AC32, AD$3:AD$32, AD32, AE$3:AE$32, AE32, AF$3:AF$32, ">"&AF32) + COUNTIFS(AC$3:AC$32, AC32, AD$3:AD$32, AD32, AE$3:AE$32, AE32, AF$3:AF$32, AF32, AG$3:AG$32, ">"&AG32) + COUNTIFS(AC$3:AC$32, AC32, AD$3:AD$32, AD32, AE$3:AE$32, AE32, AF$3:AF$32, AF32, AG$3:AG$32, AG32, AH$3:AH$32, ">"&AH32) + COUNTIFS(AC$3:AC$32, AC32, AD$3:AD$32, AD32, AE$3:AE$32, AE32, AF$3:AF$32, AF32, AG$3:AG$32, AG32, AH$3:AH$32, AH32, AI$3:AI$32, ">"&AI32) + COUNTIFS(AC$3:AC$32, AC32, AD$3:AD$32, AD32, AE$3:AE$32, AE32, AF$3:AF$32, AF32, AG$3:AG$32, AG32, AH$3:AH$32, AH32, AI$3:AI$32, AI32, AJ$3:AJ$32, ">"&AJ32) + COUNTIFS(AC$3:AC$32, AC32, AD$3:AD$32, AD32, AE$3:AE$32, AE32, AF$3:AF$32, AF32, AG$3:AG$32, AG32, AH$3:AH$32, AH32, AI$3:AI$32, AI32, AJ$3:AJ$32, AJ32, AK$3:AK$32, ">"&AK32) + COUNTIFS(AC$3:AC$32, AC32, AD$3:AD$32, AD32, AE$3:AE$32, AE32, AF$3:AF$32, AF32, AG$3:AG$32, AG32, AH$3:AH$32, AH32, AI$3:AI$32, AI32, AJ$3:AJ$32, AJ32, AK$3:AK$32, AK32, AL$3:AL$32, ">"&AL32) ) | AN32: =IF(OR(AO32="", AO32="N/A"), "", 1 + COUNTIFS(AP$3:AP$32, ">"&AP32) + COUNTIFS(AP$3:AP$32, AP32, AQ$3:AQ$32, "<"&AQ32) + COUNTIFS(AP$3:AP$32, AP32, AQ$3:AQ$32, AQ32, AR$3:AR$32, "<"&AR32) + COUNTIFS(AP$3:AP$32, AP32, AQ$3:AQ$32, AQ32, AR$3:AR$32, AR32, AS$3:AS$32, ">"&AS32) + COUNTIFS(AP$3:AP$32, AP32, AQ$3:AQ$32, AQ32, AR$3:AR$32, AR32, AS$3:AS$32, AS32, AT$3:AT$32, ">"&AT32) + COUNTIFS(AP$3:AP$32, AP32, AQ$3:AQ$32, AQ32, AR$3:AR$32, AR32, AS$3:AS$32, AS32, AT$3:AT$32, AT32, AU$3:AU$32, ">"&AU32) + COUNTIFS(AP$3:AP$32, AP32, AQ$3:AQ$32, AQ32, AR$3:AR$32, AR32, AS$3:AS$32, AS32, AT$3:AT$32, AT32, AU$3:AU$32, AU32, AV$3:AV$32, ">"&AV32) + COUNTIFS(AP$3:AP$32, AP32, AQ$3:AQ$32, AQ32, AR$3:AR$32, AR32, AS$3:AS$32, AS32, AT$3:AT$32, AT32, AU$3:AU$32, AU32, AV$3:AV$32, AV32, AW$3:AW$32, ">"&AW32) + COUNTIFS(AP$3:AP$32, AP32, AQ$3:AQ$32, AQ32, AR$3:AR$32, AR32, AS$3:AS$32, AS32, AT$3:AT$32, AT32, AU$3:AU$32, AU32, AV$3:AV$32, AV32, AW$3:AW$32, AW32, AX$3:AX$32, ">"&AX32) + COUNTIFS(AP$3:AP$32, AP32, AQ$3:AQ$32, AQ32, AR$3:AR$32, AR32, AS$3:AS$32, AS32, AT$3:AT$32, AT32, AU$3:AU$32, AU32, AV$3:AV$32, AV32, AW$3:AW$32, AW32, AX$3:AX$32, AX32, AY$3:AY$32, ">"&AY32) )

Sheet CH-Ties
A1: Small | N1: Large | AA1: Coed | AN1: St/Tumb
A2: Place | B2: School | C2: Total | D2: TB1 | E2: TB2 | F2: TB3 | G2: TB4 | H2: TB5 | I2: TB6 | J2: TB7 | K2: TB8 | L2: TB9 | N2: Place | O2: School | P2: Total | Q2: TB1 | R2: TB2 | S2: TB3 | T2: TB4 | U2: TB5 | V2: TB6 | W2: TB7 | X2: TB8 | Y2: TB9 | AA2: Place | AB2: School | AC2: Total | AD2: TB1 | AE2: TB2 | AF2: TB3 | AG2: TB4 | AH2: TB5 | AI2: TB6 | AJ2: TB7 | AK2: TB8 | AL2: TB9 | AN2: Place | AO2: School | AP2: Total | AQ2: TB1 | AR2: TB2 | AS2: TB3 | AT2: TB4 | AU2: TB5 | AV2: TB6 | AW2: TB7 | AX2: TB8 | AY2: TB9
A3: =IF(OR(B3="",B3="N/A"),"",RANK(C3,$C$3:$C$32,0)) | B3: {=IFERROR(_xlfn.CHOOSECOLS(_xlfn._xlws.SORT(_xlfn._xlws.FILTER(Scores!$A$2:$I$211,(Scores!$I$2:$I$211<>"")*(Scores!$D$2:$D$211="Small")),{9,2},{-1,1}),2,9),"N/A")} -> N/A | N3: =IF(OR(O3="",O3="N/A"),"",RANK(P3,$P$3:$P$32,0)) | O3: {=IFERROR(_xlfn.CHOOSECOLS(_xlfn._xlws.SORT(_xlfn._xlws.FILTER(Scores!$A$2:$I$211,(Scores!$I$2:$I$211<>"")*(Scores!$D$2:$D$211="Large")),{9,2},{-1,1}),2,9),"N/A")} -> N/A | AA3: =IF(OR(AB3="",AB3="N/A"),"",RANK(AC3,$AC$3:$AC$32,0)) | AB3: {=IFERROR(_xlfn.CHOOSECOLS(_xlfn._xlws.SORT(_xlfn._xlws.FILTER(Scores!$A$2:$I$211,(Scores!$I$2:$I$211<>"")*(Scores!$D$2:$D$211="Coed")),{9,2},{-1,1}),2,9),"N/A")} -> N/A | AN3: =IF(OR(AO3="",AO3="N/A"),"",RANK(AP3,$AP$3:$AP$32,0)) -> 1 | AO3: {=IFERROR(_xlfn.CHOOSECOLS(_xlfn._xlws.SORT(_xlfn._xlws.FILTER(Scores!$A$2:$I$211,(Scores!$I$2:$I$211<>"")*(Scores!$D$2:$D$211="St/Tumb")),{9,2},{-1,1}),2,9),"N/A")} -> Sioux Falls Jefferson | AP3: 295.5
A4: =IF(OR(B4="",B4="N/A"),"",RANK(C4,$C$3:$C$32,0)) | N4: =IF(OR(O4="",O4="N/A"),"",RANK(P4,$P$3:$P$32,0)) | AA4: =IF(OR(AB4="",AB4="N/A"),"",RANK(AC4,$AC$3:$AC$32,0)) | AN4: =IF(OR(AO4="",AO4="N/A"),"",RANK(AP4,$AP$3:$AP$32,0)) -> 2 | AO4: Harrisburg | AP4: 290
A5: =IF(OR(B5="",B5="N/A"),"",RANK(C5,$C$3:$C$32,0)) | N5: =IF(OR(O5="",O5="N/A"),"",RANK(P5,$P$3:$P$32,0)) | AA5: =IF(OR(AB5="",AB5="N/A"),"",RANK(AC5,$AC$3:$AC$32,0)) | AN5: =IF(OR(AO5="",AO5="N/A"),"",RANK(AP5,$AP$3:$AP$32,0)) -> 3 | AO5: O'Gorman | AP5: 287.5
A6: =IF(OR(B6="",B6="N/A"),"",RANK(C6,$C$3:$C$32,0)) | N6: =IF(OR(O6="",O6="N/A"),"",RANK(P6,$P$3:$P$32,0)) | AA6: =IF(OR(AB6="",AB6="N/A"),"",RANK(AC6,$AC$3:$AC$32,0)) | AN6: =IF(OR(AO6="",AO6="N/A"),"",RANK(AP6,$AP$3:$AP$32,0)) -> 4 | AO6: Tea Area | AP6: 278.5
A7: =IF(OR(B7="",B7="N/A"),"",RANK(C7,$C$3:$C$32,0)) | N7: =IF(OR(O7="",O7="N/A"),"",RANK(P7,$P$3:$P$32,0)) | AA7: =IF(OR(AB7="",AB7="N/A"),"",RANK(AC7,$AC$3:$AC$32,0)) | AN7: =IF(OR(AO7="",AO7="N/A"),"",RANK(AP7,$AP$3:$AP$32,0)) -> 5 | AO7: Sioux Valley | AP7: 278
A8: =IF(OR(B8="",B8="N/A"),"",RANK(C8,$C$3:$C$32,0)) | N8: =IF(OR(O8="",O8="N/A"),"",RANK(P8,$P$3:$P$32,0)) | AA8: =IF(OR(AB8="",AB8="N/A"),"",RANK(AC8,$AC$3:$AC$32,0)) | AN8: =IF(OR(AO8="",AO8="N/A"),"",RANK(AP8,$AP$3:$AP$32,0)) -> 6 | AO8: Brookings | AP8: 276
A9: =IF(OR(B9="",B9="N/A"),"",RANK(C9,$C$3:$C$32,0)) | N9: =IF(OR(O9="",O9="N/A"),"",RANK(P9,$P$3:$P$32,0)) | AA9: =IF(OR(AB9="",AB9="N/A"),"",RANK(AC9,$AC$3:$AC$32,0)) | AN9: =IF(OR(AO9="",AO9="N/A"),"",RANK(AP9,$AP$3:$AP$32,0)) -> 7 | AO9: Watertown | AP9: 265
A10: =IF(OR(B10="",B10="N/A"),"",RANK(C10,$C$3:$C$32,0)) | N10: =IF(OR(O10="",O10="N/A"),"",RANK(P10,$P$3:$P$32,0)) | AA10: =IF(OR(AB10="",AB10="N/A"),"",RANK(AC10,$AC$3:$AC$32,0)) | AN10: =IF(OR(AO10="",AO10="N/A"),"",RANK(AP10,$AP$3:$AP$32,0)) -> 8 | AO10: Rapid City Central | AP10: 262
A11: =IF(OR(B11="",B11="N/A"),"",RANK(C11,$C$3:$C$32,0)) | N11: =IF(OR(O11="",O11="N/A"),"",RANK(P11,$P$3:$P$32,0)) | AA11: =IF(OR(AB11="",AB11="N/A"),"",RANK(AC11,$AC$3:$AC$32,0)) | AN11: =IF(OR(AO11="",AO11="N/A"),"",RANK(AP11,$AP$3:$AP$32,0)) -> 9 | AO11: Sturgis | AP11: 247
A12: =IF(OR(B12="",B12="N/A"),"",RANK(C12,$C$3:$C$32,0)) | N12: =IF(OR(O12="",O12="N/A"),"",RANK(P12,$P$3:$P$32,0)) | AA12: =IF(OR(AB12="",AB12="N/A"),"",RANK(AC12,$AC$3:$AC$32,0)) | AN12: =IF(OR(AO12="",AO12="N/A"),"",RANK(AP12,$AP$3:$AP$32,0)) -> 10 | AO12: Elkton-Lake Benton | AP12: 242
A13: =IF(OR(B13="",B13="N/A"),"",RANK(C13,$C$3:$C$32,0)) | N13: =IF(OR(O13="",O13="N/A"),"",RANK(P13,$P$3:$P$32,0)) | AA13: =IF(OR(AB13="",AB13="N/A"),"",RANK(AC13,$AC$3:$AC$32,0)) | AN13: =IF(OR(AO13="",AO13="N/A"),"",RANK(AP13,$AP$3:$AP$32,0)) -> 11 | AO13: Yankton | AP13: 226.5
A14: =IF(OR(B14="",B14="N/A"),"",RANK(C14,$C$3:$C$32,0)) | N14: =IF(OR(O14="",O14="N/A"),"",RANK(P14,$P$3:$P$32,0)) | AA14: =IF(OR(AB14="",AB14="N/A"),"",RANK(AC14,$AC$3:$AC$32,0)) | AN14: =IF(OR(AO14="",AO14="N/A"),"",RANK(AP14,$AP$3:$AP$32,0)) -> 12 | AO14: Sioux Falls Roosevelt | AP14: 217
A15: =IF(OR(B15="",B15="N/A"),"",RANK(C15,$C$3:$C$32,0)) | N15: =IF(OR(O15="",O15="N/A"),"",RANK(P15,$P$3:$P$32,0)) | AA15: =IF(OR(AB15="",AB15="N/A"),"",RANK(AC15,$AC$3:$AC$32,0)) | AN15: =IF(OR(AO15="",AO15="N/A"),"",RANK(AP15,$AP$3:$AP$32,0)) -> 13 | AO15: Pierre | AP15: 208.5
... A21: =IF(OR(B21="",B21="N/A"),"",RANK(C21,$C$3:$C$32,0)) | N21: =IF(OR(O21="",O21="N/A"),"",RANK(P21,$P$3:$P$32,0)) | AA21: =IF(OR(AB21="",AB21="N/A"),"",RANK(AC21,$AC$3:$AC$32,0)) | AN21: =IF(OR(AO21="",AO21="N/A"),"",RANK(AP21,$AP$3:$AP$32,0)) -> 19 | AO21: Aberdeen Central | AP21: 162
A22: =IF(OR(B22="",B22="N/A"),"",RANK(C22,$C$3:$C$32,0)) | N22: =IF(OR(O22="",O22="N/A"),"",RANK(P22,$P$3:$P$32,0)) | AA22: =IF(OR(AB22="",AB22="N/A"),"",RANK(AC22,$AC$3:$AC$32,0)) | AN22: =IF(OR(AO22="",AO22="N/A"),"",RANK(AP22,$AP$3:$AP$32,0))
A23: =IF(OR(B23="",B23="N/A"),"",RANK(C23,$C$3:$C$32,0)) | N23: =IF(OR(O23="",O23="N/A"),"",RANK(P23,$P$3:$P$32,0)) | AA23: =IF(OR(AB23="",AB23="N/A"),"",RANK(AC23,$AC$3:$AC$32,0)) | AN23: =IF(OR(AO23="",AO23="N/A"),"",RANK(AP23,$AP$3:$AP$32,0))
A24: =IF(OR(B24="",B24="N/A"),"",RANK(C24,$C$3:$C$32,0)) | N24: =IF(OR(O24="",O24="N/A"),"",RANK(P24,$P$3:$P$32,0)) | AA24: =IF(OR(AB24="",AB24="N/A"),"",RANK(AC24,$AC$3:$AC$32,0)) | AN24: =IF(OR(AO24="",AO24="N/A"),"",RANK(AP24,$AP$3:$AP$32,0))
A25: =IF(OR(B25="",B25="N/A"),"",RANK(C25,$C$3:$C$32,0)) | N25: =IF(OR(O25="",O25="N/A"),"",RANK(P25,$P$3:$P$32,0)) | AA25: =IF(OR(AB25="",AB25="N/A"),"",RANK(AC25,$AC$3:$AC$32,0)) | AN25: =IF(OR(AO25="",AO25="N/A"),"",RANK(AP25,$AP$3:$AP$32,0))
A26: =IF(OR(B26="",B26="N/A"),"",RANK(C26,$C$3:$C$32,0)) | N26: =IF(OR(O26="",O26="N/A"),"",RANK(P26,$P$3:$P$32,0)) | AA26: =IF(OR(AB26="",AB26="N/A"),"",RANK(AC26,$AC$3:$AC$32,0)) | AN26: =IF(OR(AO26="",AO26="N/A"),"",RANK(AP26,$AP$3:$AP$32,0))
A27: =IF(OR(B27="",B27="N/A"),"",RANK(C27,$C$3:$C$32,0)) | N27: =IF(OR(O27="",O27="N/A"),"",RANK(P27,$P$3:$P$32,0)) | AA27: =IF(OR(AB27="",AB27="N/A"),"",RANK(AC27,$AC$3:$AC$32,0)) | AN27: =IF(OR(AO27="",AO27="N/A"),"",RANK(AP27,$AP$3:$AP$32,0))
A28: =IF(OR(B28="",B28="N/A"),"",RANK(C28,$C$3:$C$32,0)) | N28: =IF(OR(O28="",O28="N/A"),"",RANK(P28,$P$3:$P$32,0)) | AA28: =IF(OR(AB28="",AB28="N/A"),"",RANK(AC28,$AC$3:$AC$32,0)) | AN28: =IF(OR(AO28="",AO28="N/A"),"",RANK(AP28,$AP$3:$AP$32,0))
A29: =IF(OR(B29="",B29="N/A"),"",RANK(C29,$C$3:$C$32,0)) | N29: =IF(OR(O29="",O29="N/A"),"",RANK(P29,$P$3:$P$32,0)) | AA29: =IF(OR(AB29="",AB29="N/A"),"",RANK(AC29,$AC$3:$AC$32,0)) | AN29: =IF(OR(AO29="",AO29="N/A"),"",RANK(AP29,$AP$3:$AP$32,0))
A30: =IF(OR(B30="",B30="N/A"),"",RANK(C30,$C$3:$C$32,0)) | N30: =IF(OR(O30="",O30="N/A"),"",RANK(P30,$P$3:$P$32,0)) | AA30: =IF(OR(AB30="",AB30="N/A"),"",RANK(AC30,$AC$3:$AC$32,0)) | AN30: =IF(OR(AO30="",AO30="N/A"),"",RANK(AP30,$AP$3:$AP$32,0))
A31: =IF(OR(B31="",B31="N/A"),"",RANK(C31,$C$3:$C$32,0)) | N31: =IF(OR(O31="",O31="N/A"),"",RANK(P31,$P$3:$P$32,0)) | AA31: =IF(OR(AB31="",AB31="N/A"),"",RANK(AC31,$AC$3:$AC$32,0)) | AN31: =IF(OR(AO31="",AO31="N/A"),"",RANK(AP31,$AP$3:$AP$32,0))
A32: =IF(OR(B32="",B32="N/A"),"",RANK(C32,$C$3:$C$32,0)) | N32: =IF(OR(O32="",O32="N/A"),"",RANK(P32,$P$3:$P$32,0)) | AA32: =IF(OR(AB32="",AB32="N/A"),"",RANK(AC32,$AC$3:$AC$32,0)) | AN32: =IF(OR(AO32="",AO32="N/A"),"",RANK(AP32,$AP$3:$AP$32,0))
A35: TIEBREAKERS
A36: TB1 | B36: Safety - lowest TOTAL deductions
A37: TB2 | B37: Safety - lowest deductions in 'Major Falls-Stunting' section
A38: TB3 | B38: Performance - highest score in entire 'Cheer' section
A39: TB4 | B39: Performance - highest score from entire "Jumps" category in 'Cheerleading Fundamentals' section
A40: TB5 | B40: Performance - highest score from entire "Standing Tumbling" category in 'Cheerleading Fundamentals' section
A41: TB6 | B41: Performance - highest score from entire "Running Tumbling" category in 'Cheerleading Fundamentals' section
A42: TB7 | B42: Performance - highest score from entire "Partner Stunts" category in 'Cheerleading Fundamentals' section
A43: TB8 | B43: Performance - highest score from entire "Tosses" category in 'Cheerleading Fundamentals' section
A44: TB9 | B44: Performance - highest score from entire "Pyramids" category in 'Cheerleading Fundamentals' section

Sheet DN-Results
A1: Hip Hop | I1: Jazz | Q1: Pom | Y1: Grand Champion
A2: Place | B2: School | C2: Score | D2: TB1 | E2: TB2 | F2: TB3 | G2: TB4 | I2: Place | J2: School | K2: Score | L2: TB1 | M2: TB2 | N2: TB3 | O2: TB4 | Q2: Place | R2: School | S2: Score | T2: TB1 | U2: TB2 | V2: TB3 | W2: TB4 | Y2: Place | Z2: School | AA2: Hip Hop | AB2: Jazz | AC2: Pom | AD2: Total | AE2: TB1 | AF2: TB2 | AG2: TB3 | AH2: TB4
A3: =IF(OR(B3="", B3="N/A"), "", 1 + COUNTIFS(C$3:C$32, ">"&C3) + COUNTIFS(C$3:C$32, C3, D$3:D$32, ">"&D3) + COUNTIFS(C$3:C$32, C3, D$3:D$32, D3, E$3:E$32, ">"&E3) + COUNTIFS(C$3:C$32, C3, D$3:D$32, D3, E$3:E$32, E3, F$3:F$32, ">"&F3) + COUNTIFS(C$3:C$32, C3, D$3:D$32, D3, E$3:E$32, E3, F$3:F$32, F3, G$3:G$32, "<"&G3) ) -> 1 | B3: {=IF('DN-Ties'!B3="N/A","N/A",_xlfn._xlws.FILTER(_xlfn._xlws.SORT('DN-Ties'!B3:G32,{2,3,4,5,6},{-1,-1,-1,-1,1}),'DN-Ties'!B3:B32<>""))} -> Harrisburg | C3: 272.5 | D3: 0 | E3: 0 | F3: 0 | G3: 0 | I3: =IF(OR(J3="", J3="N/A"), "", 1 + COUNTIFS(K$3:K$32, ">"&K3) + COUNTIFS(K$3:K$32, K3, L$3:L$32, ">"&L3) + COUNTIFS(K$3:K$32, K3, L$3:L$32, L3, M$3:M$32, ">"&M3) + COUNTIFS(K$3:K$32, K3, L$3:L$32, L3, M$3:M$32, M3, N$3:N$32, ">"&N3) + COUNTIFS(K$3:K$32, K3, L$3:L$32, L3, M$3:M$32, M3, N$3:N$32, N3, O$3:O$32, "<"&O3) ) -> 1 | J3: {=IF('DN-Ties'!J3="N/A","N/A",_xlfn._xlws.FILTER(_xlfn._xlws.SORT('DN-Ties'!J3:O32,{2,3,4,5,6},{-1,-1,-1,-1,1}),'DN-Ties'!J3:J32<>""))} -> Brandon Valley | K3: 280 | L3: 0 | M3: 0 | N3: 0 | O3: 0 | Q3: =IF(OR(R3="", R3="N/A"), "", 1 + COUNTIFS(S$3:S$32, ">"&S3) + COUNTIFS(S$3:S$32, S3, T$3:T$32, ">"&T3) + COUNTIFS(S$3:S$32, S3, T$3:T$32, T3, U$3:U$32, ">"&U3) + COUNTIFS(S$3:S$32, S3, T$3:T$32, T3, U$3:U$32, U3, V$3:V$32, ">"&V3) + COUNTIFS(S$3:S$32, S3, T$3:T$32, T3, U$3:U$32, U3, V$3:V$32, V3, W$3:W$32, "<"&W3) ) -> 1 | R3: {=IF('DN-Ties'!R3="N/A","N/A",_xlfn._xlws.FILTER(_xlfn._xlws.SORT('DN-Ties'!R3:W32,{2,3,4,5,6},{-1,-1,-1,-1,1}),'DN-Ties'!R3:R32<>""))} -> Brandon Valley | S3: 280.5 | T3: 0 | U3: 0 | V3: 0 | W3: 0 | Y3: =IF(OR(Z3="", Z3="N/A"), "", 1 + COUNTIFS(AD$3:AD$32, ">"&AD3) + COUNTIFS(AD$3:AD$32, AD3, AE$3:AE$32, ">"&AE3) + COUNTIFS(AD$3:AD$32, AD3, AE$3:AE$32, AE3, AF$3:AF$32, ">"&AF3) + COUNTIFS(AD$3:AD$32, AD3, AE$3:AE$32, AE3, AF$3:AF$32, AF3, AG$3:AG$32, ">"&AG3) + COUNTIFS(AD$3:AD$32, AD3, AE$3:AE$32, AE3, AF$3:AF$32, AF3, AG$3:AG$32, AG3, AH$3:AH$32, "<"&AH3) ) -> 1 | Z3: {=IFERROR(_xlfn.CHOOSECOLS(_xlfn._xlws.SORT(_xlfn._xlws.FILTER('DN-Ties'!$AG3:$AR$32,('DN-Ties'!$AG$3:$AG$32<>"")*('DN-Ties'!$AN3:$AN32<>""),"N/A"),{8,9,10,11,12},{-1,-1,-1,-1,1}),1,3,5,7,8,9,10,11,12),"N/A")} -> Brandon Valley | AA3: - | AB3: 20 | AC3: 20 | AD3: 40 | AE3: 0 | AF3: 0 | AG3: 0 | AH3: 0
A4: =IF(OR(B4="", B4="N/A"), "", 1 + COUNTIFS(C$3:C$32, ">"&C4) + COUNTIFS(C$3:C$32, C4, D$3:D$32, ">"&D4) + COUNTIFS(C$3:C$32, C4, D$3:D$32, D4, E$3:E$32, ">"&E4) + COUNTIFS(C$3:C$32, C4, D$3:D$32, D4, E$3:E$32, E4, F$3:F$32, ">"&F4) + COUNTIFS(C$3:C$32, C4, D$3:D$32, D4, E$3:E$32, E4, F$3:F$32, F4, G$3:G$32, "<"&G4) ) -> 2 | B4: Sioux Falls Jefferson | C4: 268.5 | D4: 0 | E4: 0 | F4: 0 | G4: 0 | I4: =IF(OR(J4="", J4="N/A"), "", 1 + COUNTIFS(K$3:K$32, ">"&K4) + COUNTIFS(K$3:K$32, K4, L$3:L$32, ">"&L4) + COUNTIFS(K$3:K$32, K4, L$3:L$32, L4, M$3:M$32, ">"&M4) + COUNTIFS(K$3:K$32, K4, L$3:L$32, L4, M$3:M$32, M4, N$3:N$32, ">"&N4) + COUNTIFS(K$3:K$32, K4, L$3:L$32, L4, M$3:M$32, M4, N$3:N$32, N4, O$3:O$32, "<"&O4) ) -> 2 | J4: Dakota Valley | K4: 275.5 | L4: 0 | M4: 0 | N4: 0 | O4: 0 | Q4: =IF(OR(R4="", R4="N/A"), "", 1 + COUNTIFS(S$3:S$32, ">"&S4) + COUNTIFS(S$3:S$32, S4, T$3:T$32, ">"&T4) + COUNTIFS(S$3:S$32, S4, T$3:T$32, T4, U$3:U$32, ">"&U4) + COUNTIFS(S$3:S$32, S4, T$3:T$32, T4, U$3:U$32, U4, V$3:V$32, ">"&V4) + COUNTIFS(S$3:S$32, S4, T$3:T$32, T4, U$3:U$32, U4, V$3:V$32, V4, W$3:W$32, "<"&W4) ) -> 2 | R4: Dakota Valley | S4: 278.5 | T4: 0 | U4: 0 | V4: 0 | W4: 0 | Y4: =IF(OR(Z4="", Z4="N/A"), "", 1 + COUNTIFS(AD$3:AD$32, ">"&AD4) + COUNTIFS(AD$3:AD$32, AD4, AE$3:AE$32, ">"&AE4) + COUNTIFS(AD$3:AD$32, AD4, AE$3:AE$32, AE4, AF$3:AF$32, ">"&AF4) + COUNTIFS(AD$3:AD$32, AD4, AE$3:AE$32, AE4, AF$3:AF$32, AF4, AG$3:AG$32, ">"&AG4) + COUNTIFS(AD$3:AD$32, AD4, AE$3:AE$32, AE4, AF$3:AF$32, AF4, AG$3:AG$32, AG4, AH$3:AH$32, "<"&AH4) ) -> 2 | Z4: Dakota Valley | AA4: - | AB4: 19 | AC4: 19 | AD4: 38 | AE4: 274.5 | AF4: 0 | AG4: 0 | AH4: 0
A5: =IF(OR(B5="", B5="N/A"), "", 1 + COUNTIFS(C$3:C$32, ">"&C5) + COUNTIFS(C$3:C$32, C5, D$3:D$32, ">"&D5) + COUNTIFS(C$3:C$32, C5, D$3:D$32, D5, E$3:E$32, ">"&E5) + COUNTIFS(C$3:C$32, C5, D$3:D$32, D5, E$3:E$32, E5, F$3:F$32, ">"&F5) + COUNTIFS(C$3:C$32, C5, D$3:D$32, D5, E$3:E$32, E5, F$3:F$32, F5, G$3:G$32, "<"&G5) ) -> 3 | B5: Sioux Falls Washington | C5: 263 | D5: 0 | E5: 0 | F5: 0 | G5: 0 | I5: =IF(OR(J5="", J5="N/A"), "", 1 + COUNTIFS(K$3:K$32, ">"&K5) + COUNTIFS(K$3:K$32, K5, L$3:L$32, ">"&L5) + COUNTIFS(K$3:K$32, K5, L$3:L$32, L5, M$3:M$32, ">"&M5) + COUNTIFS(K$3:K$32, K5, L$3:L$32, L5, M$3:M$32, M5, N$3:N$32, ">"&N5) + COUNTIFS(K$3:K$32, K5, L$3:L$32, L5, M$3:M$32, M5, N$3:N$32, N5, O$3:O$32, "<"&O5) ) -> 3 | J5: Harrisburg | K5: 256.5 | L5: 0 | M5: 0 | N5: 0 | O5: 0 | Q5: =IF(OR(R5="", R5="N/A"), "", 1 + COUNTIFS(S$3:S$32, ">"&S5) + COUNTIFS(S$3:S$32, S5, T$3:T$32, ">"&T5) + COUNTIFS(S$3:S$32, S5, T$3:T$32, T5, U$3:U$32, ">"&U5) + COUNTIFS(S$3:S$32, S5, T$3:T$32, T5, U$3:U$32, U5, V$3:V$32, ">"&V5) + COUNTIFS(S$3:S$32, S5, T$3:T$32, T5, U$3:U$32, U5, V$3:V$32, V5, W$3:W$32, "<"&W5) ) -> 3 | R5: Yankton | S5: 259.5 | T5: 0 | U5: 0 | V5: 0 | W5: 0 | Y5: =IF(OR(Z5="", Z5="N/A"), "", 1 + COUNTIFS(AD$3:AD$32, ">"&AD5) + COUNTIFS(AD$3:AD$32, AD5, AE$3:AE$32, ">"&AE5) + COUNTIFS(AD$3:AD$32, AD5, AE$3:AE$32, AE5, AF$3:AF$32, ">"&AF5) + COUNTIFS(AD$3:AD$32, AD5, AE$3:AE$32, AE5, AF$3:AF$32, AF5, AG$3:AG$32, ">"&AG5) + COUNTIFS(AD$3:AD$32, AD5, AE$3:AE$32, AE5, AF$3:AF$32, AF5, AG$3:AG$32, AG5, AH$3:AH$32, "<"&AH5) ) -> 3 | Z5: Harrisburg | AA5: 20 | AB5: 18 | AC5: - | AD5: 38 | AE5: 260.5 | AF5: 0 | AG5: 0 | AH5: 0
A6: =IF(OR(B6="", B6="N/A"), "", 1 + COUNTIFS(C$3:C$32, ">"&C6) + COUNTIFS(C$3:C$32, C6, D$3:D$32, ">"&D6) + COUNTIFS(C$3:C$32, C6, D$3:D$32, D6, E$3:E$32, ">"&E6) + COUNTIFS(C$3:C$32, C6, D$3:D$32, D6, E$3:E$32, E6, F$3:F$32, ">"&F6) + COUNTIFS(C$3:C$32, C6, D$3:D$32, D6, E$3:E$32, E6, F$3:F$32, F6, G$3:G$32, "<"&G6) ) -> 4 | B6: Sioux Falls Lincoln | C6: 257.5 | D6: 0 | E6: 0 | F6: 0 | G6: 0 | I6: =IF(OR(J6="", J6="N/A"), "", 1 + COUNTIFS(K$3:K$32, ">"&K6) + COUNTIFS(K$3:K$32, K6, L$3:L$32, ">"&L6) + COUNTIFS(K$3:K$32, K6, L$3:L$32, L6, M$3:M$32, ">"&M6) + COUNTIFS(K$3:K$32, K6, L$3:L$32, L6, M$3:M$32, M6, N$3:N$32, ">"&N6) + COUNTIFS(K$3:K$32, K6, L$3:L$32, L6, M$3:M$32, M6, N$3:N$32, N6, O$3:O$32, "<"&O6) ) -> 4 | J6: O'Gorman | K6: 245 | L6: 0 | M6: 0 | N6: 0 | O6: 0 | Q6: =IF(OR(R6="", R6="N/A"), "", 1 + COUNTIFS(S$3:S$32, ">"&S6) + COUNTIFS(S$3:S$32, S6, T$3:T$32, ">"&T6) + COUNTIFS(S$3:S$32, S6, T$3:T$32, T6, U$3:U$32, ">"&U6) + COUNTIFS(S$3:S$32, S6, T$3:T$32, T6, U$3:U$32, U6, V$3:V$32, ">"&V6) + COUNTIFS(S$3:S$32, S6, T$3:T$32, T6, U$3:U$32, U6, V$3:V$32, V6, W$3:W$32, "<"&W6) ) -> 4 | R6: Sioux Falls Jefferson | S6: 256.5 | T6: 0 | U6: 0 | V6: 0 | W6: 0 | Y6: =IF(OR(Z6="", Z6="N/A"), "", 1 + COUNTIFS(AD$3:AD$32, ">"&AD6) + COUNTIFS(AD$3:AD$32, AD6, AE$3:AE$32, ">"&AE6) + COUNTIFS(AD$3:AD$32, AD6, AE$3:AE$32, AE6, AF$3:AF$32, ">"&AF6) + COUNTIFS(AD$3:AD$32, AD6, AE$3:AE$32, AE6, AF$3:AF$32, AF6, AG$3:AG$32, ">"&AG6) + COUNTIFS(AD$3:AD$32, AD6, AE$3:AE$32, AE6, AF$3:AF$32, AF6, AG$3:AG$32, AG6, AH$3:AH$32, "<"&AH6) ) -> 4 | Z6: Sioux Falls Jefferson | AA6: 19 | AB6: - | AC6: 17 | AD6: 36 | AE6: 0 | AF6: 0 | AG6: 0 | AH6: 0
A7: =IF(OR(B7="", B7="N/A"), "", 1 + COUNTIFS(C$3:C$32, ">"&C7) + COUNTIFS(C$3:C$32, C7, D$3:D$32, ">"&D7) + COUNTIFS(C$3:C$32, C7, D$3:D$32, D7, E$3:E$32, ">"&E7) + COUNTIFS(C$3:C$32, C7, D$3:D$32, D7, E$3:E$32, E7, F$3:F$32, ">"&F7) + COUNTIFS(C$3:C$32, C7, D$3:D$32, D7, E$3:E$32, E7, F$3:F$32, F7, G$3:G$32, "<"&G7) ) -> 5 | B7: Rapid City Central | C7: 245 | D7: 0 | E7: 0 | F7: 0 | G7: 0 | I7: =IF(OR(J7="", J7="N/A"), "", 1 + COUNTIFS(K$3:K$32, ">"&K7) + COUNTIFS(K$3:K$32, K7, L$3:L$32, ">"&L7) + COUNTIFS(K$3:K$32, K7, L$3:L$32, L7, M$3:M$32, ">"&M7) + COUNTIFS(K$3:K$32, K7, L$3:L$32, L7, M$3:M$32, M7, N$3:N$32, ">"&N7) + COUNTIFS(K$3:K$32, K7, L$3:L$32, L7, M$3:M$32, M7, N$3:N$32, N7, O$3:O$32, "<"&O7) ) -> 5 | J7: Yankton | K7: 244.5 | L7: 0 | M7: 0 | N7: 0 | O7: 0 | Q7: =IF(OR(R7="", R7="N/A"), "", 1 + COUNTIFS(S$3:S$32, ">"&S7) + COUNTIFS(S$3:S$32, S7, T$3:T$32, ">"&T7) + COUNTIFS(S$3:S$32, S7, T$3:T$32, T7, U$3:U$32, ">"&U7) + COUNTIFS(S$3:S$32, S7, T$3:T$32, T7, U$3:U$32, U7, V$3:V$32, ">"&V7) + COUNTIFS(S$3:S$32, S7, T$3:T$32, T7, U$3:U$32, U7, V$3:V$32, V7, W$3:W$32, "<"&W7) ) -> 5 | R7: Sioux Falls Washington | S7: 245.5 | T7: 0 | U7: 0 | V7: 0 | W7: 0 | Y7: =IF(OR(Z7="", Z7="N/A"), "", 1 + COUNTIFS(AD$3:AD$32, ">"&AD7) + COUNTIFS(AD$3:AD$32, AD7, AE$3:AE$32, ">"&AE7) + COUNTIFS(AD$3:AD$32, AD7, AE$3:AE$32, AE7, AF$3:AF$32, ">"&AF7) + COUNTIFS(AD$3:AD$32, AD7, AE$3:AE$32, AE7, AF$3:AF$32, AF7, AG$3:AG$32, ">"&AG7) + COUNTIFS(AD$3:AD$32, AD7, AE$3:AE$32, AE7, AF$3:AF$32, AF7, AG$3:AG$32, AG7, AH$3:AH$32, "<"&AH7) ) -> 5 | Z7: Sioux Falls Washington | AA7: 18 | AB7: - | AC7: 16 | AD7: 34 | AE7: 250 | AF7: 0 | AG7: 0 | AH7: 0
A8: =IF(OR(B8="", B8="N/A"), "", 1 + COUNTIFS(C$3:C$32, ">"&C8) + COUNTIFS(C$3:C$32, C8, D$3:D$32, ">"&D8) + COUNTIFS(C$3:C$32, C8, D$3:D$32, D8, E$3:E$32, ">"&E8) + COUNTIFS(C$3:C$32, C8, D$3:D$32, D8, E$3:E$32, E8, F$3:F$32, ">"&F8) + COUNTIFS(C$3:C$32, C8, D$3:D$32, D8, E$3:E$32, E8, F$3:F$32, F8, G$3:G$32, "<"&G8) ) -> 6 | B8: O'Gorman | C8: 234.5 | D8: 0 | E8: 0 | F8: 0 | G8: 0 | I8: =IF(OR(J8="", J8="N/A"), "", 1 + COUNTIFS(K$3:K$32, ">"&K8) + COUNTIFS(K$3:K$32, K8, L$3:L$32, ">"&L8) + COUNTIFS(K$3:K$32, K8, L$3:L$32, L8, M$3:M$32, ">"&M8) + COUNTIFS(K$3:K$32, K8, L$3:L$32, L8, M$3:M$32, M8, N$3:N$32, ">"&N8) + COUNTIFS(K$3:K$32, K8, L$3:L$32, L8, M$3:M$32, M8, N$3:N$32, N8, O$3:O$32, "<"&O8) ) -> 6 | J8: Sioux Falls Roosevelt | K8: 234.5 | L8: 0 | M8: 0 | N8: 0 | O8: 0 | Q8: =IF(OR(R8="", R8="N/A"), "", 1 + COUNTIFS(S$3:S$32, ">"&S8) + COUNTIFS(S$3:S$32, S8, T$3:T$32, ">"&T8) + COUNTIFS(S$3:S$32, S8, T$3:T$32, T8, U$3:U$32, ">"&U8) + COUNTIFS(S$3:S$32, S8, T$3:T$32, T8, U$3:U$32, U8, V$3:V$32, ">"&V8) + COUNTIFS(S$3:S$32, S8, T$3:T$32, T8, U$3:U$32, U8, V$3:V$32, V8, W$3:W$32, "<"&W8) ) -> 6 | R8: Watertown | S8: 237 | T8: 0 | U8: 0 | V8: 0 | W8: 0 | Y8: =IF(OR(Z8="", Z8="N/A"), "", 1 + COUNTIFS(AD$3:AD$32, ">"&AD8) + COUNTIFS(AD$3:AD$32, AD8, AE$3:AE$32, ">"&AE8) + COUNTIFS(AD$3:AD$32, AD8, AE$3:AE$32, AE8, AF$3:AF$32, ">"&AF8) + COUNTIFS(AD$3:AD$32, AD8, AE$3:AE$32, AE8, AF$3:AF$32, AF8, AG$3:AG$32, ">"&AG8) + COUNTIFS(AD$3:AD$32, AD8, AE$3:AE$32, AE8, AF$3:AF$32, AF8, AG$3:AG$32, AG8, AH$3:AH$32, "<"&AH8) ) -> 6 | Z8: Yankton | AA8: - | AB8: 16 | AC8: 18 | AD8: 34 | AE8: 244 | AF8: 0 | AG8: 0 | AH8: 0
A9: =IF(OR(B9="", B9="N/A"), "", 1 + COUNTIFS(C$3:C$32, ">"&C9) + COUNTIFS(C$3:C$32, C9, D$3:D$32, ">"&D9) + COUNTIFS(C$3:C$32, C9, D$3:D$32, D9, E$3:E$32, ">"&E9) + COUNTIFS(C$3:C$32, C9, D$3:D$32, D9, E$3:E$32, E9, F$3:F$32, ">"&F9) + COUNTIFS(C$3:C$32, C9, D$3:D$32, D9, E$3:E$32, E9, F$3:F$32, F9, G$3:G$32, "<"&G9) ) -> 7 | B9: Sioux Falls Roosevelt | C9: 219.5 | D9: 0 | E9: 0 | F9: 0 | G9: 0 | I9: =IF(OR(J9="", J9="N/A"), "", 1 + COUNTIFS(K$3:K$32, ">"&K9) + COUNTIFS(K$3:K$32, K9, L$3:L$32, ">"&L9) + COUNTIFS(K$3:K$32, K9, L$3:L$32, L9, M$3:M$32, ">"&M9) + COUNTIFS(K$3:K$32, K9, L$3:L$32, L9, M$3:M$32, M9, N$3:N$32, ">"&N9) + COUNTIFS(K$3:K$32, K9, L$3:L$32, L9, M$3:M$32, M9, N$3:N$32, N9, O$3:O$32, "<"&O9) ) -> 7 | J9: Sioux Falls Lincoln | K9: 231 | L9: 0 | M9: 0 | N9: 0 | O9: 0 | Q9: =IF(OR(R9="", R9="N/A"), "", 1 + COUNTIFS(S$3:S$32, ">"&S9) + COUNTIFS(S$3:S$32, S9, T$3:T$32, ">"&T9) + COUNTIFS(S$3:S$32, S9, T$3:T$32, T9, U$3:U$32, ">"&U9) + COUNTIFS(S$3:S$32, S9, T$3:T$32, T9, U$3:U$32, U9, V$3:V$32, ">"&V9) + COUNTIFS(S$3:S$32, S9, T$3:T$32, T9, U$3:U$32, U9, V$3:V$32, V9, W$3:W$32, "<"&W9) ) -> 7 | R9: Pierre | S9: 230 | T9: 0 | U9: 0 | V9: 0 | W9: 0 | Y9: =IF(OR(Z9="", Z9="N/A"), "", 1 + COUNTIFS(AD$3:AD$32, ">"&AD9) + COUNTIFS(AD$3:AD$32, AD9, AE$3:AE$32, ">"&AE9) + COUNTIFS(AD$3:AD$32, AD9, AE$3:AE$32, AE9, AF$3:AF$32, ">"&AF9) + COUNTIFS(AD$3:AD$32, AD9, AE$3:AE$32, AE9, AF$3:AF$32, AF9, AG$3:AG$32, ">"&AG9) + COUNTIFS(AD$3:AD$32, AD9, AE$3:AE$32, AE9, AF$3:AF$32, AF9, AG$3:AG$32, AG9, AH$3:AH$32, "<"&AH9) ) -> 7 | Z9: O'Gorman | AA9: 15 | AB9: 17 | AC9: - | AD9: 32 | AE9: 0 | AF9: 0 | AG9: 0 | AH9: 0
A10: =IF(OR(B10="", B10="N/A"), "", 1 + COUNTIFS(C$3:C$32, ">"&C10) + COUNTIFS(C$3:C$32, C10, D$3:D$32, ">"&D10) + COUNTIFS(C$3:C$32, C10, D$3:D$32, D10, E$3:E$32, ">"&E10) + COUNTIFS(C$3:C$32, C10, D$3:D$32, D10, E$3:E$32, E10, F$3:F$32, ">"&F10) + COUNTIFS(C$3:C$32, C10, D$3:D$32, D10, E$3:E$32, E10, F$3:F$32, F10, G$3:G$32, "<"&G10) ) -> 8 | B10: Brookings | C10: 215 | D10: 0 | E10: 0 | F10: 0 | G10: 0 | I10: =IF(OR(J10="", J10="N/A"), "", 1 + COUNTIFS(K$3:K$32, ">"&K10) + COUNTIFS(K$3:K$32, K10, L$3:L$32, ">"&L10) + COUNTIFS(K$3:K$32, K10, L$3:L$32, L10, M$3:M$32, ">"&M10) + COUNTIFS(K$3:K$32, K10, L$3:L$32, L10, M$3:M$32, M10, N$3:N$32, ">"&N10) + COUNTIFS(K$3:K$32, K10, L$3:L$32, L10, M$3:M$32, M10, N$3:N$32, N10, O$3:O$32, "<"&O10) ) -> 8 | J10: Watertown | K10: 230 | L10: 0 | M10: 0 | N10: 0 | O10: 0 | Q10: =IF(OR(R10="", R10="N/A"), "", 1 + COUNTIFS(S$3:S$32, ">"&S10) + COUNTIFS(S$3:S$32, S10, T$3:T$32, ">"&T10) + COUNTIFS(S$3:S$32, S10, T$3:T$32, T10, U$3:U$32, ">"&U10) + COUNTIFS(S$3:S$32, S10, T$3:T$32, T10, U$3:U$32, U10, V$3:V$32, ">"&V10) + COUNTIFS(S$3:S$32, S10, T$3:T$32, T10, U$3:U$32, U10, V$3:V$32, V10, W$3:W$32, "<"&W10) ) -> 8 | R10: Rapid City Central | S10: 224 | T10: 0 | U10: 0 | V10: 0 | W10: 0 | Y10: =IF(OR(Z10="", Z10="N/A"), "", 1 + COUNTIFS(AD$3:AD$32, ">"&AD10) + COUNTIFS(AD$3:AD$32, AD10, AE$3:AE$32, ">"&AE10) + COUNTIFS(AD$3:AD$32, AD10, AE$3:AE$32, AE10, AF$3:AF$32, ">"&AF10) + COUNTIFS(AD$3:AD$32, AD10, AE$3:AE$32, AE10, AF$3:AF$32, AF10, AG$3:AG$32, ">"&AG10) + COUNTIFS(AD$3:AD$32, AD10, AE$3:AE$32, AE10, AF$3:AF$32, AF10, AG$3:AG$32, AG10, AH$3:AH$32, "<"&AH10) ) -> 8 | Z10: Sioux Falls Lincoln | AA10: 17 | AB10: 14 | AC10: - | AD10: 31 | AE10: 0 | AF10: 0 | AG10: 0 | AH10: 0
A11: =IF(OR(B11="", B11="N/A"), "", 1 + COUNTIFS(C$3:C$32, ">"&C11) + COUNTIFS(C$3:C$32, C11, D$3:D$32, ">"&D11) + COUNTIFS(C$3:C$32, C11, D$3:D$32, D11, E$3:E$32, ">"&E11) + COUNTIFS(C$3:C$32, C11, D$3:D$32, D11, E$3:E$32, E11, F$3:F$32, ">"&F11) + COUNTIFS(C$3:C$32, C11, D$3:D$32, D11, E$3:E$32, E11, F$3:F$32, F11, G$3:G$32, "<"&G11) ) -> 9 | B11: Tea Area | C11: 214.5 | D11: 0 | E11: 0 | F11: 0 | G11: 0 | I11: =IF(OR(J11="", J11="N/A"), "", 1 + COUNTIFS(K$3:K$32, ">"&K11) + COUNTIFS(K$3:K$32, K11, L$3:L$32, ">"&L11) + COUNTIFS(K$3:K$32, K11, L$3:L$32, L11, M$3:M$32, ">"&M11) + COUNTIFS(K$3:K$32, K11, L$3:L$32, L11, M$3:M$32, M11, N$3:N$32, ">"&N11) + COUNTIFS(K$3:K$32, K11, L$3:L$32, L11, M$3:M$32, M11, N$3:N$32, N11, O$3:O$32, "<"&O11) ) -> 9 | J11: Brookings | K11: 203.5 | L11: 0 | M11: 0 | N11: 0 | O11: 0 | Q11: =IF(OR(R11="", R11="N/A"), "", 1 + COUNTIFS(S$3:S$32, ">"&S11) + COUNTIFS(S$3:S$32, S11, T$3:T$32, ">"&T11) + COUNTIFS(S$3:S$32, S11, T$3:T$32, T11, U$3:U$32, ">"&U11) + COUNTIFS(S$3:S$32, S11, T$3:T$32, T11, U$3:U$32, U11, V$3:V$32, ">"&V11) + COUNTIFS(S$3:S$32, S11, T$3:T$32, T11, U$3:U$32, U11, V$3:V$32, V11, W$3:W$32, "<"&W11) ) -> 9 | R11: Aberdeen Central | S11: 223.5 | T11: 0 | U11: 0 | V11: 0 | W11: 0 | Y11: =IF(OR(Z11="", Z11="N/A"), "", 1 + COUNTIFS(AD$3:AD$32, ">"&AD11) + COUNTIFS(AD$3:AD$32, AD11, AE$3:AE$32, ">"&AE11) + COUNTIFS(AD$3:AD$32, AD11, AE$3:AE$32, AE11, AF$3:AF$32, ">"&AF11) + COUNTIFS(AD$3:AD$32, AD11, AE$3:AE$32, AE11, AF$3:AF$32, AF11, AG$3:AG$32, ">"&AG11) + COUNTIFS(AD$3:AD$32, AD11, AE$3:AE$32, AE11, AF$3:AF$32, AF11, AG$3:AG$32, AG11, AH$3:AH$32, "<"&AH11) ) -> 9 | Z11: Rapid City Central | AA11: 16 | AB11: - | AC11: 13 | AD11: 29 | AE11: 224.5 | AF11: 0 | AG11: 0 | AH11: 0
A12: =IF(OR(B12="", B12="N/A"), "", 1 + COUNTIFS(C$3:C$32, ">"&C12) + COUNTIFS(C$3:C$32, C12, D$3:D$32, ">"&D12) + COUNTIFS(C$3:C$32, C12, D$3:D$32, D12, E$3:E$32, ">"&E12) + COUNTIFS(C$3:C$32, C12, D$3:D$32, D12, E$3:E$32, E12, F$3:F$32, ">"&F12) + COUNTIFS(C$3:C$32, C12, D$3:D$32, D12, E$3:E$32, E12, F$3:F$32, F12, G$3:G$32, "<"&G12) ) -> 10 | B12: Aberdeen Central | C12: 214 | D12: 0 | E12: 0 | F12: 0 | G12: 0 | I12: =IF(OR(J12="", J12="N/A"), "", 1 + COUNTIFS(K$3:K$32, ">"&K12) + COUNTIFS(K$3:K$32, K12, L$3:L$32, ">"&L12) + COUNTIFS(K$3:K$32, K12, L$3:L$32, L12, M$3:M$32, ">"&M12) + COUNTIFS(K$3:K$32, K12, L$3:L$32, L12, M$3:M$32, M12, N$3:N$32, ">"&N12) + COUNTIFS(K$3:K$32, K12, L$3:L$32, L12, M$3:M$32, M12, N$3:N$32, N12, O$3:O$32, "<"&O12) ) | Q12: =IF(OR(R12="", R12="N/A"), "", 1 + COUNTIFS(S$3:S$32, ">"&S12) + COUNTIFS(S$3:S$32, S12, T$3:T$32, ">"&T12) + COUNTIFS(S$3:S$32, S12, T$3:T$32, T12, U$3:U$32, ">"&U12) + COUNTIFS(S$3:S$32, S12, T$3:T$32, T12, U$3:U$32, U12, V$3:V$32, ">"&V12) + COUNTIFS(S$3:S$32, S12, T$3:T$32, T12, U$3:U$32, U12, V$3:V$32, V12, W$3:W$32, "<"&W12) ) -> 10 | R12: Tea Area | S12: 220.5 | T12: 0 | U12: 0 | V12: 0 | W12: 0 | Y12: =IF(OR(Z12="", Z12="N/A"), "", 1 + COUNTIFS(AD$3:AD$32, ">"&AD12) + COUNTIFS(AD$3:AD$32, AD12, AE$3:AE$32, ">"&AE12) + COUNTIFS(AD$3:AD$32, AD12, AE$3:AE$32, AE12, AF$3:AF$32, ">"&AF12) + COUNTIFS(AD$3:AD$32, AD12, AE$3:AE$32, AE12, AF$3:AF$32, AF12, AG$3:AG$32, ">"&AG12) + COUNTIFS(AD$3:AD$32, AD12, AE$3:AE$32, AE12, AF$3:AF$32, AF12, AG$3:AG$32, AG12, AH$3:AH$32, "<"&AH12) ) -> 10 | Z12: Sioux Falls Roosevelt | AA12: 14 | AB12: 15 | AC12: - | AD12: 29 | AE12: 119.5 | AF12: 0 | AG12: 0 | AH12: 0
A13: =IF(OR(B13="", B13="N/A"), "", 1 + COUNTIFS(C$3:C$32, ">"&C13) + COUNTIFS(C$3:C$32, C13, D$3:D$32, ">"&D13) + COUNTIFS(C$3:C$32, C13, D$3:D$32, D13, E$3:E$32, ">"&E13) + COUNTIFS(C$3:C$32, C13, D$3:D$32, D13, E$3:E$32, E13, F$3:F$32, ">"&F13) + COUNTIFS(C$3:C$32, C13, D$3:D$32, D13, E$3:E$32, E13, F$3:F$32, F13, G$3:G$32, "<"&G13) ) -> 11 | B13: Pierre | C13: 209.5 | D13: 0 | E13: 0 | F13: 0 | G13: 0 | I13: =IF(OR(J13="", J13="N/A"), "", 1 + COUNTIFS(K$3:K$32, ">"&K13) + COUNTIFS(K$3:K$32, K13, L$3:L$32, ">"&L13) + COUNTIFS(K$3:K$32, K13, L$3:L$32, L13, M$3:M$32, ">"&M13) + COUNTIFS(K$3:K$32, K13, L$3:L$32, L13, M$3:M$32, M13, N$3:N$32, ">"&N13) + COUNTIFS(K$3:K$32, K13, L$3:L$32, L13, M$3:M$32, M13, N$3:N$32, N13, O$3:O$32, "<"&O13) ) | Q13: =IF(OR(R13="", R13="N/A"), "", 1 + COUNTIFS(S$3:S$32, ">"&S13) + COUNTIFS(S$3:S$32, S13, T$3:T$32, ">"&T13) + COUNTIFS(S$3:S$32, S13, T$3:T$32, T13, U$3:U$32, ">"&U13) + COUNTIFS(S$3:S$32, S13, T$3:T$32, T13, U$3:U$32, U13, V$3:V$32, ">"&V13) + COUNTIFS(S$3:S$32, S13, T$3:T$32, T13, U$3:U$32, U13, V$3:V$32, V13, W$3:W$32, "<"&W13) ) -> 11 | R13: Huron | S13: 209.5 | T13: 0 | U13: 0 | V13: 0 | W13: 0 | Y13: =IF(OR(Z13="", Z13="N/A"), "", 1 + COUNTIFS(AD$3:AD$32, ">"&AD13) + COUNTIFS(AD$3:AD$32, AD13, AE$3:AE$32, ">"&AE13) + COUNTIFS(AD$3:AD$32, AD13, AE$3:AE$32, AE13, AF$3:AF$32, ">"&AF13) + COUNTIFS(AD$3:AD$32, AD13, AE$3:AE$32, AE13, AF$3:AF$32, AF13, AG$3:AG$32, ">"&AG13) + COUNTIFS(AD$3:AD$32, AD13, AE$3:AE$32, AE13, AF$3:AF$32, AF13, AG$3:AG$32, AG13, AH$3:AH$32, "<"&AH13) ) -> 11 | Z13: Watertown | AA13: - | AB13: 13 | AC13: 15 | AD13: 28 | AE13: 0 | AF13: 0 | AG13: 0 | AH13: 0
A14: =IF(OR(B14="", B14="N/A"), "", 1 + COUNTIFS(C$3:C$32, ">"&C14) + COUNTIFS(C$3:C$32, C14, D$3:D$32, ">"&D14) + COUNTIFS(C$3:C$32, C14, D$3:D$32, D14, E$3:E$32, ">"&E14) + COUNTIFS(C$3:C$32, C14, D$3:D$32, D14, E$3:E$32, E14, F$3:F$32, ">"&F14) + COUNTIFS(C$3:C$32, C14, D$3:D$32, D14, E$3:E$32, E14, F$3:F$32, F14, G$3:G$32, "<"&G14) ) -> 12 | B14: Huron | C14: 203.5 | D14: 0 | E14: 0 | F14: 0 | G14: 0 | I14: =IF(OR(J14="", J14="N/A"), "", 1 + COUNTIFS(K$3:K$32, ">"&K14) + COUNTIFS(K$3:K$32, K14, L$3:L$32, ">"&L14) + COUNTIFS(K$3:K$32, K14, L$3:L$32, L14, M$3:M$32, ">"&M14) + COUNTIFS(K$3:K$32, K14, L$3:L$32, L14, M$3:M$32, M14, N$3:N$32, ">"&N14) + COUNTIFS(K$3:K$32, K14, L$3:L$32, L14, M$3:M$32, M14, N$3:N$32, N14, O$3:O$32, "<"&O14) ) | Q14: =IF(OR(R14="", R14="N/A"), "", 1 + COUNTIFS(S$3:S$32, ">"&S14) + COUNTIFS(S$3:S$32, S14, T$3:T$32, ">"&T14) + COUNTIFS(S$3:S$32, S14, T$3:T$32, T14, U$3:U$32, ">"&U14) + COUNTIFS(S$3:S$32, S14, T$3:T$32, T14, U$3:U$32, U14, V$3:V$32, ">"&V14) + COUNTIFS(S$3:S$32, S14, T$3:T$32, T14, U$3:U$32, U14, V$3:V$32, V14, W$3:W$32, "<"&W14) ) | Y14: =IF(OR(Z14="", Z14="N/A"), "", 1 + COUNTIFS(AD$3:AD$32, ">"&AD14) + COUNTIFS(AD$3:AD$32, AD14, AE$3:AE$32, ">"&AE14) + COUNTIFS(AD$3:AD$32, AD14, AE$3:AE$32, AE14, AF$3:AF$32, ">"&AF14) + COUNTIFS(AD$3:AD$32, AD14, AE$3:AE$32, AE14, AF$3:AF$32, AF14, AG$3:AG$32, ">"&AG14) + COUNTIFS(AD$3:AD$32, AD14, AE$3:AE$32, AE14, AF$3:AF$32, AF14, AG$3:AG$32, AG14, AH$3:AH$32, "<"&AH14) ) -> 12 | Z14: Brookings | AA14: 13 | AB14: 12 | AC14: - | AD14: 25 | AE14: 0 | AF14: 0 | AG14: 0 | AH14: 0
A15: =IF(OR(B15="", B15="N/A"), "", 1 + COUNTIFS(C$3:C$32, ">"&C15) + COUNTIFS(C$3:C$32, C15, D$3:D$32, ">"&D15) + COUNTIFS(C$3:C$32, C15, D$3:D$32, D15, E$3:E$32, ">"&E15) + COUNTIFS(C$3:C$32, C15, D$3:D$32, D15, E$3:E$32, E15, F$3:F$32, ">"&F15) + COUNTIFS(C$3:C$32, C15, D$3:D$32, D15, E$3:E$32, E15, F$3:F$32, F15, G$3:G$32, "<"&G15) ) | I15: =IF(OR(J15="", J15="N/A"), "", 1 + COUNTIFS(K$3:K$32, ">"&K15) + COUNTIFS(K$3:K$32, K15, L$3:L$32, ">"&L15) + COUNTIFS(K$3:K$32, K15, L$3:L$32, L15, M$3:M$32, ">"&M15) + COUNTIFS(K$3:K$32, K15, L$3:L$32, L15, M$3:M$32, M15, N$3:N$32, ">"&N15) + COUNTIFS(K$3:K$32, K15, L$3:L$32, L15, M$3:M$32, M15, N$3:N$32, N15, O$3:O$32, "<"&O15) ) | Q15: =IF(OR(R15="", R15="N/A"), "", 1 + COUNTIFS(S$3:S$32, ">"&S15) + COUNTIFS(S$3:S$32, S15, T$3:T$32, ">"&T15) + COUNTIFS(S$3:S$32, S15, T$3:T$32, T15, U$3:U$32, ">"&U15) + COUNTIFS(S$3:S$32, S15, T$3:T$32, T15, U$3:U$32, U15, V$3:V$32, ">"&V15) + COUNTIFS(S$3:S$32, S15, T$3:T$32, T15, U$3:U$32, U15, V$3:V$32, V15, W$3:W$32, "<"&W15) ) | Y15: =IF(OR(Z15="", Z15="N/A"), "", 1 + COUNTIFS(AD$3:AD$32, ">"&AD15) + COUNTIFS(AD$3:AD$32, AD15, AE$3:AE$32, ">"&AE15) + COUNTIFS(AD$3:AD$32, AD15, AE$3:AE$32, AE15, AF$3:AF$32, ">"&AF15) + COUNTIFS(AD$3:AD$32, AD15, AE$3:AE$32, AE15, AF$3:AF$32, AF15, AG$3:AG$32, ">"&AG15) + COUNTIFS(AD$3:AD$32, AD15, AE$3:AE$32, AE15, AF$3:AF$32, AF15, AG$3:AG$32, AG15, AH$3:AH$32, "<"&AH15) ) -> 13 | Z15: Pierre | AA15: 10 | AB15: - | AC15: 14 | AD15: 24 | AE15: 0 | AF15: 0 | AG15: 0 | AH15: 0
A16: =IF(OR(B16="", B16="N/A"), "", 1 + COUNTIFS(C$3:C$32, ">"&C16) + COUNTIFS(C$3:C$32, C16, D$3:D$32, ">"&D16) + COUNTIFS(C$3:C$32, C16, D$3:D$32, D16, E$3:E$32, ">"&E16) + COUNTIFS(C$3:C$32, C16, D$3:D$32, D16, E$3:E$32, E16, F$3:F$32, ">"&F16) + COUNTIFS(C$3:C$32, C16, D$3:D$32, D16, E$3:E$32, E16, F$3:F$32, F16, G$3:G$32, "<"&G16) ) | I16: =IF(OR(J16="", J16="N/A"), "", 1 + COUNTIFS(K$3:K$32, ">"&K16) + COUNTIFS(K$3:K$32, K16, L$3:L$32, ">"&L16) + COUNTIFS(K$3:K$32, K16, L$3:L$32, L16, M$3:M$32, ">"&M16) + COUNTIFS(K$3:K$32, K16, L$3:L$32, L16, M$3:M$32, M16, N$3:N$32, ">"&N16) + COUNTIFS(K$3:K$32, K16, L$3:L$32, L16, M$3:M$32, M16, N$3:N$32, N16, O$3:O$32, "<"&O16) ) | Q16: =IF(OR(R16="", R16="N/A"), "", 1 + COUNTIFS(S$3:S$32, ">"&S16) + COUNTIFS(S$3:S$32, S16, T$3:T$32, ">"&T16) + COUNTIFS(S$3:S$32, S16, T$3:T$32, T16, U$3:U$32, ">"&U16) + COUNTIFS(S$3:S$32, S16, T$3:T$32, T16, U$3:U$32, U16, V$3:V$32, ">"&V16) + COUNTIFS(S$3:S$32, S16, T$3:T$32, T16, U$3:U$32, U16, V$3:V$32, V16, W$3:W$32, "<"&W16) ) | Y16: =IF(OR(Z16="", Z16="N/A"), "", 1 + COUNTIFS(AD$3:AD$32, ">"&AD16) + COUNTIFS(AD$3:AD$32, AD16, AE$3:AE$32, ">"&AE16) + COUNTIFS(AD$3:AD$32, AD16, AE$3:AE$32, AE16, AF$3:AF$32, ">"&AF16) + COUNTIFS(AD$3:AD$32, AD16, AE$3:AE$32, AE16, AF$3:AF$32, AF16, AG$3:AG$32, ">"&AG16) + COUNTIFS(AD$3:AD$32, AD16, AE$3:AE$32, AE16, AF$3:AF$32, AF16, AG$3:AG$32, AG16, AH$3:AH$32, "<"&AH16) ) -> 14 | Z16: Aberdeen Central | AA16: 11 | AB16: - | AC16: 12 | AD16: 23 | AE16: 210 | AF16: 0 | AG16: 0 | AH16: 0
A17: =IF(OR(B17="", B17="N/A"), "", 1 + COUNTIFS(C$3:C$32, ">"&C17) + COUNTIFS(C$3:C$32, C17, D$3:D$32, ">"&D17) + COUNTIFS(C$3:C$32, C17, D$3:D$32, D17, E$3:E$32, ">"&E17) + COUNTIFS(C$3:C$32, C17, D$3:D$32, D17, E$3:E$32, E17, F$3:F$32, ">"&F17) + COUNTIFS(C$3:C$32, C17, D$3:D$32, D17, E$3:E$32, E17, F$3:F$32, F17, G$3:G$32, "<"&G17) ) | I17: =IF(OR(J17="", J17="N/A"), "", 1 + COUNTIFS(K$3:K$32, ">"&K17) + COUNTIFS(K$3:K$32, K17, L$3:L$32, ">"&L17) + COUNTIFS(K$3:K$32, K17, L$3:L$32, L17, M$3:M$32, ">"&M17) + COUNTIFS(K$3:K$32, K17, L$3:L$32, L17, M$3:M$32, M17, N$3:N$32, ">"&N17) + COUNTIFS(K$3:K$32, K17, L$3:L$32, L17, M$3:M$32, M17, N$3:N$32, N17, O$3:O$32, "<"&O17) ) | Q17: =IF(OR(R17="", R17="N/A"), "", 1 + COUNTIFS(S$3:S$32, ">"&S17) + COUNTIFS(S$3:S$32, S17, T$3:T$32, ">"&T17) + COUNTIFS(S$3:S$32, S17, T$3:T$32, T17, U$3:U$32, ">"&U17) + COUNTIFS(S$3:S$32, S17, T$3:T$32, T17, U$3:U$32, U17, V$3:V$32, ">"&V17) + COUNTIFS(S$3:S$32, S17, T$3:T$32, T17, U$3:U$32, U17, V$3:V$32, V17, W$3:W$32, "<"&W17) ) | Y17: =IF(OR(Z17="", Z17="N/A"), "", 1 + COUNTIFS(AD$3:AD$32, ">"&AD17) + COUNTIFS(AD$3:AD$32, AD17, AE$3:AE$32, ">"&AE17) + COUNTIFS(AD$3:AD$32, AD17, AE$3:AE$32, AE17, AF$3:AF$32, ">"&AF17) + COUNTIFS(AD$3:AD$32, AD17, AE$3:AE$32, AE17, AF$3:AF$32, AF17, AG$3:AG$32, ">"&AG17) + COUNTIFS(AD$3:AD$32, AD17, AE$3:AE$32, AE17, AF$3:AF$32, AF17, AG$3:AG$32, AG17, AH$3:AH$32, "<"&AH17) ) -> 15 | Z17: Tea Area | AA17: 12 | AB17: - | AC17: 11 | AD17: 23 | AE17: 207.5 | AF17: 0 | AG17: 0 | AH17: 0
A18: =IF(OR(B18="", B18="N/A"), "", 1 + COUNTIFS(C$3:C$32, ">"&C18) + COUNTIFS(C$3:C$32, C18, D$3:D$32, ">"&D18) + COUNTIFS(C$3:C$32, C18, D$3:D$32, D18, E$3:E$32, ">"&E18) + COUNTIFS(C$3:C$32, C18, D$3:D$32, D18, E$3:E$32, E18, F$3:F$32, ">"&F18) + COUNTIFS(C$3:C$32, C18, D$3:D$32, D18, E$3:E$32, E18, F$3:F$32, F18, G$3:G$32, "<"&G18) ) | I18: =IF(OR(J18="", J18="N/A"), "", 1 + COUNTIFS(K$3:K$32, ">"&K18) + COUNTIFS(K$3:K$32, K18, L$3:L$32, ">"&L18) + COUNTIFS(K$3:K$32, K18, L$3:L$32, L18, M$3:M$32, ">"&M18) + COUNTIFS(K$3:K$32, K18, L$3:L$32, L18, M$3:M$32, M18, N$3:N$32, ">"&N18) + COUNTIFS(K$3:K$32, K18, L$3:L$32, L18, M$3:M$32, M18, N$3:N$32, N18, O$3:O$32, "<"&O18) ) | Q18: =IF(OR(R18="", R18="N/A"), "", 1 + COUNTIFS(S$3:S$32, ">"&S18) + COUNTIFS(S$3:S$32, S18, T$3:T$32, ">"&T18) + COUNTIFS(S$3:S$32, S18, T$3:T$32, T18, U$3:U$32, ">"&U18) + COUNTIFS(S$3:S$32, S18, T$3:T$32, T18, U$3:U$32, U18, V$3:V$32, ">"&V18) + COUNTIFS(S$3:S$32, S18, T$3:T$32, T18, U$3:U$32, U18, V$3:V$32, V18, W$3:W$32, "<"&W18) ) | Y18: =IF(OR(Z18="", Z18="N/A"), "", 1 + COUNTIFS(AD$3:AD$32, ">"&AD18) + COUNTIFS(AD$3:AD$32, AD18, AE$3:AE$32, ">"&AE18) + COUNTIFS(AD$3:AD$32, AD18, AE$3:AE$32, AE18, AF$3:AF$32, ">"&AF18) + COUNTIFS(AD$3:AD$32, AD18, AE$3:AE$32, AE18, AF$3:AF$32, AF18, AG$3:AG$32, ">"&AG18) + COUNTIFS(AD$3:AD$32, AD18, AE$3:AE$32, AE18, AF$3:AF$32, AF18, AG$3:AG$32, AG18, AH$3:AH$32, "<"&AH18) ) -> 16 | Z18: Huron | AA18: 9 | AB18: - | AC18: 10 | AD18: 19 | AE18: 0 | AF18: 0 | AG18: 0 | AH18: 0
A19: =IF(OR(B19="", B19="N/A"), "", 1 + COUNTIFS(C$3:C$32, ">"&C19) + COUNTIFS(C$3:C$32, C19, D$3:D$32, ">"&D19) + COUNTIFS(C$3:C$32, C19, D$3:D$32, D19, E$3:E$32, ">"&E19) + COUNTIFS(C$3:C$32, C19, D$3:D$32, D19, E$3:E$32, E19, F$3:F$32, ">"&F19) + COUNTIFS(C$3:C$32, C19, D$3:D$32, D19, E$3:E$32, E19, F$3:F$32, F19, G$3:G$32, "<"&G19) ) | I19: =IF(OR(J19="", J19="N/A"), "", 1 + COUNTIFS(K$3:K$32, ">"&K19) + COUNTIFS(K$3:K$32, K19, L$3:L$32, ">"&L19) + COUNTIFS(K$3:K$32, K19, L$3:L$32, L19, M$3:M$32, ">"&M19) + COUNTIFS(K$3:K$32, K19, L$3:L$32, L19, M$3:M$32, M19, N$3:N$32, ">"&N19) + COUNTIFS(K$3:K$32, K19, L$3:L$32, L19, M$3:M$32, M19, N$3:N$32, N19, O$3:O$32, "<"&O19) ) | Q19: =IF(OR(R19="", R19="N/A"), "", 1 + COUNTIFS(S$3:S$32, ">"&S19) + COUNTIFS(S$3:S$32, S19, T$3:T$32, ">"&T19) + COUNTIFS(S$3:S$32, S19, T$3:T$32, T19, U$3:U$32, ">"&U19) + COUNTIFS(S$3:S$32, S19, T$3:T$32, T19, U$3:U$32, U19, V$3:V$32, ">"&V19) + COUNTIFS(S$3:S$32, S19, T$3:T$32, T19, U$3:U$32, U19, V$3:V$32, V19, W$3:W$32, "<"&W19) ) | Y19: =IF(OR(Z19="", Z19="N/A"), "", 1 + COUNTIFS(AD$3:AD$32, ">"&AD19) + COUNTIFS(AD$3:AD$32, AD19, AE$3:AE$32, ">"&AE19) + COUNTIFS(AD$3:AD$32, AD19, AE$3:AE$32, AE19, AF$3:AF$32, ">"&AF19) + COUNTIFS(AD$3:AD$32, AD19, AE$3:AE$32, AE19, AF$3:AF$32, AF19, AG$3:AG$32, ">"&AG19) + COUNTIFS(AD$3:AD$32, AD19, AE$3:AE$32, AE19, AF$3:AF$32, AF19, AG$3:AG$32, AG19, AH$3:AH$32, "<"&AH19) )
A20: =IF(OR(B20="", B20="N/A"), "", 1 + COUNTIFS(C$3:C$32, ">"&C20) + COUNTIFS(C$3:C$32, C20, D$3:D$32, ">"&D20) + COUNTIFS(C$3:C$32, C20, D$3:D$32, D20, E$3:E$32, ">"&E20) + COUNTIFS(C$3:C$32, C20, D$3:D$32, D20, E$3:E$32, E20, F$3:F$32, ">"&F20) + COUNTIFS(C$3:C$32, C20, D$3:D$32, D20, E$3:E$32, E20, F$3:F$32, F20, G$3:G$32, "<"&G20) ) | I20: =IF(OR(J20="", J20="N/A"), "", 1 + COUNTIFS(K$3:K$32, ">"&K20) + COUNTIFS(K$3:K$32, K20, L$3:L$32, ">"&L20) + COUNTIFS(K$3:K$32, K20, L$3:L$32, L20, M$3:M$32, ">"&M20) + COUNTIFS(K$3:K$32, K20, L$3:L$32, L20, M$3:M$32, M20, N$3:N$32, ">"&N20) + COUNTIFS(K$3:K$32, K20, L$3:L$32, L20, M$3:M$32, M20, N$3:N$32, N20, O$3:O$32, "<"&O20) ) | Q20: =IF(OR(R20="", R20="N/A"), "", 1 + COUNTIFS(S$3:S$32, ">"&S20) + COUNTIFS(S$3:S$32, S20, T$3:T$32, ">"&T20) + COUNTIFS(S$3:S$32, S20, T$3:T$32, T20, U$3:U$32, ">"&U20) + COUNTIFS(S$3:S$32, S20, T$3:T$32, T20, U$3:U$32, U20, V$3:V$32, ">"&V20) + COUNTIFS(S$3:S$32, S20, T$3:T$32, T20, U$3:U$32, U20, V$3:V$32, V20, W$3:W$32, "<"&W20) ) | Y20: =IF(OR(Z20="", Z20="N/A"), "", 1 + COUNTIFS(AD$3:AD$32, ">"&AD20) + COUNTIFS(AD$3:AD$32, AD20, AE$3:AE$32, ">"&AE20) + COUNTIFS(AD$3:AD$32, AD20, AE$3:AE$32, AE20, AF$3:AF$32, ">"&AF20) + COUNTIFS(AD$3:AD$32, AD20, AE$3:AE$32, AE20, AF$3:AF$32, AF20, AG$3:AG$32, ">"&AG20) + COUNTIFS(AD$3:AD$32, AD20, AE$3:AE$32, AE20, AF$3:AF$32, AF20, AG$3:AG$32, AG20, AH$3:AH$32, "<"&AH20) )
A21: =IF(OR(B21="", B21="N/A"), "", 1 + COUNTIFS(C$3:C$32, ">"&C21) + COUNTIFS(C$3:C$32, C21, D$3:D$32, ">"&D21) + COUNTIFS(C$3:C$32, C21, D$3:D$32, D21, E$3:E$32, ">"&E21) + COUNTIFS(C$3:C$32, C21, D$3:D$32, D21, E$3:E$32, E21, F$3:F$32, ">"&F21) + COUNTIFS(C$3:C$32, C21, D$3:D$32, D21, E$3:E$32, E21, F$3:F$32, F21, G$3:G$32, "<"&G21) ) | I21: =IF(OR(J21="", J21="N/A"), "", 1 + COUNTIFS(K$3:K$32, ">"&K21) + COUNTIFS(K$3:K$32, K21, L$3:L$32, ">"&L21) + COUNTIFS(K$3:K$32, K21, L$3:L$32, L21, M$3:M$32, ">"&M21) + COUNTIFS(K$3:K$32, K21, L$3:L$32, L21, M$3:M$32, M21, N$3:N$32, ">"&N21) + COUNTIFS(K$3:K$32, K21, L$3:L$32, L21, M$3:M$32, M21, N$3:N$32, N21, O$3:O$32, "<"&O21) ) | Q21: =IF(OR(R21="", R21="N/A"), "", 1 + COUNTIFS(S$3:S$32, ">"&S21) + COUNTIFS(S$3:S$32, S21, T$3:T$32, ">"&T21) + COUNTIFS(S$3:S$32, S21, T$3:T$32, T21, U$3:U$32, ">"&U21) + COUNTIFS(S$3:S$32, S21, T$3:T$32, T21, U$3:U$32, U21, V$3:V$32, ">"&V21) + COUNTIFS(S$3:S$32, S21, T$3:T$32, T21, U$3:U$32, U21, V$3:V$32, V21, W$3:W$32, "<"&W21) ) | Y21: =IF(OR(Z21="", Z21="N/A"), "", 1 + COUNTIFS(AD$3:AD$32, ">"&AD21) + COUNTIFS(AD$3:AD$32, AD21, AE$3:AE$32, ">"&AE21) + COUNTIFS(AD$3:AD$32, AD21, AE$3:AE$32, AE21, AF$3:AF$32, ">"&AF21) + COUNTIFS(AD$3:AD$32, AD21, AE$3:AE$32, AE21, AF$3:AF$32, AF21, AG$3:AG$32, ">"&AG21) + COUNTIFS(AD$3:AD$32, AD21, AE$3:AE$32, AE21, AF$3:AF$32, AF21, AG$3:AG$32, AG21, AH$3:AH$32, "<"&AH21) )
A22: =IF(OR(B22="", B22="N/A"), "", 1 + COUNTIFS(C$3:C$32, ">"&C22) + COUNTIFS(C$3:C$32, C22, D$3:D$32, ">"&D22) + COUNTIFS(C$3:C$32, C22, D$3:D$32, D22, E$3:E$32, ">"&E22) + COUNTIFS(C$3:C$32, C22, D$3:D$32, D22, E$3:E$32, E22, F$3:F$32, ">"&F22) + COUNTIFS(C$3:C$32, C22, D$3:D$32, D22, E$3:E$32, E22, F$3:F$32, F22, G$3:G$32, "<"&G22) ) | I22: =IF(OR(J22="", J22="N/A"), "", 1 + COUNTIFS(K$3:K$32, ">"&K22) + COUNTIFS(K$3:K$32, K22, L$3:L$32, ">"&L22) + COUNTIFS(K$3:K$32, K22, L$3:L$32, L22, M$3:M$32, ">"&M22) + COUNTIFS(K$3:K$32, K22, L$3:L$32, L22, M$3:M$32, M22, N$3:N$32, ">"&N22) + COUNTIFS(K$3:K$32, K22, L$3:L$32, L22, M$3:M$32, M22, N$3:N$32, N22, O$3:O$32, "<"&O22) ) | Q22: =IF(OR(R22="", R22="N/A"), "", 1 + COUNTIFS(S$3:S$32, ">"&S22) + COUNTIFS(S$3:S$32, S22, T$3:T$32, ">"&T22) + COUNTIFS(S$3:S$32, S22, T$3:T$32, T22, U$3:U$32, ">"&U22) + COUNTIFS(S$3:S$32, S22, T$3:T$32, T22, U$3:U$32, U22, V$3:V$32, ">"&V22) + COUNTIFS(S$3:S$32, S22, T$3:T$32, T22, U$3:U$32, U22, V$3:V$32, V22, W$3:W$32, "<"&W22) ) | Y22: =IF(OR(Z22="", Z22="N/A"), "", 1 + COUNTIFS(AD$3:AD$32, ">"&AD22) + COUNTIFS(AD$3:AD$32, AD22, AE$3:AE$32, ">"&AE22) + COUNTIFS(AD$3:AD$32, AD22, AE$3:AE$32, AE22, AF$3:AF$32, ">"&AF22) + COUNTIFS(AD$3:AD$32, AD22, AE$3:AE$32, AE22, AF$3:AF$32, AF22, AG$3:AG$32, ">"&AG22) + COUNTIFS(AD$3:AD$32, AD22, AE$3:AE$32, AE22, AF$3:AF$32, AF22, AG$3:AG$32, AG22, AH$3:AH$32, "<"&AH22) )
A23: =IF(OR(B23="", B23="N/A"), "", 1 + COUNTIFS(C$3:C$32, ">"&C23) + COUNTIFS(C$3:C$32, C23, D$3:D$32, ">"&D23) + COUNTIFS(C$3:C$32, C23, D$3:D$32, D23, E$3:E$32, ">"&E23) + COUNTIFS(C$3:C$32, C23, D$3:D$32, D23, E$3:E$32, E23, F$3:F$32, ">"&F23) + COUNTIFS(C$3:C$32, C23, D$3:D$32, D23, E$3:E$32, E23, F$3:F$32, F23, G$3:G$32, "<"&G23) ) | I23: =IF(OR(J23="", J23="N/A"), "", 1 + COUNTIFS(K$3:K$32, ">"&K23) + COUNTIFS(K$3:K$32, K23, L$3:L$32, ">"&L23) + COUNTIFS(K$3:K$32, K23, L$3:L$32, L23, M$3:M$32, ">"&M23) + COUNTIFS(K$3:K$32, K23, L$3:L$32, L23, M$3:M$32, M23, N$3:N$32, ">"&N23) + COUNTIFS(K$3:K$32, K23, L$3:L$32, L23, M$3:M$32, M23, N$3:N$32, N23, O$3:O$32, "<"&O23) ) | Q23: =IF(OR(R23="", R23="N/A"), "", 1 + COUNTIFS(S$3:S$32, ">"&S23) + COUNTIFS(S$3:S$32, S23, T$3:T$32, ">"&T23) + COUNTIFS(S$3:S$32, S23, T$3:T$32, T23, U$3:U$32, ">"&U23) + COUNTIFS(S$3:S$32, S23, T$3:T$32, T23, U$3:U$32, U23, V$3:V$32, ">"&V23) + COUNTIFS(S$3:S$32, S23, T$3:T$32, T23, U$3:U$32, U23, V$3:V$32, V23, W$3:W$32, "<"&W23) ) | Y23: =IF(OR(Z23="", Z23="N/A"), "", 1 + COUNTIFS(AD$3:AD$32, ">"&AD23) + COUNTIFS(AD$3:AD$32, AD23, AE$3:AE$32, ">"&AE23) + COUNTIFS(AD$3:AD$32, AD23, AE$3:AE$32, AE23, AF$3:AF$32, ">"&AF23) + COUNTIFS(AD$3:AD$32, AD23, AE$3:AE$32, AE23, AF$3:AF$32, AF23, AG$3:AG$32, ">"&AG23) + COUNTIFS(AD$3:AD$32, AD23, AE$3:AE$32, AE23, AF$3:AF$32, AF23, AG$3:AG$32, AG23, AH$3:AH$32, "<"&AH23) )
A24: =IF(OR(B24="", B24="N/A"), "", 1 + COUNTIFS(C$3:C$32, ">"&C24) + COUNTIFS(C$3:C$32, C24, D$3:D$32, ">"&D24) + COUNTIFS(C$3:C$32, C24, D$3:D$32, D24, E$3:E$32, ">"&E24) + COUNTIFS(C$3:C$32, C24, D$3:D$32, D24, E$3:E$32, E24, F$3:F$32, ">"&F24) + COUNTIFS(C$3:C$32, C24, D$3:D$32, D24, E$3:E$32, E24, F$3:F$32, F24, G$3:G$32, "<"&G24) ) | I24: =IF(OR(J24="", J24="N/A"), "", 1 + COUNTIFS(K$3:K$32, ">"&K24) + COUNTIFS(K$3:K$32, K24, L$3:L$32, ">"&L24) + COUNTIFS(K$3:K$32, K24, L$3:L$32, L24, M$3:M$32, ">"&M24) + COUNTIFS(K$3:K$32, K24, L$3:L$32, L24, M$3:M$32, M24, N$3:N$32, ">"&N24) + COUNTIFS(K$3:K$32, K24, L$3:L$32, L24, M$3:M$32, M24, N$3:N$32, N24, O$3:O$32, "<"&O24) ) | Q24: =IF(OR(R24="", R24="N/A"), "", 1 + COUNTIFS(S$3:S$32, ">"&S24) + COUNTIFS(S$3:S$32, S24, T$3:T$32, ">"&T24) + COUNTIFS(S$3:S$32, S24, T$3:T$32, T24, U$3:U$32, ">"&U24) + COUNTIFS(S$3:S$32, S24, T$3:T$32, T24, U$3:U$32, U24, V$3:V$32, ">"&V24) + COUNTIFS(S$3:S$32, S24, T$3:T$32, T24, U$3:U$32, U24, V$3:V$32, V24, W$3:W$32, "<"&W24) ) | Y24: =IF(OR(Z24="", Z24="N/A"), "", 1 + COUNTIFS(AD$3:AD$32, ">"&AD24) + COUNTIFS(AD$3:AD$32, AD24, AE$3:AE$32, ">"&AE24) + COUNTIFS(AD$3:AD$32, AD24, AE$3:AE$32, AE24, AF$3:AF$32, ">"&AF24) + COUNTIFS(AD$3:AD$32, AD24, AE$3:AE$32, AE24, AF$3:AF$32, AF24, AG$3:AG$32, ">"&AG24) + COUNTIFS(AD$3:AD$32, AD24, AE$3:AE$32, AE24, AF$3:AF$32, AF24, AG$3:AG$32, AG24, AH$3:AH$32, "<"&AH24) )
A25: =IF(OR(B25="", B25="N/A"), "", 1 + COUNTIFS(C$3:C$32, ">"&C25) + COUNTIFS(C$3:C$32, C25, D$3:D$32, ">"&D25) + COUNTIFS(C$3:C$32, C25, D$3:D$32, D25, E$3:E$32, ">"&E25) + COUNTIFS(C$3:C$32, C25, D$3:D$32, D25, E$3:E$32, E25, F$3:F$32, ">"&F25) + COUNTIFS(C$3:C$32, C25, D$3:D$32, D25, E$3:E$32, E25, F$3:F$32, F25, G$3:G$32, "<"&G25) ) | I25: =IF(OR(J25="", J25="N/A"), "", 1 + COUNTIFS(K$3:K$32, ">"&K25) + COUNTIFS(K$3:K$32, K25, L$3:L$32, ">"&L25) + COUNTIFS(K$3:K$32, K25, L$3:L$32, L25, M$3:M$32, ">"&M25) + COUNTIFS(K$3:K$32, K25, L$3:L$32, L25, M$3:M$32, M25, N$3:N$32, ">"&N25) + COUNTIFS(K$3:K$32, K25, L$3:L$32, L25, M$3:M$32, M25, N$3:N$32, N25, O$3:O$32, "<"&O25) ) | Q25: =IF(OR(R25="", R25="N/A"), "", 1 + COUNTIFS(S$3:S$32, ">"&S25) + COUNTIFS(S$3:S$32, S25, T$3:T$32, ">"&T25) + COUNTIFS(S$3:S$32, S25, T$3:T$32, T25, U$3:U$32, ">"&U25) + COUNTIFS(S$3:S$32, S25, T$3:T$32, T25, U$3:U$32, U25, V$3:V$32, ">"&V25) + COUNTIFS(S$3:S$32, S25, T$3:T$32, T25, U$3:U$32, U25, V$3:V$32, V25, W$3:W$32, "<"&W25) ) | Y25: =IF(OR(Z25="", Z25="N/A"), "", 1 + COUNTIFS(AD$3:AD$32, ">"&AD25) + COUNTIFS(AD$3:AD$32, AD25, AE$3:AE$32, ">"&AE25) + COUNTIFS(AD$3:AD$32, AD25, AE$3:AE$32, AE25, AF$3:AF$32, ">"&AF25) + COUNTIFS(AD$3:AD$32, AD25, AE$3:AE$32, AE25, AF$3:AF$32, AF25, AG$3:AG$32, ">"&AG25) + COUNTIFS(AD$3:AD$32, AD25, AE$3:AE$32, AE25, AF$3:AF$32, AF25, AG$3:AG$32, AG25, AH$3:AH$32, "<"&AH25) )
A26: =IF(OR(B26="", B26="N/A"), "", 1 + COUNTIFS(C$3:C$32, ">"&C26) + COUNTIFS(C$3:C$32, C26, D$3:D$32, ">"&D26) + COUNTIFS(C$3:C$32, C26, D$3:D$32, D26, E$3:E$32, ">"&E26) + COUNTIFS(C$3:C$32, C26, D$3:D$32, D26, E$3:E$32, E26, F$3:F$32, ">"&F26) + COUNTIFS(C$3:C$32, C26, D$3:D$32, D26, E$3:E$32, E26, F$3:F$32, F26, G$3:G$32, "<"&G26) ) | I26: =IF(OR(J26="", J26="N/A"), "", 1 + COUNTIFS(K$3:K$32, ">"&K26) + COUNTIFS(K$3:K$32, K26, L$3:L$32, ">"&L26) + COUNTIFS(K$3:K$32, K26, L$3:L$32, L26, M$3:M$32, ">"&M26) + COUNTIFS(K$3:K$32, K26, L$3:L$32, L26, M$3:M$32, M26, N$3:N$32, ">"&N26) + COUNTIFS(K$3:K$32, K26, L$3:L$32, L26, M$3:M$32, M26, N$3:N$32, N26, O$3:O$32, "<"&O26) ) | Q26: =IF(OR(R26="", R26="N/A"), "", 1 + COUNTIFS(S$3:S$32, ">"&S26) + COUNTIFS(S$3:S$32, S26, T$3:T$32, ">"&T26) + COUNTIFS(S$3:S$32, S26, T$3:T$32, T26, U$3:U$32, ">"&U26) + COUNTIFS(S$3:S$32, S26, T$3:T$32, T26, U$3:U$32, U26, V$3:V$32, ">"&V26) + COUNTIFS(S$3:S$32, S26, T$3:T$32, T26, U$3:U$32, U26, V$3:V$32, V26, W$3:W$32, "<"&W26) ) | Y26: =IF(OR(Z26="", Z26="N/A"), "", 1 + COUNTIFS(AD$3:AD$32, ">"&AD26) + COUNTIFS(AD$3:AD$32, AD26, AE$3:AE$32, ">"&AE26) + COUNTIFS(AD$3:AD$32, AD26, AE$3:AE$32, AE26, AF$3:AF$32, ">"&AF26) + COUNTIFS(AD$3:AD$32, AD26, AE$3:AE$32, AE26, AF$3:AF$32, AF26, AG$3:AG$32, ">"&AG26) + COUNTIFS(AD$3:AD$32, AD26, AE$3:AE$32, AE26, AF$3:AF$32, AF26, AG$3:AG$32, AG26, AH$3:AH$32, "<"&AH26) )
A27: =IF(OR(B27="", B27="N/A"), "", 1 + COUNTIFS(C$3:C$32, ">"&C27) + COUNTIFS(C$3:C$32, C27, D$3:D$32, ">"&D27) + COUNTIFS(C$3:C$32, C27, D$3:D$32, D27, E$3:E$32, ">"&E27) + COUNTIFS(C$3:C$32, C27, D$3:D$32, D27, E$3:E$32, E27, F$3:F$32, ">"&F27) + COUNTIFS(C$3:C$32, C27, D$3:D$32, D27, E$3:E$32, E27, F$3:F$32, F27, G$3:G$32, "<"&G27) ) | I27: =IF(OR(J27="", J27="N/A"), "", 1 + COUNTIFS(K$3:K$32, ">"&K27) + COUNTIFS(K$3:K$32, K27, L$3:L$32, ">"&L27) + COUNTIFS(K$3:K$32, K27, L$3:L$32, L27, M$3:M$32, ">"&M27) + COUNTIFS(K$3:K$32, K27, L$3:L$32, L27, M$3:M$32, M27, N$3:N$32, ">"&N27) + COUNTIFS(K$3:K$32, K27, L$3:L$32, L27, M$3:M$32, M27, N$3:N$32, N27, O$3:O$32, "<"&O27) ) | Q27: =IF(OR(R27="", R27="N/A"), "", 1 + COUNTIFS(S$3:S$32, ">"&S27) + COUNTIFS(S$3:S$32, S27, T$3:T$32, ">"&T27) + COUNTIFS(S$3:S$32, S27, T$3:T$32, T27, U$3:U$32, ">"&U27) + COUNTIFS(S$3:S$32, S27, T$3:T$32, T27, U$3:U$32, U27, V$3:V$32, ">"&V27) + COUNTIFS(S$3:S$32, S27, T$3:T$32, T27, U$3:U$32, U27, V$3:V$32, V27, W$3:W$32, "<"&W27) ) | Y27: =IF(OR(Z27="", Z27="N/A"), "", 1 + COUNTIFS(AD$3:AD$32, ">"&AD27) + COUNTIFS(AD$3:AD$32, AD27, AE$3:AE$32, ">"&AE27) + COUNTIFS(AD$3:AD$32, AD27, AE$3:AE$32, AE27, AF$3:AF$32, ">"&AF27) + COUNTIFS(AD$3:AD$32, AD27, AE$3:AE$32, AE27, AF$3:AF$32, AF27, AG$3:AG$32, ">"&AG27) + COUNTIFS(AD$3:AD$32, AD27, AE$3:AE$32, AE27, AF$3:AF$32, AF27, AG$3:AG$32, AG27, AH$3:AH$32, "<"&AH27) )
A28: =IF(OR(B28="", B28="N/A"), "", 1 + COUNTIFS(C$3:C$32, ">"&C28) + COUNTIFS(C$3:C$32, C28, D$3:D$32, ">"&D28) + COUNTIFS(C$3:C$32, C28, D$3:D$32, D28, E$3:E$32, ">"&E28) + COUNTIFS(C$3:C$32, C28, D$3:D$32, D28, E$3:E$32, E28, F$3:F$32, ">"&F28) + COUNTIFS(C$3:C$32, C28, D$3:D$32, D28, E$3:E$32, E28, F$3:F$32, F28, G$3:G$32, "<"&G28) ) | I28: =IF(OR(J28="", J28="N/A"), "", 1 + COUNTIFS(K$3:K$32, ">"&K28) + COUNTIFS(K$3:K$32, K28, L$3:L$32, ">"&L28) + COUNTIFS(K$3:K$32, K28, L$3:L$32, L28, M$3:M$32, ">"&M28) + COUNTIFS(K$3:K$32, K28, L$3:L$32, L28, M$3:M$32, M28, N$3:N$32, ">"&N28) + COUNTIFS(K$3:K$32, K28, L$3:L$32, L28, M$3:M$32, M28, N$3:N$32, N28, O$3:O$32, "<"&O28) ) | Q28: =IF(OR(R28="", R28="N/A"), "", 1 + COUNTIFS(S$3:S$32, ">"&S28) + COUNTIFS(S$3:S$32, S28, T$3:T$32, ">"&T28) + COUNTIFS(S$3:S$32, S28, T$3:T$32, T28, U$3:U$32, ">"&U28) + COUNTIFS(S$3:S$32, S28, T$3:T$32, T28, U$3:U$32, U28, V$3:V$32, ">"&V28) + COUNTIFS(S$3:S$32, S28, T$3:T$32, T28, U$3:U$32, U28, V$3:V$32, V28, W$3:W$32, "<"&W28) ) | Y28: =IF(OR(Z28="", Z28="N/A"), "", 1 + COUNTIFS(AD$3:AD$32, ">"&AD28) + COUNTIFS(AD$3:AD$32, AD28, AE$3:AE$32, ">"&AE28) + COUNTIFS(AD$3:AD$32, AD28, AE$3:AE$32, AE28, AF$3:AF$32, ">"&AF28) + COUNTIFS(AD$3:AD$32, AD28, AE$3:AE$32, AE28, AF$3:AF$32, AF28, AG$3:AG$32, ">"&AG28) + COUNTIFS(AD$3:AD$32, AD28, AE$3:AE$32, AE28, AF$3:AF$32, AF28, AG$3:AG$32, AG28, AH$3:AH$32, "<"&AH28) )
A29: =IF(OR(B29="", B29="N/A"), "", 1 + COUNTIFS(C$3:C$32, ">"&C29) + COUNTIFS(C$3:C$32, C29, D$3:D$32, ">"&D29) + COUNTIFS(C$3:C$32, C29, D$3:D$32, D29, E$3:E$32, ">"&E29) + COUNTIFS(C$3:C$32, C29, D$3:D$32, D29, E$3:E$32, E29, F$3:F$32, ">"&F29) + COUNTIFS(C$3:C$32, C29, D$3:D$32, D29, E$3:E$32, E29, F$3:F$32, F29, G$3:G$32, "<"&G29) ) | I29: =IF(OR(J29="", J29="N/A"), "", 1 + COUNTIFS(K$3:K$32, ">"&K29) + COUNTIFS(K$3:K$32, K29, L$3:L$32, ">"&L29) + COUNTIFS(K$3:K$32, K29, L$3:L$32, L29, M$3:M$32, ">"&M29) + COUNTIFS(K$3:K$32, K29, L$3:L$32, L29, M$3:M$32, M29, N$3:N$32, ">"&N29) + COUNTIFS(K$3:K$32, K29, L$3:L$32, L29, M$3:M$32, M29, N$3:N$32, N29, O$3:O$32, "<"&O29) ) | Q29: =IF(OR(R29="", R29="N/A"), "", 1 + COUNTIFS(S$3:S$32, ">"&S29) + COUNTIFS(S$3:S$32, S29, T$3:T$32, ">"&T29) + COUNTIFS(S$3:S$32, S29, T$3:T$32, T29, U$3:U$32, ">"&U29) + COUNTIFS(S$3:S$32, S29, T$3:T$32, T29, U$3:U$32, U29, V$3:V$32, ">"&V29) + COUNTIFS(S$3:S$32, S29, T$3:T$32, T29, U$3:U$32, U29, V$3:V$32, V29, W$3:W$32, "<"&W29) ) | Y29: =IF(OR(Z29="", Z29="N/A"), "", 1 + COUNTIFS(AD$3:AD$32, ">"&AD29) + COUNTIFS(AD$3:AD$32, AD29, AE$3:AE$32, ">"&AE29) + COUNTIFS(AD$3:AD$32, AD29, AE$3:AE$32, AE29, AF$3:AF$32, ">"&AF29) + COUNTIFS(AD$3:AD$32, AD29, AE$3:AE$32, AE29, AF$3:AF$32, AF29, AG$3:AG$32, ">"&AG29) + COUNTIFS(AD$3:AD$32, AD29, AE$3:AE$32, AE29, AF$3:AF$32, AF29, AG$3:AG$32, AG29, AH$3:AH$32, "<"&AH29) )
A30: =IF(OR(B30="", B30="N/A"), "", 1 + COUNTIFS(C$3:C$32, ">"&C30) + COUNTIFS(C$3:C$32, C30, D$3:D$32, ">"&D30) + COUNTIFS(C$3:C$32, C30, D$3:D$32, D30, E$3:E$32, ">"&E30) + COUNTIFS(C$3:C$32, C30, D$3:D$32, D30, E$3:E$32, E30, F$3:F$32, ">"&F30) + COUNTIFS(C$3:C$32, C30, D$3:D$32, D30, E$3:E$32, E30, F$3:F$32, F30, G$3:G$32, "<"&G30) ) | I30: =IF(OR(J30="", J30="N/A"), "", 1 + COUNTIFS(K$3:K$32, ">"&K30) + COUNTIFS(K$3:K$32, K30, L$3:L$32, ">"&L30) + COUNTIFS(K$3:K$32, K30, L$3:L$32, L30, M$3:M$32, ">"&M30) + COUNTIFS(K$3:K$32, K30, L$3:L$32, L30, M$3:M$32, M30, N$3:N$32, ">"&N30) + COUNTIFS(K$3:K$32, K30, L$3:L$32, L30, M$3:M$32, M30, N$3:N$32, N30, O$3:O$32, "<"&O30) ) | Q30: =IF(OR(R30="", R30="N/A"), "", 1 + COUNTIFS(S$3:S$32, ">"&S30) + COUNTIFS(S$3:S$32, S30, T$3:T$32, ">"&T30) + COUNTIFS(S$3:S$32, S30, T$3:T$32, T30, U$3:U$32, ">"&U30) + COUNTIFS(S$3:S$32, S30, T$3:T$32, T30, U$3:U$32, U30, V$3:V$32, ">"&V30) + COUNTIFS(S$3:S$32, S30, T$3:T$32, T30, U$3:U$32, U30, V$3:V$32, V30, W$3:W$32, "<"&W30) ) | Y30: =IF(OR(Z30="", Z30="N/A"), "", 1 + COUNTIFS(AD$3:AD$32, ">"&AD30) + COUNTIFS(AD$3:AD$32, AD30, AE$3:AE$32, ">"&AE30) + COUNTIFS(AD$3:AD$32, AD30, AE$3:AE$32, AE30, AF$3:AF$32, ">"&AF30) + COUNTIFS(AD$3:AD$32, AD30, AE$3:AE$32, AE30, AF$3:AF$32, AF30, AG$3:AG$32, ">"&AG30) + COUNTIFS(AD$3:AD$32, AD30, AE$3:AE$32, AE30, AF$3:AF$32, AF30, AG$3:AG$32, AG30, AH$3:AH$32, "<"&AH30) )
... A32: =IF(OR(B32="", B32="N/A"), "", 1 + COUNTIFS(C$3:C$32, ">"&C32) + COUNTIFS(C$3:C$32, C32, D$3:D$32, ">"&D32) + COUNTIFS(C$3:C$32, C32, D$3:D$32, D32, E$3:E$32, ">"&E32) + COUNTIFS(C$3:C$32, C32, D$3:D$32, D32, E$3:E$32, E32, F$3:F$32, ">"&F32) + COUNTIFS(C$3:C$32, C32, D$3:D$32, D32, E$3:E$32, E32, F$3:F$32, F32, G$3:G$32, "<"&G32) ) | I32: =IF(OR(J32="", J32="N/A"), "", 1 + COUNTIFS(K$3:K$32, ">"&K32) + COUNTIFS(K$3:K$32, K32, L$3:L$32, ">"&L32) + COUNTIFS(K$3:K$32, K32, L$3:L$32, L32, M$3:M$32, ">"&M32) + COUNTIFS(K$3:K$32, K32, L$3:L$32, L32, M$3:M$32, M32, N$3:N$32, ">"&N32) + COUNTIFS(K$3:K$32, K32, L$3:L$32, L32, M$3:M$32, M32, N$3:N$32, N32, O$3:O$32, "<"&O32) ) | Q32: =IF(OR(R32="", R32="N/A"), "", 1 + COUNTIFS(S$3:S$32, ">"&S32) + COUNTIFS(S$3:S$32, S32, T$3:T$32, ">"&T32) + COUNTIFS(S$3:S$32, S32, T$3:T$32, T32, U$3:U$32, ">"&U32) + COUNTIFS(S$3:S$32, S32, T$3:T$32, T32, U$3:U$32, U32, V$3:V$32, ">"&V32) + COUNTIFS(S$3:S$32, S32, T$3:T$32, T32, U$3:U$32, U32, V$3:V$32, V32, W$3:W$32, "<"&W32) ) | Y32: =IF(OR(Z32="", Z32="N/A"), "", 1 + COUNTIFS(AD$3:AD$32, ">"&AD32) + COUNTIFS(AD$3:AD$32, AD32, AE$3:AE$32, ">"&AE32) + COUNTIFS(AD$3:AD$32, AD32, AE$3:AE$32, AE32, AF$3:AF$32, ">"&AF32) + COUNTIFS(AD$3:AD$32, AD32, AE$3:AE$32, AE32, AF$3:AF$32, AF32, AG$3:AG$32, ">"&AG32) + COUNTIFS(AD$3:AD$32, AD32, AE$3:AE$32, AE32, AF$3:AF$32, AF32, AG$3:AG$32, AG32, AH$3:AH$32, "<"&AH32) )

Sheet DN-Ties
A1: Hip Hop | I1: Jazz | Q1: Pom | Y1: Grand Champion | AG1: Grand Champion Points
A2: Place | B2: School | C2: Total | D2: TB1 | E2: TB2 | F2: TB3 | G2: TB4 | I2: Place | J2: School | K2: Total | L2: TB1 | M2: TB2 | N2: TB3 | O2: TB4 | Q2: Place | R2: School | S2: Total | T2: TB1 | U2: TB2 | V2: TB3 | W2: TB4 | Y2: Place | Z2: School | AA2: Total | AB2: TB1 | AC2: TB2 | AD2: TB3 | AE2: TB4 | AG2: School | AH2: HH Pl | AI2: HH Pts | AJ2: J Pl | AK2: J Pts | AL2: P Pl | AM2: P Pts | AN2: Total | AO2: TB1 | AP2: TB2 | AQ2: TB3 | AR2: TB4
A3: =IF(OR(B3="",B3="N/A"),"",RANK(C3,$C$3:$C$32,0)) -> 1 | B3: {=IFERROR(_xlfn.CHOOSECOLS(_xlfn._xlws.SORT(_xlfn._xlws.FILTER(Scores!$A$2:$I$211,(Scores!$I$2:$I$211<>"")*(Scores!$D$2:$D$211="Hip Hop")),{9,2},{-1,1}),2,9),"N/A")} -> Harrisburg | C3: 272.5 | I3: =IF(OR(J3="",J3="N/A"),"",RANK(K3,$K$3:$K$32,0)) -> 1 | J3: {=IFERROR(_xlfn.CHOOSECOLS(_xlfn._xlws.SORT(_xlfn._xlws.FILTER(Scores!$A$2:$I$211,(Scores!$I$2:$I$211<>"")*(Scores!$D$2:$D$211="Jazz")),{9,2},{-1,1}),2,9),"N/A")} -> Brandon Valley | K3: 280 | Q3: =IF(OR(R3="",R3="N/A"),"",RANK(S3,$S$3:$S$32,0)) -> 1 | R3: {=IFERROR(_xlfn.CHOOSECOLS(_xlfn._xlws.SORT(_xlfn._xlws.FILTER(Scores!$A$2:$I$211,(Scores!$I$2:$I$211<>"")*(Scores!$D$2:$D$211="Pom")),{9,2},{-1,1}),2,9),"N/A")} -> Brandon Valley | S3: 280.5 | Y3: =IF(OR(Z3="",Z3="N/A"),"",RANK(AA3,$AA$3:$AA$32,0)) -> 1 | Z3: {=IFERROR(_xlfn.CHOOSECOLS(_xlfn._xlws.SORT(_xlfn._xlws.FILTER($AG$3:$AN$32,$AN$3:$AN$32<>""),{8,1},{-1,1}),1,8),"N/A")} -> Brandon Valley | AA3: 40 | AG3: {=_xlfn.UNIQUE(_xlfn._xlws.FILTER(_xlfn.TOCOL(_xlfn.VSTACK('DN-Results'!$B$3:$B$32,'DN-Results'!$J$3:$J$32,'DN-Results'!$R$3:$R$32)),_xlfn.TOCOL(_xlfn.TOCOL(_xlfn.VSTACK('DN-Results'!$B$3:$B$32,'DN-Results'!$J$3:$J$32,'DN-Results'!$R$3:$R$32))<>"",1)))} -> Harrisburg | AH3: =IF($AG3="","",_xlfn.XLOOKUP($AG3,$B$3:$B$32,$A$3:$A$32,"-")) -> 1 | AI3: =IF(AG3="","",IF(AH3="-","-",IF(AH3<=20,21-AH3,0))) -> 20 | AJ3: =IF($AG3="","",_xlfn.XLOOKUP($AG3,$J$3:$J$32,$I$3:$I$32,"-")) -> 3 | AK3: =IF(AG3="","",IF(AJ3="-","-",IF(AJ3<=20,21-AJ3,0))) -> 18 | AL3: =IF($AG3="","",_xlfn.XLOOKUP($AG3,$R$3:$R$32,$Q$3:$Q$32,"-")) -> - | AM3: =IF(AG3="","",IF(AL3="-","-",IF(AL3<=20,21-AL3,0))) -> - | AN3: =IF(OR(AG3="",AG3="N/A"),"",IF((ISERR(FIND("-",AI3))+ISERR(FIND("-",AK3))+ISERR(FIND("-",AM3)))>=2,SUM(AI3,AK3,AM3),"")) -> 38 | AO3: {=IF(AG3="","",VLOOKUP(AG3,$Z$3:$AE$20,{3,4,5,6},FALSE))} -> 260.5 | AP3: 0 | AQ3: 0 | AR3: 0
A4: =IF(OR(B4="",B4="N/A"),"",RANK(C4,$C$3:$C$32,0)) -> 2 | B4: Sioux Falls Jefferson | C4: 268.5 | I4: =IF(OR(J4="",J4="N/A"),"",RANK(K4,$K$3:$K$32,0)) -> 2 | J4: Dakota Valley | K4: 275.5 | Q4: =IF(OR(R4="",R4="N/A"),"",RANK(S4,$S$3:$S$32,0)) -> 2 | R4: Dakota Valley | S4: 278.5 | Y4: =IF(OR(Z4="",Z4="N/A"),"",RANK(AA4,$AA$3:$AA$32,0)) -> 2 | Z4: Dakota Valley | AA4: 38 | AB4: 274.5 | AG4: Sioux Falls Jefferson | AH4: =IF($AG4="","",_xlfn.XLOOKUP($AG4,$B$3:$B$32,$A$3:$A$32,"-")) -> 2 | AI4: =IF(AG4="","",IF(AH4="-","-",IF(AH4<=20,21-AH4,0))) -> 19 | AJ4: =IF($AG4="","",_xlfn.XLOOKUP($AG4,$J$3:$J$32,$I$3:$I$32,"-")) -> - | AK4: =IF(AG4="","",IF(AJ4="-","-",IF(AJ4<=20,21-AJ4,0))) -> - | AL4: =IF($AG4="","",_xlfn.XLOOKUP($AG4,$R$3:$R$32,$Q$3:$Q$32,"-")) -> 4 | AM4: =IF(AG4="","",IF(AL4="-","-",IF(AL4<=20,21-AL4,0))) -> 17 | AN4: =IF(AG4="","",IF((ISERR(FIND("-",AI4))+ISERR(FIND("-",AK4))+ISERR(FIND("-",AM4)))>=2,SUM(AI4,AK4,AM4),"")) -> 36 | AO4: {=IF(AG4="","",VLOOKUP(AG4,$Z$3:$AE$20,{3,4,5,6},FALSE))} -> 0 | AP4: 0 | AQ4: 0 | AR4: 0
A5: =IF(OR(B5="",B5="N/A"),"",RANK(C5,$C$3:$C$32,0)) -> 3 | B5: Sioux Falls Washington | C5: 263 | I5: =IF(OR(J5="",J5="N/A"),"",RANK(K5,$K$3:$K$32,0)) -> 3 | J5: Harrisburg | K5: 256.5 | Q5: =IF(OR(R5="",R5="N/A"),"",RANK(S5,$S$3:$S$32,0)) -> 3 | R5: Yankton | S5: 259.5 | Y5: =IF(OR(Z5="",Z5="N/A"),"",RANK(AA5,$AA$3:$AA$32,0)) -> 2 | Z5: Harrisburg | AA5: 38 | AB5: 260.5 | AG5: Sioux Falls Washington | AH5: =IF($AG5="","",_xlfn.XLOOKUP($AG5,$B$3:$B$32,$A$3:$A$32,"-")) -> 3 | AI5: =IF(AG5="","",IF(AH5="-","-",IF(AH5<=20,21-AH5,0))) -> 18 | AJ5: =IF($AG5="","",_xlfn.XLOOKUP($AG5,$J$3:$J$32,$I$3:$I$32,"-")) -> - | AK5: =IF(AG5="","",IF(AJ5="-","-",IF(AJ5<=20,21-AJ5,0))) -> - | AL5: =IF($AG5="","",_xlfn.XLOOKUP($AG5,$R$3:$R$32,$Q$3:$Q$32,"-")) -> 5 | AM5: =IF(AG5="","",IF(AL5="-","-",IF(AL5<=20,21-AL5,0))) -> 16 | AN5: =IF(AG5="","",IF((ISERR(FIND("-",AI5))+ISERR(FIND("-",AK5))+ISERR(FIND("-",AM5)))>=2,SUM(AI5,AK5,AM5),"")) -> 34 | AO5: {=IF(AG5="","",VLOOKUP(AG5,$Z$3:$AE$20,{3,4,5,6},FALSE))} -> 250 | AP5: 0 | AQ5: 0 | AR5: 0
A6: =IF(OR(B6="",B6="N/A"),"",RANK(C6,$C$3:$C$32,0)) -> 4 | B6: Sioux Falls Lincoln | C6: 257.5 | I6: =IF(OR(J6="",J6="N/A"),"",RANK(K6,$K$3:$K$32,0)) -> 4 | J6: O'Gorman | K6: 245 | Q6: =IF(OR(R6="",R6="N/A"),"",RANK(S6,$S$3:$S$32,0)) -> 4 | R6: Sioux Falls Jefferson | S6: 256.5 | Y6: =IF(OR(Z6="",Z6="N/A"),"",RANK(AA6,$AA$3:$AA$32,0)) -> 4 | Z6: Sioux Falls Jefferson | AA6: 36 | AG6: Sioux Falls Lincoln | AH6: =IF($AG6="","",_xlfn.XLOOKUP($AG6,$B$3:$B$32,$A$3:$A$32,"-")) -> 4 | AI6: =IF(AG6="","",IF(AH6="-","-",IF(AH6<=20,21-AH6,0))) -> 17 | AJ6: =IF($AG6="","",_xlfn.XLOOKUP($AG6,$J$3:$J$32,$I$3:$I$32,"-")) -> 7 | AK6: =IF(AG6="","",IF(AJ6="-","-",IF(AJ6<=20,21-AJ6,0))) -> 14 | AL6: =IF($AG6="","",_xlfn.XLOOKUP($AG6,$R$3:$R$32,$Q$3:$Q$32,"-")) -> - | AM6: =IF(AG6="","",IF(AL6="-","-",IF(AL6<=20,21-AL6,0))) -> - | AN6: =IF(AG6="","",IF((ISERR(FIND("-",AI6))+ISERR(FIND("-",AK6))+ISERR(FIND("-",AM6)))>=2,SUM(AI6,AK6,AM6),"")) -> 31 | AO6: {=IF(AG6="","",VLOOKUP(AG6,$Z$3:$AE$20,{3,4,5,6},FALSE))} -> 0 | AP6: 0 | AQ6: 0 | AR6: 0
A7: =IF(OR(B7="",B7="N/A"),"",RANK(C7,$C$3:$C$32,0)) -> 5 | B7: Rapid City Central | C7: 245 | I7: =IF(OR(J7="",J7="N/A"),"",RANK(K7,$K$3:$K$32,0)) -> 5 | J7: Yankton | K7: 244.5 | Q7: =IF(OR(R7="",R7="N/A"),"",RANK(S7,$S$3:$S$32,0)) -> 5 | R7: Sioux Falls Washington | S7: 245.5 | Y7: =IF(OR(Z7="",Z7="N/A"),"",RANK(AA7,$AA$3:$AA$32,0)) -> 5 | Z7: Sioux Falls Washington | AA7: 34 | AB7: 250 | AG7: Rapid City Central | AH7: =IF($AG7="","",_xlfn.XLOOKUP($AG7,$B$3:$B$32,$A$3:$A$32,"-")) -> 5 | AI7: =IF(AG7="","",IF(AH7="-","-",IF(AH7<=20,21-AH7,0))) -> 16 | AJ7: =IF($AG7="","",_xlfn.XLOOKUP($AG7,$J$3:$J$32,$I$3:$I$32,"-")) -> - | AK7: =IF(AG7="","",IF(AJ7="-","-",IF(AJ7<=20,21-AJ7,0))) -> - | AL7: =IF($AG7="","",_xlfn.XLOOKUP($AG7,$R$3:$R$32,$Q$3:$Q$32,"-")) -> 8 | AM7: =IF(AG7="","",IF(AL7="-","-",IF(AL7<=20,21-AL7,0))) -> 13 | AN7: =IF(AG7="","",IF((ISERR(FIND("-",AI7))+ISERR(FIND("-",AK7))+ISERR(FIND("-",AM7)))>=2,SUM(AI7,AK7,AM7),"")) -> 29 | AO7: {=IF(AG7="","",VLOOKUP(AG7,$Z$3:$AE$20,{3,4,5,6},FALSE))} -> 224.5 | AP7: 0 | AQ7: 0 | AR7: 0
A8: =IF(OR(B8="",B8="N/A"),"",RANK(C8,$C$3:$C$32,0)) -> 6 | B8: O'Gorman | C8: 234.5 | I8: =IF(OR(J8="",J8="N/A"),"",RANK(K8,$K$3:$K$32,0)) -> 6 | J8: Sioux Falls Roosevelt | K8: 234.5 | Q8: =IF(OR(R8="",R8="N/A"),"",RANK(S8,$S$3:$S$32,0)) -> 6 | R8: Watertown | S8: 237 | Y8: =IF(OR(Z8="",Z8="N/A"),"",RANK(AA8,$AA$3:$AA$32,0)) -> 5 | Z8: Yankton | AA8: 34 | AB8: 244 | AG8: O'Gorman | AH8: =IF($AG8="","",_xlfn.XLOOKUP($AG8,$B$3:$B$32,$A$3:$A$32,"-")) -> 6 | AI8: =IF(AG8="","",IF(AH8="-","-",IF(AH8<=20,21-AH8,0))) -> 15 | AJ8: =IF($AG8="","",_xlfn.XLOOKUP($AG8,$J$3:$J$32,$I$3:$I$32,"-")) -> 4 | AK8: =IF(AG8="","",IF(AJ8="-","-",IF(AJ8<=20,21-AJ8,0))) -> 17 | AL8: =IF($AG8="","",_xlfn.XLOOKUP($AG8,$R$3:$R$32,$Q$3:$Q$32,"-")) -> - | AM8: =IF(AG8="","",IF(AL8="-","-",IF(AL8<=20,21-AL8,0))) -> - | AN8: =IF(AG8="","",IF((ISERR(FIND("-",AI8))+ISERR(FIND("-",AK8))+ISERR(FIND("-",AM8)))>=2,SUM(AI8,AK8,AM8),"")) -> 32 | AO8: {=IF(AG8="","",VLOOKUP(AG8,$Z$3:$AE$20,{3,4,5,6},FALSE))} -> 0 | AP8: 0 | AQ8: 0 | AR8: 0
A9: =IF(OR(B9="",B9="N/A"),"",RANK(C9,$C$3:$C$32,0)) -> 7 | B9: Sioux Falls Roosevelt | C9: 219.5 | I9: =IF(OR(J9="",J9="N/A"),"",RANK(K9,$K$3:$K$32,0)) -> 7 | J9: Sioux Falls Lincoln | K9: 231 | Q9: =IF(OR(R9="",R9="N/A"),"",RANK(S9,$S$3:$S$32,0)) -> 7 | R9: Pierre | S9: 230 | Y9: =IF(OR(Z9="",Z9="N/A"),"",RANK(AA9,$AA$3:$AA$32,0)) -> 7 | Z9: O'Gorman | AA9: 32 | AG9: Sioux Falls Roosevelt | AH9: =IF($AG9="","",_xlfn.XLOOKUP($AG9,$B$3:$B$32,$A$3:$A$32,"-")) -> 7 | AI9: =IF(AG9="","",IF(AH9="-","-",IF(AH9<=20,21-AH9,0))) -> 14 | AJ9: =IF($AG9="","",_xlfn.XLOOKUP($AG9,$J$3:$J$32,$I$3:$I$32,"-")) -> 6 | AK9: =IF(AG9="","",IF(AJ9="-","-",IF(AJ9<=20,21-AJ9,0))) -> 15 | AL9: =IF($AG9="","",_xlfn.XLOOKUP($AG9,$R$3:$R$32,$Q$3:$Q$32,"-")) -> - | AM9: =IF(AG9="","",IF(AL9="-","-",IF(AL9<=20,21-AL9,0))) -> - | AN9: =IF(AG9="","",IF((ISERR(FIND("-",AI9))+ISERR(FIND("-",AK9))+ISERR(FIND("-",AM9)))>=2,SUM(AI9,AK9,AM9),"")) -> 29 | AO9: {=IF(AG9="","",VLOOKUP(AG9,$Z$3:$AE$20,{3,4,5,6},FALSE))} -> 119.5 | AP9: 0 | AQ9: 0 | AR9: 0
A10: =IF(OR(B10="",B10="N/A"),"",RANK(C10,$C$3:$C$32,0)) -> 8 | B10: Brookings | C10: 215 | I10: =IF(OR(J10="",J10="N/A"),"",RANK(K10,$K$3:$K$32,0)) -> 8 | J10: Watertown | K10: 230 | Q10: =IF(OR(R10="",R10="N/A"),"",RANK(S10,$S$3:$S$32,0)) -> 8 | R10: Rapid City Central | S10: 224 | Y10: =IF(OR(Z10="",Z10="N/A"),"",RANK(AA10,$AA$3:$AA$32,0)) -> 8 | Z10: Sioux Falls Lincoln | AA10: 31 | AG10: Brookings | AH10: =IF($AG10="","",_xlfn.XLOOKUP($AG10,$B$3:$B$32,$A$3:$A$32,"-")) -> 8 | AI10: =IF(AG10="","",IF(AH10="-","-",IF(AH10<=20,21-AH10,0))) -> 13 | AJ10: =IF($AG10="","",_xlfn.XLOOKUP($AG10,$J$3:$J$32,$I$3:$I$32,"-")) -> 9 | AK10: =IF(AG10="","",IF(AJ10="-","-",IF(AJ10<=20,21-AJ10,0))) -> 12 | AL10: =IF($AG10="","",_xlfn.XLOOKUP($AG10,$R$3:$R$32,$Q$3:$Q$32,"-")) -> - | AM10: =IF(AG10="","",IF(AL10="-","-",IF(AL10<=20,21-AL10,0))) -> - | AN10: =IF(AG10="","",IF((ISERR(FIND("-",AI10))+ISERR(FIND("-",AK10))+ISERR(FIND("-",AM10)))>=2,SUM(AI10,AK10,AM10),"")) -> 25 | AO10: {=IF(AG10="","",VLOOKUP(AG10,$Z$3:$AE$20,{3,4,5,6},FALSE))} -> 0 | AP10: 0 | AQ10: 0 | AR10: 0
A11: =IF(OR(B11="",B11="N/A"),"",RANK(C11,$C$3:$C$32,0)) -> 9 | B11: Tea Area | C11: 214.5 | I11: =IF(OR(J11="",J11="N/A"),"",RANK(K11,$K$3:$K$32,0)) -> 9 | J11: Brookings | K11: 203.5 | Q11: =IF(OR(R11="",R11="N/A"),"",RANK(S11,$S$3:$S$32,0)) -> 9 | R11: Aberdeen Central | S11: 223.5 | Y11: =IF(OR(Z11="",Z11="N/A"),"",RANK(AA11,$AA$3:$AA$32,0)) -> 9 | Z11: Rapid City Central | AA11: 29 | AB11: 224.5 | AG11: Tea Area | AH11: =IF($AG11="","",_xlfn.XLOOKUP($AG11,$B$3:$B$32,$A$3:$A$32,"-")) -> 9 | AI11: =IF(AG11="","",IF(AH11="-","-",IF(AH11<=20,21-AH11,0))) -> 12 | AJ11: =IF($AG11="","",_xlfn.XLOOKUP($AG11,$J$3:$J$32,$I$3:$I$32,"-")) -> - | AK11: =IF(AG11="","",IF(AJ11="-","-",IF(AJ11<=20,21-AJ11,0))) -> - | AL11: =IF($AG11="","",_xlfn.XLOOKUP($AG11,$R$3:$R$32,$Q$3:$Q$32,"-")) -> 10 | AM11: =IF(AG11="","",IF(AL11="-","-",IF(AL11<=20,21-AL11,0))) -> 11 | AN11: =IF(AG11="","",IF((ISERR(FIND("-",AI11))+ISERR(FIND("-",AK11))+ISERR(FIND("-",AM11)))>=2,SUM(AI11,AK11,AM11),"")) -> 23 | AO11: {=IF(AG11="","",VLOOKUP(AG11,$Z$3:$AE$20,{3,4,5,6},FALSE))} -> 207.5 | AP11: 0 | AQ11: 0 | AR11: 0
A12: =IF(OR(B12="",B12="N/A"),"",RANK(C12,$C$3:$C$32,0)) -> 10 | B12: Aberdeen Central | C12: 214 | I12: =IF(OR(J12="",J12="N/A"),"",RANK(K12,$K$3:$K$32,0)) | Q12: =IF(OR(R12="",R12="N/A"),"",RANK(S12,$S$3:$S$32,0)) -> 10 | R12: Tea Area | S12: 220.5 | Y12: =IF(OR(Z12="",Z12="N/A"),"",RANK(AA12,$AA$3:$AA$32,0)) -> 9 | Z12: Sioux Falls Roosevelt | AA12: 29 | AB12: 119.5 | AG12: Aberdeen Central | AH12: =IF($AG12="","",_xlfn.XLOOKUP($AG12,$B$3:$B$32,$A$3:$A$32,"-")) -> 10 | AI12: =IF(AG12="","",IF(AH12="-","-",IF(AH12<=20,21-AH12,0))) -> 11 | AJ12: =IF($AG12="","",_xlfn.XLOOKUP($AG12,$J$3:$J$32,$I$3:$I$32,"-")) -> - | AK12: =IF(AG12="","",IF(AJ12="-","-",IF(AJ12<=20,21-AJ12,0))) -> - | AL12: =IF($AG12="","",_xlfn.XLOOKUP($AG12,$R$3:$R$32,$Q$3:$Q$32,"-")) -> 9 | AM12: =IF(AG12="","",IF(AL12="-","-",IF(AL12<=20,21-AL12,0))) -> 12 | AN12: =IF(AG12="","",IF((ISERR(FIND("-",AI12))+ISERR(FIND("-",AK12))+ISERR(FIND("-",AM12)))>=2,SUM(AI12,AK12,AM12),"")) -> 23 | AO12: {=IF(AG12="","",VLOOKUP(AG12,$Z$3:$AE$20,{3,4,5,6},FALSE))} -> 210 | AP12: 0 | AQ12: 0 | AR12: 0
A13: =IF(OR(B13="",B13="N/A"),"",RANK(C13,$C$3:$C$32,0)) -> 11 | B13: Pierre | C13: 209.5 | I13: =IF(OR(J13="",J13="N/A"),"",RANK(K13,$K$3:$K$32,0)) | Q13: =IF(OR(R13="",R13="N/A"),"",RANK(S13,$S$3:$S$32,0)) -> 11 | R13: Huron | S13: 209.5 | Y13: =IF(OR(Z13="",Z13="N/A"),"",RANK(AA13,$AA$3:$AA$32,0)) -> 11 | Z13: Watertown | AA13: 28 | AG13: Pierre | AH13: =IF($AG13="","",_xlfn.XLOOKUP($AG13,$B$3:$B$32,$A$3:$A$32,"-")) -> 11 | AI13: =IF(AG13="","",IF(AH13="-","-",IF(AH13<=20,21-AH13,0))) -> 10 | AJ13: =IF($AG13="","",_xlfn.XLOOKUP($AG13,$J$3:$J$32,$I$3:$I$32,"-")) -> - | AK13: =IF(AG13="","",IF(AJ13="-","-",IF(AJ13<=20,21-AJ13,0))) -> - | AL13: =IF($AG13="","",_xlfn.XLOOKUP($AG13,$R$3:$R$32,$Q$3:$Q$32,"-")) -> 7 | AM13: =IF(AG13="","",IF(AL13="-","-",IF(AL13<=20,21-AL13,0))) -> 14 | AN13: =IF(AG13="","",IF((ISERR(FIND("-",AI13))+ISERR(FIND("-",AK13))+ISERR(FIND("-",AM13)))>=2,SUM(AI13,AK13,AM13),"")) -> 24 | AO13: {=IF(AG13="","",VLOOKUP(AG13,$Z$3:$AE$20,{3,4,5,6},FALSE))} -> 0 | AP13: 0 | AQ13: 0 | AR13: 0
A14: =IF(OR(B14="",B14="N/A"),"",RANK(C14,$C$3:$C$32,0)) -> 12 | B14: Huron | C14: 203.5 | I14: =IF(OR(J14="",J14="N/A"),"",RANK(K14,$K$3:$K$32,0)) | Q14: =IF(OR(R14="",R14="N/A"),"",RANK(S14,$S$3:$S$32,0)) | Y14: =IF(OR(Z14="",Z14="N/A"),"",RANK(AA14,$AA$3:$AA$32,0)) -> 12 | Z14: Brookings | AA14: 25 | AG14: Huron | AH14: =IF($AG14="","",_xlfn.XLOOKUP($AG14,$B$3:$B$32,$A$3:$A$32,"-")) -> 12 | AI14: =IF(AG14="","",IF(AH14="-","-",IF(AH14<=20,21-AH14,0))) -> 9 | AJ14: =IF($AG14="","",_xlfn.XLOOKUP($AG14,$J$3:$J$32,$I$3:$I$32,"-")) -> - | AK14: =IF(AG14="","",IF(AJ14="-","-",IF(AJ14<=20,21-AJ14,0))) -> - | AL14: =IF($AG14="","",_xlfn.XLOOKUP($AG14,$R$3:$R$32,$Q$3:$Q$32,"-")) -> 11 | AM14: =IF(AG14="","",IF(AL14="-","-",IF(AL14<=20,21-AL14,0))) -> 10 | AN14: =IF(AG14="","",IF((ISERR(FIND("-",AI14))+ISERR(FIND("-",AK14))+ISERR(FIND("-",AM14)))>=2,SUM(AI14,AK14,AM14),"")) -> 19 | AO14: {=IF(AG14="","",VLOOKUP(AG14,$Z$3:$AE$20,{3,4,5,6},FALSE))} -> 0 | AP14: 0 | AQ14: 0 | AR14: 0
A15: =IF(OR(B15="",B15="N/A"),"",RANK(C15,$C$3:$C$32,0)) | I15: =IF(OR(J15="",J15="N/A"),"",RANK(K15,$K$3:$K$32,0)) | Q15: =IF(OR(R15="",R15="N/A"),"",RANK(S15,$S$3:$S$32,0)) | Y15: =IF(OR(Z15="",Z15="N/A"),"",RANK(AA15,$AA$3:$AA$32,0)) -> 13 | Z15: Pierre | AA15: 24 | AG15: Brandon Valley | AH15: =IF($AG15="","",_xlfn.XLOOKUP($AG15,$B$3:$B$32,$A$3:$A$32,"-")) -> - | AI15: =IF(AG15="","",IF(AH15="-","-",IF(AH15<=20,21-AH15,0))) -> - | AJ15: =IF($AG15="","",_xlfn.XLOOKUP($AG15,$J$3:$J$32,$I$3:$I$32,"-")) -> 1 | AK15: =IF(AG15="","",IF(AJ15="-","-",IF(AJ15<=20,21-AJ15,0))) -> 20 | AL15: =IF($AG15="","",_xlfn.XLOOKUP($AG15,$R$3:$R$32,$Q$3:$Q$32,"-")) -> 1 | AM15: =IF(AG15="","",IF(AL15="-","-",IF(AL15<=20,21-AL15,0))) -> 20 | AN15: =IF(AG15="","",IF((ISERR(FIND("-",AI15))+ISERR(FIND("-",AK15))+ISERR(FIND("-",AM15)))>=2,SUM(AI15,AK15,AM15),"")) -> 40 | AO15: {=IF(AG15="","",VLOOKUP(AG15,$Z$3:$AE$20,{3,4,5,6},FALSE))} -> 0 | AP15: 0 | AQ15: 0 | AR15: 0
