Workbook

Sheet Overview
A1: Competitive Cheer and Competitive Dance Score Program User Guide
A3: Please only type in the yellow highlighted cells. All other data will populate automatically.
A5: To start a new competition, login to Bound and save a blank copy of the Score Program file.
A6: Step 1 - Entries | B6: ENTER PARTICIPATING SCHOOLS/ENTRIES - Enter teams and entries on the 'Entries' tab. Enter the name of the school once and place an 'X' (on the same line) for each category/division in which they will compete.
A7: Step 2 - Entries | B7: ENTER PERFORMANCE ORDER - After all entries are entered, replace each 'X' on the 'Entries' tab with the number order of each team's performance (1, 2, 3, 4, etc.). For example, if you have 25 total entries across all categories/divisions, number the performances from 1 to 25. DO NOT restart numbering for each category/division. This will automatically place all performances in order on the score entry page.
A8: Step 3 - Scores | B8: ENTER SCORES - Once scores from all judges have been tabulated after each performance, enter scores on the 'Scores' tab. SCORES FOR JUDGE 1, JUDGE 2, JUDGE 3 AND DEDUCTIONS MUST BE ENTERED IN ORDER FOR TOTAL SCORE TO BE CALCULATED! If not being used, type a '0' in that column.
A9: Step 4 - Results | B9: VERIFY RESULTS - Once all performances in a category/division are complete, verify scores on 'CH-Results' or 'DN-Results' tab. Ties for any placements will automatically be highlighted.
A10: Step 5 - Ties | B10: RESOLVE TIES - If a tie occurs in any category/division, enter tiebreaker information on 'CH-Ties' or 'DN-Ties' to resolve the ties. ENTER ONE NUMBER IN EACH TIEBREAKER COLUMN FOR THE TIED TEAMS UNTIL THE TIE IS BROKEN. Teams will remain shown as tied on the 'Ties' screen, but will be re-ranked on the 'Results' screen once tiebreaker information is entered.
A11: Tabs
A12: Entries | B12: List of participating schools and the categories/divisions in which they will be competing
A13: Scores | B13: Score entry screen for all performance listed in order based on order entered on 'Entries' tab
A14: CH-Results | B14: Competitive Cheer division results
A15: CH-Ties | B15: Competitive Cheer tiebreaker information
A16: DN-Results | B16: Competitive Dance division and team champion results
A17: DN-Ties | B17: Competitive Dance tiebreaker information
A19: NOTE: DO NOT enter anything into cells that are not highlighted in yellow!!!
A21: Call Aaron Magnuson at 605-940-7443 or email aaron.magnuson@sdhsaa.com with any questions or concerns.

Sheet Entries
A1: School | C1: CHEER | H1: DANCE | L1: =IF($C$3="","-",$C$3) -> - | M1: =$A$3 -> Aberdeen Central | N1: =PROPER($C$1) -> Cheer | O1: =$C$2 -> Small
C2: Small | D2: Large | E2: Coed | F2: St/Tumb | H2: Hip Hop | I2: Jazz | J2: Pom | L2: =IF($D$3="","-",$D$3) -> - | M2: =$A$3 -> Aberdeen Central | N2: =PROPER($C$1) -> Cheer | O2: =$D$2 -> Large
A3: Aberdeen Central | F3: 36 | H3: 10 | J3: 47 | L3: =IF($E$3="","-",$E$3) -> - | M3: =$A$3 -> Aberdeen Central | N3: =PROPER($C$1) -> Cheer | O3: =$E$2 -> Coed
A4: Brandon Valley | I4: 27 | J4: 42 | L4: =IF($F$3="","-",$F$3) -> 36 | M4: =$A$3 -> Aberdeen Central | N4: =PROPER($C$1) -> Cheer | O4: =$F$2 -> St/Tumb
A5: Brookings | F5: 23 | H5: 8 | I5: 33 | L5: =IF($H$3="","-",$H$3) -> 10 | M5: =$A$3 -> Aberdeen Central | N5: =PROPER($H$1) -> Dance | O5: =$H$2 -> Hip Hop
A6: Dakota Valley | I6: 24 | J6: 45 | L6: =IF($I$3="","-",$I$3) -> - | M6: =$A$3 -> Aberdeen Central | N6: =PROPER($H$1) -> Dance | O6: =$I$2 -> Jazz
A7: Dell Rapids | F7: 13 | L7: =IF($J$3="","-",$J$3) -> 47 | M7: =$A$3 -> Aberdeen Central | N7: =PROPER($H$1) -> Dance | O7: =$J$2 -> Pom
A8: Deubrook | F8: 11 | L8: =IF($C$4="","-",$C$4) -> - | M8: =$A$4 -> Brandon Valley | N8: =PROPER($C$1) -> Cheer | O8: =$C$2 -> Small
A9: Elkton-Lake Benton | F9: 40 | L9: =IF($D$4="","-",$D$4) -> - | M9: =$A$4 -> Brandon Valley | N9: =PROPER($C$1) -> Cheer | O9: =$D$2 -> Large
A10: Harrisburg | F10: 1 | H10: 15 | I10: 34 | L10: =IF($E$4="","-",$E$4) -> - | M10: =$A$4 -> Brandon Valley | N10: =PROPER($C$1) -> Cheer | O10: =$E$2 -> Coed
A11: Huron | F11: 32 | H11: 14 | J11: 51 | L11: =IF($F$4="","-",$F$4) -> - | M11: =$A$4 -> Brandon Valley | N11: =PROPER($C$1) -> Cheer | O11: =$F$2 -> St/Tumb
A12: O'Gorman | F12: 9 | H12: 22 | I12: 35 | L12: =IF($H$4="","-",$H$4) -> - | M12: =$A$4 -> Brandon Valley | N12: =PROPER($H$1) -> Dance | O12: =$H$2 -> Hip Hop
A13: Pierre | F13: 7 | H13: 20 | J13: 44 | L13: =IF($I$4="","-",$I$4) -> 27 | M13: =$A$4 -> Brandon Valley | N13: =PROPER($H$1) -> Dance | O13: =$I$2 -> Jazz
A14: Rapid City Central | F14: 19 | H14: 4 | J14: 41 | L14: =IF($J$4="","-",$J$4) -> 42 | M14: =$A$4 -> Brandon Valley | N14: =PROPER($H$1) -> Dance | O14: =$J$2 -> Pom
A15: Sioux Falls Jefferson | F15: 29 | H15: 12 | J15: 48 | L15: =IF($C$5="","-",$C$5) -> - | M15: =$A$5 -> Brookings | N15: =PROPER($C$1) -> Cheer | O15: =$C$2 -> Small
A16: Sioux Falls Lincoln | F16: 21 | H16: 6 | I16: 31 | L16: =IF($D$5="","-",$D$5) -> - | M16: =$A$5 -> Brookings | N16: =PROPER($C$1) -> Cheer | O16: =$D$2 -> Large
A17: Sioux Falls Roosevelt | F17: 46 | H17: 2 | I17: 25 | L17: =IF($E$5="","-",$E$5) -> - | M17: =$A$5 -> Brookings | N17: =PROPER($C$1) -> Cheer | O17: =$E$2 -> Coed
A18: Sioux Falls Washington | F18: 3 | H18: 18 | J18: 38 | L18: =IF($F$5="","-",$F$5) -> 23 | M18: =$A$5 -> Brookings | N18: =PROPER($C$1) -> Cheer | O18: =$F$2 -> St/Tumb
A19: Sioux Valley | F19: 5 | L19: =IF($H$5="","-",$H$5) -> 8 | M19: =$A$5 -> Brookings | N19: =PROPER($H$1) -> Dance | O19: =$H$2 -> Hip Hop
A20: Sturgis | F20: 26 | L20: =IF($I$5="","-",$I$5) -> 33 | M20: =$A$5 -> Brookings | N20: =PROPER($H$1) -> Dance | O20: =$I$2 -> Jazz
A21: Tea Area | F21: 49 | H21: 17 | J21: 37 | L21: =IF($J$5="","-",$J$5) -> - | M21: =$A$5 -> Brookings | N21: =PROPER($H$1) -> Dance | O21: =$J$2 -> Pom
A22: Watertown | F22: 43 | I22: 28 | J22: 39 | L22: =IF($C$6="","-",$C$6) -> - | M22: =$A$6 -> Dakota Valley | N22: =PROPER($C$1) -> Cheer | O22: =$C$2 -> Small
A23: Yankton | F23: 16 | I23: 30 | J23: 50 | L23: =IF($D$6="","-",$D$6) -> - | M23: =$A$6 -> Dakota Valley | N23: =PROPER($C$1) -> Cheer | O23: =$D$2 -> Large
L24: =IF($E$6="","-",$E$6) -> - | M24: =$A$6 -> Dakota Valley | N24: =PROPER($C$1) -> Cheer | O24: =$E$2 -> Coed
L25: =IF($F$6="","-",$F$6) -> - | M25: =$A$6 -> Dakota Valley | N25: =PROPER($C$1) -> Cheer | O25: =$F$2 -> St/Tumb
L26: =IF($H$6="","-",$H$6) -> - | M26: =$A$6 -> Dakota Valley | N26: =PROPER($H$1) -> Dance | O26: =$H$2 -> Hip Hop
L27: =IF($I$6="","-",$I$6) -> 24 | M27: =$A$6 -> Dakota Valley | N27: =PROPER($H$1) -> Dance | O27: =$I$2 -> Jazz
L28: =IF($J$6="","-",$J$6) -> 45 | M28: =$A$6 -> Dakota Valley | N28: =PROPER($H$1) -> Dance | O28: =$J$2 -> Pom
L29: =IF($C$7="","-",$C$7) -> - | M29: =$A$7 -> Dell Rapids | N29: =PROPER($C$1) -> Cheer | O29: =$C$2 -> Small
L30: =IF($D$7="","-",$D$7) -> - | M30: =$A$7 -> Dell Rapids | N30: =PROPER($C$1) -> Cheer | O30: =$D$2 -> Large
L31: =IF($E$7="","-",$E$7) -> - | M31: =$A$7 -> Dell Rapids | N31: =PROPER($C$1) -> Cheer | O31: =$E$2 -> Coed
L32: =IF($F$7="","-",$F$7) -> 13 | M32: =$A$7 -> Dell Rapids | N32: =PROPER($C$1) -> Cheer | O32: =$F$2 -> St/Tumb
L33: =IF($H$7="","-",$H$7) -> - | M33: =$A$7 -> Dell Rapids | N33: =PROPER($H$1) -> Dance | O33: =$H$2 -> Hip Hop
L34: =IF($I$7="","-",$I$7) -> - | M34: =$A$7 -> Dell Rapids | N34: =PROPER($H$1) -> Dance | O34: =$I$2 -> Jazz
L35: =IF($J$7="","-",$J$7) -> - | M35: =$A$7 -> Dell Rapids | N35: =PROPER($H$1) -> Dance | O35: =$J$2 -> Pom
L36: =IF($C$8="","-",$C$8) -> - | M36: =$A$8 -> Deubrook | N36: =PROPER($C$1) -> Cheer | O36: =$C$2 -> Small
L37: =IF($D$8="","-",$D$8) -> - | M37: =$A$8 -> Deubrook | N37: =PROPER($C$1) -> Cheer | O37: =$D$2 -> Large
L38: =IF($E$8="","-",$E$8) -> - | M38: =$A$8 -> Deubrook | N38: =PROPER($C$1) -> Cheer | O38: =$E$2 -> Coed
L39: =IF($F$8="","-",$F$8) -> 11 | M39: =$A$8 -> Deubrook | N39: =PROPER($C$1) -> Cheer | O39: =$F$2 -> St/Tumb
L40: =IF($H$8="","-",$H$8) -> - | M40: =$A$8 -> Deubrook | N40: =PROPER($H$1) -> Dance | O40: =$H$2 -> Hip Hop
...

Sheet Scores
A1: Order | B1: School | C1: Category | D1: Division | E1: Judge 1 | F1: Judge 2 | G1: Judge 3 | H1: Deductions | I1: Total
A2: {=_xlfn._xlws.SORT(_xlfn._xlws.FILTER(Entries!L1:O210,Entries!L1:L210<>"-","N/A"),1,TRUE)} -> 1 | B2: Harrisburg | C2: Cheer | D2: St/Tumb | E2: 97 | F2: 96 | G2: 97 | H2: 0 | I2: =IF(AND(AND(E2<>"",F2<>"",G2<>"",H2<>"")),SUM(E2:G2)-H2,"") -> 290
A3: 2 | B3: Sioux Falls Roosevelt | C3: Dance | D3: Hip Hop | E3: 74.5 | F3: 74 | G3: 72 | H3: 1 | I3: =IF(AND(AND(E3<>"",F3<>"",G3<>"",H3<>"")),SUM(E3:G3)-H3,"") -> 219.5
A4: 3 | B4: Sioux Falls Washington | C4: Cheer | D4: St/Tumb | E4: 63.5 | F4: 63.5 | G4: 64.5 | H4: 16 | I4: =IF(AND(AND(E4<>"",F4<>"",G4<>"",H4<>"")),SUM(E4:G4)-H4,"") -> 175.5
A5: 4 | B5: Rapid City Central | C5: Dance | D5: Hip Hop | E5: 80 | F5: 83 | G5: 84 | H5: 2 | I5: =IF(AND(AND(E5<>"",F5<>"",G5<>"",H5<>"")),SUM(E5:G5)-H5,"") -> 245
A6: 5 | B6: Sioux Valley | C6: Cheer | D6: St/Tumb | E6: 93 | F6: 92 | G6: 93 | H6: 0 | I6: =IF(AND(AND(E6<>"",F6<>"",G6<>"",H6<>"")),SUM(E6:G6)-H6,"") -> 278
A7: 6 | B7: Sioux Falls Lincoln | C7: Dance | D7: Hip Hop | E7: 86 | F7: 85 | G7: 88.5 | H7: 2 | I7: =IF(AND(AND(E7<>"",F7<>"",G7<>"",H7<>"")),SUM(E7:G7)-H7,"") -> 257.5
A8: 7 | B8: Pierre | C8: Cheer | D8: St/Tumb | E8: 71 | F8: 68 | G8: 70.5 | H8: 1 | I8: =IF(AND(AND(E8<>"",F8<>"",G8<>"",H8<>"")),SUM(E8:G8)-H8,"") -> 208.5
A9: 8 | B9: Brookings | C9: Dance | D9: Hip Hop | E9: 72 | F9: 71.5 | G9: 71.5 | H9: 0 | I9: =IF(AND(AND(E9<>"",F9<>"",G9<>"",H9<>"")),SUM(E9:G9)-H9,"") -> 215
A10: 9 | B10: O'Gorman | C10: Cheer | D10: St/Tumb | E10: 98 | F10: 98.5 | G10: 97 | H10: 6 | I10: =IF(AND(AND(E10<>"",F10<>"",G10<>"",H10<>"")),SUM(E10:G10)-H10,"") -> 287.5
A11: 10 | B11: Aberdeen Central | C11: Dance | D11: Hip Hop | E11: 70.5 | F11: 70.5 | G11: 75 | H11: 2 | I11: =IF(AND(AND(E11<>"",F11<>"",G11<>"",H11<>"")),SUM(E11:G11)-H11,"") -> 214
A12: 11 | B12: Deubrook | C12: Cheer | D12: St/Tumb | E12: 63.5 | F12: 62 | G12: 64.5 | H12: 2 | I12: =IF(AND(AND(E12<>"",F12<>"",G12<>"",H12<>"")),SUM(E12:G12)-H12,"") -> 188
A13: 12 | B13: Sioux Falls Jefferson | C13: Dance | D13: Hip Hop | E13: 90.5 | F13: 91 | G13: 91 | H13: 4 | I13: =IF(AND(AND(E13<>"",F13<>"",G13<>"",H13<>"")),SUM(E13:G13)-H13,"") -> 268.5
A14: 13 | B14: Dell Rapids | C14: Cheer | D14: St/Tumb | E14: 68.5 | F14: 67 | G14: 67.5 | H14: 1 | I14: =IF(AND(AND(E14<>"",F14<>"",G14<>"",H14<>"")),SUM(E14:G14)-H14,"") -> 202
... A52: 51 | B52: Huron | C52: Dance | D52: Pom | E52: 71 | F52: 70 | G52: 68.5 | H52: 0 | I52: =IF(AND(AND(E52<>"",F52<>"",G52<>"",H52<>"")),SUM(E52:G52)-H52,"") -> 209.5
I53: =IF(AND(AND(E53<>"",F53<>"",G53<>"",H53<>"")),SUM(E53:G53)-H53,"")
I54: =IF(AND(AND(E54<>"",F54<>"",G54<>"",H54<>"")),SUM(E54:G54)-H54,"")
I55: =IF(AND(AND(E55<>"",F55<>"",G55<>"",H55<>"")),SUM(E55:G55)-H55,"")
I56: =IF(AND(AND(E56<>"",F56<>"",G56<>"",H56<>"")),SUM(E56:G56)-H56,"")
I57: =IF(AND(AND(E57<>"",F57<>"",G57<>"",H57<>"")),SUM(E57:G57)-H57,"")
I58: =IF(AND(AND(E58<>"",F58<>"",G58<>"",H58<>"")),SUM(E58:G58)-H58,"")
I59: =IF(AND(AND(E59<>"",F59<>"",G59<>"",H59<>"")),SUM(E59:G59)-H59,"")
I60: =IF(AND(AND(E60<>"",F60<>"",G60<>"",H60<>"")),SUM(E60:G60)-H60,"")
I61: =IF(AND(AND(E61<>"",F61<>"",G61<>"",H61<>"")),SUM(E61:G61)-H61,"")
I62: =IF(AND(AND(E62<>"",F62<>"",G62<>"",H62<>"")),SUM(E62:G62)-H62,"")
I63: =IF(AND(AND(E63<>"",F63<>"",G63<>"",H63<>"")),SUM(E63:G63)-H63,"")
I64: =IF(AND(AND(E64<>"",F64<>"",G64<>"",H64<>"")),SUM(E64:G64)-H64,"")
... I211: =IF(AND(AND(E211<>"",F211<>"",G211<>"",H211<>"")),SUM(E211:G211)-H211,"")

Sheet CH-Results
A1: Small | N1: Large | AA1: Coed | AN1: St/Tumb
A2: Place | B2: School | C2: Score | D2: TB1 | E2: TB2 | F2: TB3 | G2: TB4 | H2: TB5 | I2: TB6 | J2: TB7 | K2: TB8 | L2: TB9 | N2: Place | O2: School | P2: Score | Q2: TB1 | R2: TB2 | S2: TB3 | T2: TB4 | U2: TB5 | V2: TB6 | W2: TB7 | X2: TB8 | Y2: TB9 | AA2: Place | AB2: School | AC2: Score | AD2: TB1 | AE2: TB2 | AF2: TB3 | AG2: TB4 | AH2: TB5 | AI2: TB6 | AJ2: TB7 | AK2: TB8 | AL2: TB9 | AN2: Place | AO2: School | AP2: Total | AQ2: TB1 | AR2: TB2 | AS2: TB3 | AT2: TB4 | AU2: TB5 | AV2: TB6 | AW2: TB7 | AX2: TB8 | AY2: TB9
A3: =IF(OR(B3="", B3="N/A"), "", 1 + COUNTIFS(C$3:C$32, ">"&C3) + COUNTIFS(C$3:C$32, C3, D$3:D$32, "<"&D3) + COUNTIFS(C$3:C$32, C3, D$3:D$32, D3, E$3:E$32, "<"&E3) + COUNTIFS(C$3:C$32, C3, D$3:D$32, D3, E$3:E$32, E3, F$3:F$32, ">"&F3) + COUNTIFS(C$3:C$32, C3, D$3:D$32, D3, E$3:E$32, E3, F$3:F$32, F3, G$3:G$32, ">"&G3) + COUNTIFS(C$3:C$32, C3, D$3:D$32, D3, E$3:E$32, E3, F$3:F$32, F3, G$3:G$32, G3, H$3:H$32, ">"&H3) + COUNTIFS(C$3:C$32, C3, D$3:D$32, D3, E$3:E$32, E3, F$3:F$32, F3, G$3:G$32, G3, H$3:H$32, H3, I$3:I$32, ">"&I3) + COUNTIFS(C$3:C$32, C3, D$3:D$32, D3, E$3:E$32, E3, F$3:F$32, F3, G$3:G$32, G3, H$3:H$32, H3, I$3:I$32, I3, J$3:J$32, ">"&J3) + COUNTIFS(C$3:C$32, C3, D$3:D$32, D3, E$3:E$32, E3, F$3:F$32, F3, G$3:G$32, G3, H$3:H$32, H3, I$3:I$32, I3, J$3:J$32, J3, K$3:K$32, ">"&K3) + COUNTIFS(C$3:C$32, C3, D$3:D$32, D3, E$3:E$32, E3, F$3:F$32, F3, G$3:G$32, G3, H$3:H$32, H3, I$3:I$32, I3, J$3:J$32, J3, K$3:K$32, K3, L$3:L$32, ">"&L3) ) | B3: {=IF('CH-Ties'!B3="N/A","N/A",_xlfn._xlws.FILTER(_xlfn._xlws.SORT('CH-Ties'!B3:L32,{2,3,4,5,6,7,8,9,10,11},{-1,1,1,-1,-1,-1,-1,-1,-1,-1}),'CH-Ties'!B3:B32<>""))} -> N/A | N3: =IF(OR(O3="", O3="N/A"), "", 1 + COUNTIFS(P$3:P$32, ">"&P3) + COUNTIFS(P$3:P$32, P3, Q$3:Q$32, "<"&Q3) + COUNTIFS(P$3:P$32, P3, Q$3:Q$32, Q3, R$3:R$32, "<"&R3) + COUNTIFS(P$3:P$32, P3, Q$3:Q$32, Q3, R$3:R$32, R3, S$3:S$32, ">"&S3) + COUNTIFS(P$3:P$32, P3, Q$3:Q$32, Q3, R$3:R$32, R3, S$3:S$32, S3, T$3:T$32, ">"&T3) + COUNTIFS(P$3:P$32, P3, Q$3:Q$32, Q3, R$3:R$32, R3, S$3:S$32, S3, T$3:T$32, T3, U$3:U$32, ">"&U3) + COUNTIFS(P$3:P$32, P3, Q$3:Q$32, Q3, R$3:R$32, R3, S$3:S$32, S3, T$3:T$32, T3, U$3:U$32, U3, V$3:V$32, ">"&V3) + COUNTIFS(P$3:P$32, P3, Q$3:Q$32, Q3, R$3:R$32, R3, S$3:S$32, S3, T$3:T$32, T3, U$3:U$32, U3, V$3:V$32, V3, W$3:W$32, ">"&W3) + COUNTIFS(P$3:P$32, P3, Q$3:Q$32, Q3, R$3:R$32, R3, S$3:S$32, S3, T$3:T$32, T3, U$3:U$32, U3, V$3:V$32, V3, W$3:W$32, W3, X$3:X$32, ">"&X3) + COUNTIFS(P$3:P$32, P3, Q$3:Q$32, Q3, R$3:R$32, R3, S$3:S$32, S3, T$3:T$32, T3, U$3:U$32, U3, V$3:V$32, V3, W$3:W$32, W3, X$3:X$32, X3, Y$3:Y$32, ">"&Y3) ) | O3: {=IF('CH-Ties'!O3="N/A","N/A",_xlfn._xlws.FILTER(_xlfn._xlws.SORT('CH-Ties'!O3:Y32,{2,3,4,5,6,7,8,9,10,11},{-1,1,1,-1,-1,-1,-1,-1,-1,-1}),'CH-Ties'!O3:O32<>""))} -> N/A | AA3: =IF(OR(AB3="", AB3="N/A"), "", 1 + COUNTIFS(AC$3:AC$32, ">"&AC3) + COUNTIFS(AC$3:AC$32, AC3, AD$3:AD$32, "<"&AD3) + COUNTIFS(AC$3:AC$32, AC3, AD$3:AD$32, AD3, AE$3:AE$32, "<"&AE3) + COUNTIFS(AC$3:AC$32, AC3, AD$3:AD$32, AD3, AE$3:AE$32, AE3, AF$3:AF$32, ">"&AF3) + COUNTIFS(AC$3:AC$32, AC3, AD$3:AD$32, AD3, AE$3:AE$32, AE3, AF$3:AF$32, AF3, AG$3:AG$32, ">"&AG3) + COUNTIFS(AC$3:AC$32, AC3, AD$3:AD$32, AD3, AE$3:AE$32, AE3, AF$3:AF$32, AF3, AG$3:AG$32, AG3, AH$3:AH$32, ">"&AH3) + COUNTIFS(AC$3:AC$32, AC3, AD$3:AD$32, AD3, AE$3:AE$32, AE3, AF$3:AF$32, AF3, AG$3:AG$32, AG3, AH$3:AH$32, AH3, AI$3:AI$32, ">"&AI3) + COUNTIFS(AC$3:AC$32, AC3, AD$3:AD$32, AD3, AE$3:AE$32, AE3, AF$3:AF$32, AF3, AG$3:AG$32, AG3, AH$3:AH$32, AH3, AI$3:AI$32, AI3, AJ$3:AJ$32, ">"&AJ3) + COUNTIFS(AC$3:AC$32, AC3, AD$3:AD$32, AD3, AE$3:AE$32, AE3, AF$3:AF$32, AF3, AG$3:AG$32, AG3, AH$3:AH$32, AH3, AI$3:AI$32, AI3, AJ$3:AJ$32, AJ3, AK$3:AK$32, ">"&AK3) + COUNTIFS(AC$3:AC$32, AC3, AD$3:AD$32, AD3, AE$3:AE$32, AE3, AF$3:AF$32, AF3, AG$3:AG$32, AG3, AH$3:AH$32, AH3, AI$3:AI$32, AI3, AJ$3:AJ$32, AJ3, AK$3:AK$32, AK3, AL$3:AL$32, ">"&AL3) ) | AB3: {=IF('CH-Ties'!AB3="N/A","N/A",_xlfn._xlws.FILTER(_xlfn._xlws.SORT('CH-Ties'!AB3:AL32,{2,3,4,5,6,7,8,9,10,11},{-1,1,1,-1,-1,-1,-1,-1,-1,-1}),'CH-Ties'!AB3:AB32<>""))} -> N/A | AN3: =IF(OR(AO3="", AO3="N/A"), "", 1 + COUNTIFS(AP$3:AP$32, ">"&AP3) + COUNTIFS(AP$3:AP$32, AP3, AQ$3:AQ$32, "<"&AQ3) + COUNTIFS(AP$3:AP$32, AP3, AQ$3:AQ$32, AQ3, AR$3:AR$32, "<"&AR3) + COUNTIFS(AP$3:AP$32, AP3, AQ$3:AQ$32, AQ3, AR$3:AR$32, AR3, AS$3:AS$32, ">"&AS3) + COUNTIFS(AP$3:AP$32, AP3, AQ$3:AQ$32, AQ3, AR$3:AR$32, AR3, AS$3:AS$32, AS3, AT$3:AT$32, ">"&AT3) + COUNTIFS(AP$3:AP$32, AP3, AQ$3:AQ$32, AQ3, AR$3:AR$32, AR3, AS$3:AS$32, AS3, AT$3:AT$32, AT3, AU$3:AU$32, ">"&AU3) + COUNTIFS(AP$3:AP$32, AP3, AQ$3:AQ$32, AQ3, AR$3:AR$32, AR3, AS$3:AS$32, AS3, AT$3:AT$32, AT3, AU$3:AU$32, AU3, AV$3:AV$32, ">"&AV3) + COUNTIFS(AP$3:AP$32, AP3, AQ$3:AQ$32, AQ3, AR$3:AR$32, AR3, AS$3:AS$32, AS3, AT$3:AT$32, AT3, AU$3:AU$32, AU3, AV$3:AV$32, AV3, AW$3:AW$32, ">"&AW3) + COUNTIFS(AP$3:AP$32, AP3, AQ$3:AQ$32, AQ3, AR$3:AR$32, AR3, AS$3:AS$32, AS3, AT$3:AT$32, AT3, AU$3:AU$32, AU3, AV$3:AV$32, AV3, AW$3:AW$32, AW3, AX$3:AX$32, ">"&AX3) + COUNTIFS(AP$3:AP$32, AP3, AQ$3:AQ$32, AQ3, AR$3:AR$32, AR3, AS$3:AS$32, AS3, AT$3:AT$32, AT3, AU$3:AU$32, AU3, AV$3:AV$32, AV3, AW$3:AW$32, AW3, AX$3:AX$32, AX3, AY$3:AY$32, ">"&AY3) ) -> 1 | AO3: {=IF('CH-Ties'!AO3="N/A","N/A",_xlfn._xlws.FILTER(_xlfn._xlws.SORT('CH-Ties'!AO3:AY32,{2,3,4,5,6,7,8,9,10,11},{-1,1,1,-1,-1,-1,-1,-1,-1,-1}),'CH-Ties'!AO3:AO32<>""))} -> Sioux Falls Jefferson | AP3: 295.5 | AQ3: 0 | AR3: 0 | AS3: 0 | AT3: 0 | AU3: 0 | AV3: 0 | AW3: 0 | AX3: 0 | AY3: 0
A4: =IF(OR(B4="", B4="N/A"), "", 1 + COUNTIFS(C$3:C$32, ">"&C4) + COUNTIFS(C$3:C$32, C4, D$3:D$32, "<"&D4) + COUNTIFS(C$3:C$32, C4, D$3:D$32, D4, E$3:E$32, "<"&E4) + COUNTIFS(C$3:C$32, C4, D$3:D$32, D4, E$3:E$32, E4, F$3:F$32, ">"&F4) + COUNTIFS(C$3:C$32, C4, D$3:D$32, D4, E$3:E$32, E4, F$3:F$32, F4, G$3:G$32, ">"&G4) + COUNTIFS(C$3:C$32, C4, D$3:D$32, D4, E$3:E$32, E4, F$3:F$32, F4, G$3:G$32, G4, H$3:H$32, ">"&H4) + COUNTIFS(C$3:C$32, C4, D$3:D$32, D4, E$3:E$32, E4, F$3:F$32, F4, G$3:G$32, G4, H$3:H$32, H4, I$3:I$32, ">"&I4) + COUNTIFS(C$3:C$32, C4, D$3:D$32, D4, E$3:E$32, E4, F$3:F$32, F4, G$3:G$32, G4, H$3:H$32, H4, I$3:I$32, I4, J$3:J$32, ">"&J4) + COUNTIFS(C$3:C$32, C4, D$3:D$32, D4, E$3:E$32, E4, F$3:F$32, F4, G$3:G$32, G4, H$3:H$32, H4, I$3:I$32, I4, J$3:J$32, J4, K$3:K$32, ">"&K4) + COUNTIFS(C$3:C$32, C4, D$3:D$32, D4, E$3:E$32, E4, F$3:F$32, F4, G$3:G$32, G4, H$3:H$32, H4, I$3:I$32, I4, J$3:J$32, J4, K$3:K$32, K4, L$3:L$32, ">"&L4) ) | N4: =IF(OR(O4="", O4="N/A"), "", 1 + COUNTIFS(P$3:P$32, ">"&P4) + COUNTIFS(P$3:P$32, P4, Q$3:Q$32, "<"&Q4) + COUNTIFS(P$3:P$32, P4, Q$3:Q$32, Q4, R$3:R$32, "<"&R4) + COUNTIFS(P$3:P$32, P4, Q$3:Q$32, Q4, R$3:R$32, R4, S$3:S$32, ">"&S4) + COUNTIFS(P$3:P$32, P4, Q$3:Q$32, Q4, R$3:R$32, R4, S$3:S$32, S4, T$3:T$32, ">"&T4) + COUNTIFS(P$3:P$32, P4, Q$3:Q$32, Q4, R$3:R$32, R4, S$3:S$32, S4, T$3:T$32, T4, U$3:U$32, ">"&U4) + COUNTIFS(P$3:P$32, P4, Q$3:Q$32, Q4, R$3:R$32, R4, S$3:S$32, S4, T$3:T$32, T4, U$3:U$32, U4, V$3:V$32, ">"&V4) + COUNTIFS(P$3:P$32, P4, Q$3:Q$32, Q4, R$3:R$32, R4, S$3:S$32, S4, T$3:T$32, T4, U$3:U$32, U4, V$3:V$32, V4, W$3:W$32, ">"&W4) + COUNTIFS(P$3:P$32, P4, Q$3:Q$32, Q4, R$3:R$32, R4, S$3:S$32, S4, T$3:T$32, T4, U$3:U$32, U4, V$3:V$32, V4, W$3:W$32, W4, X$3:X$32, ">"&X4) + COUNTIFS(P$3:P$32, P4, Q$3:Q$32, Q4, R$3:R$32, R4, S$3:S$32, S4, T$3:T$32, T4, U$3:U$32, U4, V$3:V$32, V4, W$3:W$32, W4, X$3:X$32, X4, Y$3:Y$32, ">"&Y4) ) | AA4: =IF(OR(AB4="", AB4="N/A"), "", 1 + COUNTIFS(AC$3:AC$32, ">"&AC4) + COUNTIFS(AC$3:AC$32, AC4, AD$3:AD$32, "<"&AD4) + COUNTIFS(AC$3:AC$32, AC4, AD$3:AD$32, AD4, AE$3:AE$32, "<"&AE4) + COUNTIFS(AC$3:AC$32, AC4, AD$3:AD$32, AD4, AE$3:AE$32, AE4, AF$3:AF$32, ">"&AF4) + COUNTIFS(AC$3:AC$32, AC4, AD$3:AD$32, AD4, AE$3:AE$32, AE4, AF$3:AF$32, AF4, AG$3:AG$32, ">"&AG4) + COUNTIFS(AC$3:AC$32, AC4, AD$3:AD$32, AD4, AE$3:AE$32, AE4, AF$3:AF$32, AF4, AG$3:AG$32, AG4, AH$3:AH$32, ">"&AH4) + COUNTIFS(AC$3:AC$32, AC4, AD$3:AD$32, AD4, AE$3:AE$32, AE4, AF$3:AF$32, AF4, AG$3:AG$32, AG4, AH$3:AH$32, AH4, AI$3:AI$32, ">"&AI4) + COUNTIFS(AC$3:AC$32, AC4, AD$3:AD$32, AD4, AE$3:AE$32, AE4, AF$3:AF$32, AF4, AG$3:AG$32, AG4, AH$3:AH$32, AH4, AI$3:AI$32, AI4, AJ$3:AJ$32, ">"&AJ4) + COUNTIFS(AC$3:AC$32, AC4, AD$3:AD$32, AD4, AE$3:AE$32, AE4, AF$3:AF$32, AF4, AG$3:AG$32, AG4, AH$3:AH$32, AH4, AI$3:AI$32, AI4, AJ$3:AJ$32, AJ4, AK$3:AK$32, ">"&AK4) + COUNTIFS(AC$3:AC$32, AC4, AD$3:AD$32, AD4, AE$3:AE$32, AE4, AF$3:AF$32, AF4, AG$3:AG$32, AG4, AH$3:AH$32, AH4, AI$3:AI$32, AI4, AJ$3:AJ$32, AJ4, AK$3:AK$32, AK4, AL$3:AL$32, ">"&AL4) ) | AN4: =IF(OR(AO4="", AO4="N/A"), "", 1 + COUNTIFS(AP$3:AP$32, ">"&AP4) + COUNTIFS(AP$3:AP$32, AP4, AQ$3:AQ$32, "<"&AQ4) + COUNTIFS(AP$3:AP$32, AP4, AQ$3:AQ$32, AQ4, AR$3:AR$32, "<"&AR4) + COUNTIFS(AP$3:AP$32, AP4, AQ$3:AQ$32, AQ4, AR$3:AR$32, AR4, AS$3:AS$32, ">"&AS4) + COUNTIFS(AP$3:AP$32, AP4, AQ$3:AQ$32, AQ4, AR$3:AR$32, AR4, AS$3:AS$32, AS4, AT$3:AT$32, ">"&AT4) + COUNTIFS(AP$3:AP$32, AP4, AQ$3:AQ$32, AQ4, AR$3:AR$32, AR4, AS$3:AS$32, AS4, AT$3:AT$32, AT4, AU$3:AU$32, ">"&AU4) + COUNTIFS(AP$3:AP$32, AP4, AQ$3:AQ$32, AQ4, AR$3:AR$32, AR4, AS$3:AS$32, AS4, AT$3:AT$32, AT4, AU$3:AU$32, AU4, AV$3:AV$32, ">"&AV4) + COUNTIFS(AP$3:AP$32, AP4, AQ$3:AQ$32, AQ4, AR$3:AR$32, AR4, AS$3:AS$32, AS4, AT$3:AT$32, AT4, AU$3:AU$32, AU4, AV$3:AV$32, AV4, AW$3:AW$32, ">"&AW4) + COUNTIFS(AP$3:AP$32, AP4, AQ$3:AQ$32, AQ4, AR$3:AR$32, AR4, AS$3:AS$32, AS4, AT$3:AT$32, AT4, AU$3:AU$32, AU4, AV$3:AV$32, AV4, AW$3:AW$32, AW4, AX$3:AX$32, ">"&AX4) + COUNTIFS(AP$3:AP$32, AP4, AQ$3:AQ$32, AQ4, AR$3:AR$32, AR4, AS$3:AS$32, AS4, AT$3:AT$32, AT4, AU$3:AU$32, AU4, AV$3:AV$32, AV4, AW$3:AW$32, AW4, AX$3:AX$32, AX4, AY$3:AY$32, ">"&AY4) ) -> 2 | AO4: Harrisburg | AP4: 290 | AQ4: 0 | AR4: 0 | AS4: 0 | AT4: 0 | AU4: 0 | AV4: 0 | AW4: 0 | AX4: 0 | AY4: 0
A5: =IF(OR(B5="", B5="N/A"), "", 1 + COUNTIFS(C$3:C$32, ">"&C5) + COUNTIFS(C$3:C$32, C5, D$3:D$32, "<"&D5) + COUNTIFS(C$3:C$32, C5, D$3:D$32, D5, E$3:E$32, "<"&E5) + COUNTIFS(C$3:C$32, C5, D$3:D$32, D5, E$3:E$32, E5, F$3:F$32, ">"&F5) + COUNTIFS(C$3:C$32, C5, D$3:D$32, D5, E$3:E$32, E5, F$3:F$32, F5, G$3:G$32, ">"&G5) + COUNTIFS(C$3:C$32, C5, D$3:D$32, D5, E$3:E$32, E5, F$3:F$32, F5, G$3:G$32, G5, H$3:H$32, ">"&H5) + COUNTIFS(C$3:C$32, C5, D$3:D$32, D5, E$3:E$32, E5, F$3:F$32, F5, G$3:G$32, G5, H$3:H$32, H5, I$3:I$32, ">"&I5) + COUNTIFS(C$3:C$32, C5, D$3:D$32, D5, E$3:E$32, E5, F$3:F$32, F5, G$3:G$32, G5, H$3:H$32, H5, I$3:I$32, I5, J$3:J$32, ">"&J5) + COUNTIFS(C$3:C$32, C5, D$3:D$32, D5, E$3:E$32, E5, F$3:F$32, F5, G$3:G$32, G5, H$3:H$32, H5, I$3:I$32, I5, J$3:J$32, J5, K$3:K$32, ">"&K5) + COUNTIFS(C$3:C$32, C5, D$3:D$32, D5, E$3:E$32, E5, F$3:F$32, F5, G$3:G$32, G5, H$3:H$32, H5, I$3:I$32, I5, J$3:J$32, J5, K$3:K$32, K5, L$3:L$32, ">"&L5) ) | N5: =IF(OR(O5="", O5="N/A"), "", 1 + COUNTIFS(P$3:P$32, ">"&P5) + COUNTIFS(P$3:P$32, P5, Q$3:Q$32, "<"&Q5) + COUNTIFS(P$3:P$32, P5, Q$3:Q$32, Q5, R$3:R$32, "<"&R5) + COUNTIFS(P$3:P$32, P5, Q$3:Q$32, Q5, R$3:R$32, R5, S$3:S$32, ">"&S5) + COUNTIFS(P$3:P$32, P5, Q$3:Q$32, Q5, R$3:R$32, R5, S$3:S$32, S5, T$3:T$32, ">"&T5) + COUNTIFS(P$3:P$32, P5, Q$3:Q$32, Q5, R$3:R$32, R5, S$3:S$32, S5, T$3:T$32, T5, U$3:U$32, ">"&U5) + COUNTIFS(P$3:P$32, P5, Q$3:Q$32, Q5, R$3:R$32, R5, S$3:S$32, S5, T$3:T$32, T5, U$3:U$32, U5, V$3:V$32, ">"&V5) + COUNTIFS(P$3:P$32, P5, Q$3:Q$32, Q5, R$3:R$32, R5, S$3:S$32, S5, T$3:T$32, T5, U$3:U$32, U5, V$3:V$32, V5, W$3:W$32, ">"&W5) + COUNTIFS(P$3:P$32, P5, Q$3:Q$32, Q5, R$3:R$32, R5, S$3:S$32, S5, T$3:T$32, T5, U$3:U$32, U5, V$3:V$32, V5, W$3:W$32, W5, X$3:X$32, ">"&X5) + COUNTIFS(P$3:P$32, P5, Q$3:Q$32, Q5, R$3:R$32, R5, S$3:S$32, S5, T$3:T$32, T5, U$3:U$32, U5, V$3:V$32, V5, W$3:W$32, W5, X$3:X$32, X5, Y$3:Y$32, ">"&Y5) ) | AA5: =IF(OR(AB5="", AB5="N/A"), "", 1 + COUNTIFS(AC$3:AC$32, ">"&AC5) + COUNTIFS(AC$3:AC$32, AC5, AD$3:AD$32, "<"&AD5) + COUNTIFS(AC$3:AC$32, AC5, AD$3:AD$32, AD5, AE$3:AE$32, "<"&AE5) + COUNTIFS(AC$3:AC$32, AC5, AD$3:AD$32, AD5, AE$3:AE$32, AE5, AF$3:AF$32, ">"&AF5) + COUNTIFS(AC$3:AC$32, AC5, AD$3:AD$32, AD5, AE$3:AE$32, AE5, AF$3:AF$32, AF5, AG$3:AG$32, ">"&AG5) + COUNTIFS(AC$3:AC$32, AC5, AD$3:AD$32, AD5, AE$3:AE$32, AE5, AF$3:AF$32, AF5, AG$3:AG$32, AG5, AH$3:AH$32, ">"&AH5) + COUNTIFS(AC$3:AC$32, AC5, AD$3:AD$32, AD5, AE$3:AE$32, AE5, AF$3:AF$32, AF5, AG$3:AG$32, AG5, AH$3:AH$32, AH5, AI$3:AI$32, ">"&AI5) + COUNTIFS(AC$3:AC$32, AC5, AD$3:AD$32, AD5, AE$3:AE$32, AE5, AF$3:AF$32, AF5, AG$3:AG$32, AG5, AH$3:AH$32, AH5, AI$3:AI$32, AI5, AJ$3:AJ$32, ">"&AJ5) + COUNTIFS(AC$3:AC$32, AC5, AD$3:AD$32, AD5, AE$3:AE$32, AE5, AF$3:AF$32, AF5, AG$3:AG$32, AG5, AH$3:AH$32, AH5, AI$3:AI$32, AI5, AJ$3:AJ$32, AJ5, AK$3:AK$32, ">"&AK5) + COUNTIFS(AC$3:AC$32, AC5, AD$3:AD$32, AD5, AE$3:AE$32, AE5, AF$3:AF$32, AF5, AG$3:AG$32, AG5, AH$3:AH$32, AH5, AI$3:AI$32, AI5, AJ$3:AJ$32, AJ5, AK$3:AK$32, AK5, AL$3:AL$32, ">"&AL5) ) | AN5: =IF(OR(AO5="", AO5="N/A"), "", 1 + COUNTIFS(AP$3:AP$32, ">"&AP5) + COUNTIFS(AP$3:AP$32, AP5, AQ$3:AQ$32, "<"&AQ5) + COUNTIFS(AP$3:AP$32, AP5, AQ$3:AQ$32, AQ5, AR$3:AR$32, "<"&AR5) + COUNTIFS(AP$3:AP$32, AP5, AQ$3:AQ$32, AQ5, AR$3:AR$32, AR5, AS$3:AS$32, ">"&AS5) + COUNTIFS(AP$3:AP$32, AP5, AQ$3:AQ$32, AQ5, AR$3:AR$32, AR5, AS$3:AS$32, AS5, AT$3:AT$32, ">"&AT5) + COUNTIFS(AP$3:AP$32, AP5, AQ$3:AQ$32, AQ5, AR$3:AR$32, AR5, AS$3:AS$32, AS5, AT$3:AT$32, AT5, AU$3:AU$32, ">"&AU5) + COUNTIFS(AP$3:AP$32, AP5, AQ$3:AQ$32, AQ5, AR$3:AR$32, AR5, AS$3:AS$32, AS5, AT$3:AT$32, AT5, AU$3:AU$32, AU5, AV$3:AV$32, ">"&AV5) + COUNTIFS(AP$3:AP$32, AP5, AQ$3:AQ$32, AQ5, AR$3:AR$32, AR5, AS$3:AS$32, AS5, AT$3:AT$32, AT5, AU$3:AU$32, AU5, AV$3:AV$32, AV5, AW$3:AW$32, ">"&AW5) + COUNTIFS(AP$3:AP$32, AP5, AQ$3:AQ$32, AQ5, AR$3:AR$32, AR5, AS$3:AS$32, AS5, AT$3:AT$32, AT5, AU$3:AU$32, AU5, AV$3:AV$32, AV5, AW$3:AW$32, AW5, AX$3:AX$32, ">"&AX5) + COUNTIFS(AP$3:AP$32, AP5, AQ$3:AQ$32, AQ5, AR$3:AR$32, AR5, AS$3:AS$32, AS5, AT$3:AT$32, AT5, AU$3:AU$32, AU5, AV$3:AV$32, AV5, AW$3:AW$32, AW5, AX$3:AX$32, AX5, AY$3:AY$32, ">"&AY5) ) -> 3 | AO5: O'Gorman | AP5: 287.5 | AQ5: 0 | AR5: 0 | AS5: 0 | AT5: 0 | AU5: 0 | AV5: 0 | AW5: 0 | AX5: 0 | AY5: 0
A6: =IF(OR(B6="", B6="N/A"), "", 1 + COUNTIFS(C$3:C$32, ">"&C6) + COUNTIFS(C$3:C$32, C6, D$3:D$32, "<"&D6) + COUNTIFS(C$3:C$32, C6, D$3:D$32, D6, E$3:E$32, "<"&E6) + COUNTIFS(C$3:C$32, C6, D$3:D$32, D6, E$3:E$32, E6, F$3:F$32, ">"&F6) + COUNTIFS(C$3:C$32, C6, D$3:D$32, D6, E$3:E$32, E6, F$3:F$32, F6, G$3:G$32, ">"&G6) + COUNTIFS(C$3:C$32, C6, D$3:D$32, D6, E$3:E$32, E6, F$3:F$32, F6, G$3:G$32, G6, H$3:H$32, ">"&H6) + COUNTIFS(C$3:C$32, C6, D$3:D$32, D6, E$3:E$32, E6, F$3:F$32, F6, G$3:G$32, G6, H$3:H$32, H6, I$3:I$32, ">"&I6) + COUNTIFS(C$3:C$32, C6, D$3:D$32, D6, E$3:E$32, E6, F$3:F$32, F6, G$3:G$32, G6, H$3:H$32, H6, I$3:I$32, I6, J$3:J$32, ">"&J6) + COUNTIFS(C$3:C$32, C6, D$3:D$32, D6, E$3:E$32, E6, F$3:F$32, F6, G$3:G$32, G6, H$3:H$32, H6, I$3:I$32, I6, J$3:J$32, J6, K$3:K$32, ">"&K6) + COUNTIFS(C$3:C$32, C6, D$3:D$32, D6, E$3:E$32, E6, F$3:F$32, F6, G$3:G$32, G6, H$3:H$32, H6, I$3:I$32, I6, J$3:J$32, J6, K$3:K$32, K6, L$3:L$32, ">"&L6) ) | N6: =IF(OR(O6="", O6="N/A"), "", 1 + COUNTIFS(P$3:P$32, ">"&P6) + COUNTIFS(P$3:P$32, P6, Q$3:Q$32, "<"&Q6) + COUNTIFS(P$3:P$32, P6, Q$3:Q$32, Q6, R$3:R$32, "<"&R6) + COUNTIFS(P$3:P$32, P6, Q$3:Q$32, Q6, R$3:R$32, R6, S$3:S$32, ">"&S6) + COUNTIFS(P$3:P$32, P6, Q$3:Q$32, Q6, R$3:R$32, R6, S$3:S$32, S6, T$3:T$32, ">"&T6) + COUNTIFS(P$3:P$32, P6, Q$3:Q$32, Q6, R$3:R$32, R6, S$3:S$32, S6, T$3:T$32, T6, U$3:U$32, ">"&U6) + COUNTIFS(P$3:P$32, P6, Q$3:Q$32, Q6, R$3:R$32, R6, S$3:S$32, S6, T$3:T$32, T6, U$3:U$32, U6, V$3:V$32, ">"&V6) + COUNTIFS(P$3:P$32, P6, Q$3:Q$32, Q6, R$3:R$32, R6, S$3:S$32, S6, T$3:T$32, T6, U$3:U$32, U6, V$3:V$32, V6, W$3:W$32, ">"&W6) + COUNTIFS(P$3:P$32, P6, Q$3:Q$32, Q6, R$3:R$32, R6, S$3:S$32, S6, T$3:T$32, T6, U$3:U$32, U6, V$3:V$32, V6, W$3:W$32, W6, X$3:X$32, ">"&X6) + COUNTIFS(P$3:P$32, P6, Q$3:Q$32, Q6, R$3:R$32, R6, S$3:S$32, S6, T$3:T$32, T6, U$3:U$32, U6, V$3:V$32, V6, W$3:W$32, W6, X$3:X$32, X6, Y$3:Y$32, ">"&Y6) ) | AA6: =IF(OR(AB6="", AB6="N/A"), "", 1 + COUNTIFS(AC$3:AC$32, ">"&AC6) + COUNTIFS(AC$3:AC$32, AC6, AD$3:AD$32, "<"&AD6) + COUNTIFS(AC$3:AC$32, AC6, AD$3:AD$32, AD6, AE$3:AE$32, "<"&AE6) + COUNTIFS(AC$3:AC$32, AC6, AD$3:AD$32, AD6, AE$3:AE$32, AE6, AF$3:AF$32, ">"&AF6) + COUNTIFS(AC$3:AC$32, AC6, AD$3:AD$32, AD6, AE$3:AE$32, AE6, AF$3:AF$32, AF6, AG$3:AG$32, ">"&AG6) + COUNTIFS(AC$3:AC$32, AC6, AD$3:AD$32, AD6, AE$3:AE$32, AE6, AF$3:AF$32, AF6, AG$3:AG$32, AG6, AH$3:AH$32, ">"&AH6) + COUNTIFS(AC$3:AC$32, AC6, AD$3:AD$32, AD6, AE$3:AE$32, AE6, AF$3:AF$32, AF6, AG$3:AG$32, AG6, AH$3:AH$32, AH6, AI$3:AI$32, ">"&AI6) + COUNTIFS(AC$3:AC$32, AC6, AD$3:AD$32, AD6, AE$3:AE$32, AE6, AF$3:AF$32, AF6, AG$3:AG$32, AG6, AH$3:AH$32, AH6, AI$3:AI$32, AI6, AJ$3:AJ$32, ">"&AJ6) + COUNTIFS(AC$3:AC$32, AC6, AD$3:AD$32, AD6, AE$3:AE$32, AE6, AF$3:AF$32, AF6, AG$3:AG$32, AG6, AH$3:AH$32, AH6, AI$3:AI$32, AI6, AJ$3:AJ$32, AJ6, AK$3:AK$32, ">"&AK6) + COUNTIFS(AC$3:AC$32, AC6, AD$3:AD$32, AD6, AE$3:AE$32, AE6, AF$3:AF$32, AF6, AG$3:AG$32, AG6, AH$3:AH$32, AH6, AI$3:AI$32, AI6, AJ$3:AJ$32, AJ6, AK$3:AK$32, AK6, AL$3:AL$32, ">"&AL6) ) | AN6: =IF(OR(AO6="", AO6="N/A"), "", 1 + COUNTIFS(AP$3:AP$32, ">"&AP6) + COUNTIFS(AP$3:AP$32, AP6, AQ$3:AQ$32, "<"&AQ6) + COUNTIFS(AP$3:AP$32, AP6, AQ$3:AQ$32, AQ6, AR$3:AR$32, "<"&AR6) + COUNTIFS(AP$3:AP$32, AP6, AQ$3:AQ$32, AQ6, AR$3:AR$32, AR6, AS$3:AS$32, ">"&AS6) + COUNTIFS(AP$3:AP$32, AP6, AQ$3:AQ$32, AQ6, AR$3:AR$32, AR6, AS$3:AS$32, AS6, AT$3:AT$32, ">"&AT6) + COUNTIFS(AP$3:AP$32, AP6, AQ$3:AQ$32, AQ6, AR$3:AR$32, AR6, AS$3:AS$32, AS6, AT$3:AT$32, AT6, AU$3:AU$32, ">"&AU6) + COUNTIFS(AP$3:AP$32, AP6, AQ$3:AQ$32, AQ6, AR$3:AR$32, AR6, AS$3:AS$32, AS6, AT$3:AT$32, AT6, AU$3:AU$32, AU6, AV$3:AV$32, ">"&AV6) + COUNTIFS(AP$3:AP$32, AP6, AQ$3:AQ$32, AQ6, AR$3:AR$32, AR6, AS$3:AS$32, AS6, AT$3:AT$32, AT6, AU$3:AU$32, AU6, AV$3:AV$32, AV6, AW$3:AW$32, ">"&AW6) + COUNTIFS(AP$3:AP$32, AP6, AQ$3:AQ$32, AQ6, AR$3:AR$32, AR6, AS$3:AS$32, AS6, AT$3:AT$32, AT6, AU$3:AU$32, AU6, AV$3:AV$32, AV6, AW$3:AW$32, AW6, AX$3:AX$32, ">"&AX6) + COUNTIFS(AP$3:AP$32, AP6, AQ$3:AQ$32, AQ6, AR$3:AR$32, AR6, AS$3:AS$32, AS6, AT$3:AT$32, AT6, AU$3:AU$32, AU6, AV$3:AV$32, AV6, AW$3:AW$32, AW6, AX$3:AX$32, AX6, AY$3:AY$32, ">"&AY6) ) -> 4 | AO6: Tea Area | AP6: 278.5 | AQ6: 0 | AR6: 0 | AS6: 0 | AT6: 0 | AU6: 0 | AV6: 0 | AW6: 0 | AX6: 0 | AY6: 0
A7: =IF(OR(B7="", B7="N/A"), "", 1 + COUNTIFS(C$3:C$32, ">"&C7) + COUNTIFS(C$3:C$32, C7, D$3:D$32, "<"&D7) + COUNTIFS(C$3:C$32, C7, D$3:D$32, D7, E$3:E$32, "<"&E7) + COUNTIFS(C$3:C$32, C7, D$3:D$32, D7, E$3:E$32, E7, F$3:F$32, ">"&F7) + COUNTIFS(C$3:C$32, C7, D$3:D$32, D7, E$3:E$32, E7, F$3:F$32, F7, G$3:G$32, ">"&G7) + COUNTIFS(C$3:C$32, C7, D$3:D$32, D7, E$3:E$32, E7, F$3:F$32, F7, G$3:G$32, G7, H$3:H$32, ">"&H7) + COUNTIFS(C$3:C$32, C7, D$3:D$32, D7, E$3:E$32, E7, F$3:F$32, F7, G$3:G$32, G7, H$3:H$32, H7, I$3:I$32, ">"&I7) + COUNTIFS(C$3:C$32, C7, D$3:D$32, D7, E$3:E$32, E7, F$3:F$32, F7, G$3:G$32, G7, H$3:H$32, H7, I$3:I$32, I7, J$3:J$32, ">"&J7) + COUNTIFS(C$3:C$32, C7, D$3:D$32, D7, E$3:E$32, E7, F$3:F$32, F7, G$3:G$32, G7, H$3:H$32, H7, I$3:I$32, I7, J$3:J$32, J7, K$3:K$32, ">"&K7) + COUNTIFS(C$3:C$32, C7, D$3:D$32, D7, E$3:E$32, E7, F$3:F$32, F7, G$3:G$32, G7, H$3:H$32, H7, I$3:I$32, I7, J$3:J$32, J7, K$3:K$32, K7, L$3:L$32, ">"&L7) ) | N7: =IF(OR(O7="", O7="N/A"), "", 1 + COUNTIFS(P$3:P$32, ">"&P7) + COUNTIFS(P$3:P$32, P7, Q$3:Q$32, "<"&Q7) + COUNTIFS(P$3:P$32, P7, Q$3:Q$32, Q7, R$3:R$32, "<"&R7) + COUNTIFS(P$3:P$32, P7, Q$3:Q$32, Q7, R$3:R$32, R7, S$3:S$32, ">"&S7) + COUNTIFS(P$3:P$32, P7, Q$3:Q$32, Q7, R$3:R$32, R7, S$3:S$32, S7, T$3:T$32, ">"&T7) + COUNTIFS(P$3:P$32, P7, Q$3:Q$32, Q7, R$3:R$32, R7, S$3:S$32, S7, T$3:T$32, T7, U$3:U$32, ">"&U7) + COUNTIFS(P$3:P$32, P7, Q$3:Q$32, Q7, R$3:R$32, R7, S$3:S$32, S7, T$3:T$32, T7, U$3:U$32, U7, V$3:V$32, ">"&V7) + COUNTIFS(P$3:P$32, P7, Q$3:Q$32, Q7, R$3:R$32, R7, S$3:S$32, S7, T$3:T$32, T7, U$3:U$32, U7, V$3:V$32, V7, W$3:W$32, ">"&W7) + COUNTIFS(P$3:P$32, P7, Q$3:Q$32, Q7, R$3:R$32, R7, S$3:S$32, S7, T$3:T$32, T7, U$3:U$32, U7, V$3:V$32, V7, W$3:W$32, W7, X$3:X$32, ">"&X7) + COUNTIFS(P$3:P$32, P7, Q$3:Q$32, Q7, R$3:R$32, R7, S$3:S$32, S7, T$3:T$32, T7, U$3:U$32, U7, V$3:V$32, V7, W$3:W$32, W7, X$3:X$32, X7, Y$3:Y$32, ">"&Y7) ) | AA7: =IF(OR(AB7="", AB7="N/A"), "", 1 + COUNTIFS(AC$3:AC$32, ">"&AC7) + COUNTIFS(AC$3:AC$32, AC7, AD$3:AD$32, "<"&AD7) + COUNTIFS(AC$3:AC$32, AC7, AD$3:AD$32, AD7, AE$3:AE$32, "<"&AE7) + COUNTIFS(AC$3:AC$32, AC7, AD$3:AD$32, AD7, AE$3:AE$32, AE7, AF$3:AF$32, ">"&AF7) + COUNTIFS(AC$3:AC$32, AC7, AD$3:AD$32, AD7, AE$3:AE$32, AE7, AF$3:AF$32, AF7, AG$3:AG$32, ">"&AG7) + COUNTIFS(AC$3:AC$32, AC7, AD$3:AD$32, AD7, AE$3:AE$32, AE7, AF$3:AF$32, AF7, AG$3:AG$32, AG7, AH$3:AH$32, ">"&AH7) + COUNTIFS(AC$3:AC$32, AC7, AD$3:AD$32, AD7, AE$3:AE$32, AE7, AF$3:AF$32, AF7, AG$3:AG$32, AG7, AH$3:AH$32, AH7, AI$3:AI$32, ">"&AI7) + COUNTIFS(AC$3:AC$32, AC7, AD$3:AD$32, AD7, AE$3:AE$32, AE7, AF$3:AF$32, AF7, AG$3:AG$32, AG7, AH$3:AH$32, AH7, AI$3:AI$32, AI7, AJ$3:AJ$32, ">"&AJ7) + COUNTIFS(AC$3:AC$32, AC7, AD$3:AD$32, AD7, AE$3:AE$32, AE7, AF$3:AF$32, AF7, AG$3:AG$32, AG7, AH$3:AH$32, AH7, AI$3:AI$32, AI7, AJ$3:AJ$32, AJ7, AK$3:AK$32, ">"&AK7) + COUNTIFS(AC$3:AC$32, AC7, AD$3:AD$32, AD7, AE$3:AE$32, AE7, AF$3:AF$32, AF7, AG$3:AG$32, AG7, AH$3:AH$32, AH7, AI$3:AI$32, AI7, AJ$3:AJ$32, AJ7, AK$3:AK$32, AK7, AL$3:AL$32, ">"&AL7) ) | AN7: =IF(OR(AO7="", AO7="N/A"), "", 1 + COUNTIFS(AP$3:AP$32, ">"&AP7) + COUNTIFS(AP$3:AP$32, AP7, AQ$3:AQ$32, "<"&AQ7) + COUNTIFS(AP$3:AP$32, AP7, AQ$3:AQ$32, AQ7, AR$3:AR$32, "<"&AR7) + COUNTIFS(AP$3:AP$32, AP7, AQ$3:AQ$32, AQ7, AR$3:AR$32, AR7, AS$3:AS$32, ">"&AS7) + COUNTIFS(AP$3:AP$32, AP7, AQ$3:AQ$32, AQ7, AR$3:AR$32, AR7, AS$3:AS$32, AS7, AT$3:AT$32, ">"&AT7) + COUNTIFS(AP$3:AP$32, AP7, AQ$3:AQ$32, AQ7, AR$3:AR$32, AR7, AS$3:AS$32, AS7, AT$3:AT$32, AT7, AU$3:AU$32, ">"&AU7) + COUNTIFS(AP$3:AP$32, AP7, AQ$3:AQ$32, AQ7, AR$3:AR$32, AR7, AS$3:AS$32, AS7, AT$3:AT$32, AT7, AU$3:AU$32, AU7, AV$3:AV$32, ">"&AV7) + COUNTIFS(AP$3:AP$32, AP7, AQ$3:AQ$32, AQ7, AR$3:AR$32, AR7, AS$3:AS$32, AS7, AT$3:AT$32, AT7, AU$3:AU$32, AU7, AV$3:AV$32, AV7, AW$3:AW$32, ">"&AW7) + COUNTIFS(AP$3:AP$32, AP7, AQ$3:AQ$32, AQ7, AR$3:AR$32, AR7, AS$3:AS$32, AS7, AT$3:AT$32, AT7, AU$3:AU$32, AU7, AV$3:AV$32, AV7, AW$3:AW$32, AW7, AX$3:AX$32, ">"&AX7) + COUNTIFS(AP$3:AP$32, AP7, AQ$3:AQ$32, AQ7, AR$3:AR$32, AR7, AS$3:AS$32, AS7, AT$3:AT$32, AT7, AU$3:AU$32, AU7, AV$3:AV$32, AV7, AW$3:AW$32, AW7, AX$3:AX$32, AX7, AY$3:AY$32, ">"&AY7) ) -> 5 | AO7: Sioux Valley | AP7: 278 | AQ7: 0 | AR7: 0 | AS7: 0 | AT7: 0 | AU7: 0 | AV7: 0 | AW7: 0 | AX7: 0 | AY7: 0
A8: =IF(OR(B8="", B8="N/A"), "", 1 + COUNTIFS(C$3:C$32, ">"&C8) + COUNTIFS(C$3:C$32, C8, D$3:D$32, "<"&D8) + COUNTIFS(C$3:C$32, C8, D$3:D$32, D8, E$3:E$32, "<"&E8) + COUNTIFS(C$3:C$32, C8, D$3:D$32, D8, E$3:E$32, E8, F$3:F$32, ">"&F8) + COUNTIFS(C$3:C$32, C8, D$3:D$32, D8, E$3:E$32, E8, F$3:F$32, F8, G$3:G$32, ">"&G8) + COUNTIFS(C$3:C$32, C8, D$3:D$32, D8, E$3:E$32, E8, F$3:F$32, F8, G$3:G$32, G8, H$3:H$32, ">"&H8) + COUNTIFS(C$3:C$32, C8, D$3:D$32, D8, E$3:E$32, E8, F$3:F$32, F8, G$3:G$32, G8, H$3:H$32, H8, I$3:I$32, ">"&I8) + COUNTIFS(C$3:C$32, C8, D$3:D$32, D8, E$3:E$32, E8, F$3:F$32, F8, G$3:G$32, G8, H$3:H$32, H8, I$3:I$32, I8, J$3:J$32, ">"&J8) + COUNTIFS(C$3:C$32, C8, D$3:D$32, D8, E$3:E$32, E8, F$3:F$32, F8, G$3:G$32, G8, H$3:H$32, H8, I$3:I$32, I8, J$3:J$32, J8, K$3:K$32, ">"&K8) + COUNTIFS(C$3:C$32, C8, D$3:D$32, D8, E$3:E$32, E8, F$3:F$32, F8, G$3:G$32, G8, H$3:H$32, H8, I$3:I$32, I8, J$3:J$32, J8, K$3:K$32, K8, L$3:L$32, ">"&L8) ) | N8: =IF(OR(O8="", O8="N/A"), "", 1 + COUNTIFS(P$3:P$32, ">"&P8) + COUNTIFS(P$3:P$32, P8, Q$3:Q$32, "<"&Q8) + COUNTIFS(P$3:P$32, P8, Q$3:Q$32, Q8, R$3:R$32, "<"&R8) + COUNTIFS(P$3:P$32, P8, Q$3:Q$32, Q8, R$3:R$32, R8, S$3:S$32, ">"&S8) + COUNTIFS(P$3:P$32, P8, Q$3:Q$32, Q8, R$3:R$32, R8, S$3:S$32, S8, T$3:T$32, ">"&T8) + COUNTIFS(P$3:P$32, P8, Q$3:Q$32, Q8, R$3:R$32, R8, S$3:S$32, S8, T$3:T$32, T8, U$3:U$32, ">"&U8) + COUNTIFS(P$3:P$32, P8, Q$3:Q$32, Q8, R$3:R$32, R8, S$3:S$32, S8, T$3:T$32, T8, U$3:U$32, U8, V$3:V$32, ">"&V8) + COUNTIFS(P$3:P$32, P8, Q$3:Q$32, Q8, R$3:R$32, R8, S$3:S$32, S8, T$3:T$32, T8, U$3:U$32, U8, V$3:V$32, V8, W$3:W$32, ">"&W8) + COUNTIFS(P$3:P$32, P8, Q$3:Q$32, Q8, R$3:R$32, R8, S$3:S$32, S8, T$3:T$32, T8, U$3:U$32, U8, V$3:V$32, V8, W$3:W$32, W8, X$3:X$32, ">"&X8) + COUNTIFS(P$3:P$32, P8, Q$3:Q$32, Q8, R$3:R$32, R8, S$3:S$32, S8, T$3:T$32, T8, U$3:U$32, U8, V$3:V$32, V8, W$3:W$32, W8, X$3:X$32, X8, Y$3:Y$32, ">"&Y8) ) | AA8: =IF(OR(AB8="", AB8="N/A"), "", 1 + COUNTIFS(AC$3:AC$32, ">"&AC8) + COUNTIFS(AC$3:AC$32, AC8, AD$3:AD$32, "<"&AD8) + COUNTIFS(AC$3:AC$32, AC8, AD$3:AD$32, AD8, AE$3:AE$32, "<"&AE8) + COUNTIFS(AC$3:AC$32, AC8, AD$3:AD$32, AD8, AE$3:AE$32, AE8, AF$3:AF$32, ">"&AF8) + COUNTIFS(AC$3:AC$32, AC8, AD$3:AD$32, AD8, AE$3:AE$32, AE8, AF$3:AF$32, AF8, AG$3:AG$32, ">"&AG8) + COUNTIFS(AC$3:AC$32, AC8, AD$3:AD$32, AD8, AE$3:AE$32, AE8, AF$3:AF$32, AF8, AG$3:AG$32, AG8, AH$3:AH$32, ">"&AH8) + COUNTIFS(AC$3:AC$32, AC8, AD$3:AD$32, AD8, AE$3:AE$32, AE8, AF$3:AF$32, AF8, AG$3:AG$32, AG8, AH$3:AH$32, AH8, AI$3:AI$32, ">"&AI8) + COUNTIFS(AC$3:AC$32, AC8, AD$3:AD$32, AD8, AE$3:AE$32, AE8, AF$3:AF$32, AF8, AG$3:AG$32, AG8, AH$3:AH$32, AH8, AI$3:AI$32, AI8, AJ$3:AJ$32, ">"&AJ8) + COUNTIFS(AC$3:AC$32, AC8, AD$3:AD$32, AD8, AE$3:AE$32, AE8, AF$3:AF$32, AF8, AG$3:AG$32, AG8, AH$3:AH$32, AH8, AI$3:AI$32, AI8, AJ$3:AJ$32, AJ8, AK$3:AK$32, ">"&AK8) + COUNTIFS(AC$3:AC$32, AC8, AD$3:AD$32, AD8, AE$3:AE$32, AE8, AF$3:AF$32, AF8, AG$3:AG$32, AG8, AH$3:AH$32, AH8, AI$3:AI$32, AI8, AJ$3:AJ$32, AJ8, AK$3:AK$32, AK8, AL$3:AL$32, ">"&AL8) ) | AN8: =IF(OR(AO8="", AO8="N/A"), "", 1 + COUNTIFS(AP$3:AP$32, ">"&AP8) + COUNTIFS(AP$3:AP$32, AP8, AQ$3:AQ$32, "<"&AQ8) + COUNTIFS(AP$3:AP$32, AP8, AQ$3:AQ$32, AQ8, AR$3:AR$32, "<"&AR8) + COUNTIFS(AP$3:AP$32, AP8, AQ$3:AQ$32, AQ8, AR$3:AR$32, AR8, AS$3:AS$32, ">"&AS8) + COUNTIFS(AP$3:AP$32, AP8, AQ$3:AQ$32, AQ8, AR$3:AR$32, AR8, AS$3:AS$32, AS8, AT$3:AT$32, ">"&AT8) + COUNTIFS(AP$3:AP$32, AP8, AQ$3:AQ$32, AQ8, AR$3:AR$32, AR8, AS$3:AS$32, AS8, AT$3:AT$32, AT8, AU$3:AU$32, ">"&AU8) + COUNTIFS(AP$3:AP$32, AP8, AQ$3:AQ$32, AQ8, AR$3:AR$32, AR8, AS$3:AS$32, AS8, AT$3:AT$32, AT8, AU$3:AU$32, AU8, AV$3:AV$32, ">"&AV8) + COUNTIFS(AP$3:AP$32, AP8, AQ$3:AQ$32, AQ8, AR$3:AR$32, AR8, AS$3:AS$32, AS8, AT$3:AT$32, AT8, AU$3:AU$32, AU8, AV$3:AV$32, AV8, AW$3:AW$32, ">"&AW8) + COUNTIFS(AP$3:AP$32, AP8, AQ$3:AQ$32, AQ8, AR$3:AR$32, AR8, AS$3:AS$32, AS8, AT$3:AT$32, AT8, AU$3:AU$32, AU8, AV$3:AV$32, AV8, AW$3:AW$32, AW8, AX$3:AX$32, ">"&AX8) + COUNTIFS(AP$3:AP$32, AP8, AQ$3:AQ$32, AQ8, AR$3:AR$32, AR8, AS$3:AS$32, AS8, AT$3:AT$32, AT8, AU$3:AU$32, AU8, AV$3:AV$32, AV8, AW$3:AW$32, AW8, AX$3:AX$32, AX8, AY$3:AY$32, ">"&AY8) ) -> 6 | AO8: Brookings | AP8: 276 | AQ8: 0 | AR8: 0 | AS8: 0 | AT8: 0 | AU8: 0 | AV8: 0 | AW8: 0 | AX8: 0 | AY8: 0
A9: =IF(OR(B9="", B9="N/A"), "", 1 + COUNTIFS(C$3:C$32, ">"&C9) + COUNTIFS(C$3:C$32, C9, D$3:D$32, "<"&D9) + COUNTIFS(C$3:C$32, C9, D$3:D$32, D9, E$3:E$32, "<"&E9) + COUNTIFS(C$3:C$32, C9, D$3:D$32, D9, E$3:E$32, E9, F$3:F$32, ">"&F9) + COUNTIFS(C$3:C$32, C9, D$3:D$32, D9, E$3:E$32, E9, F$3:F$32, F9, G$3:G$32, ">"&G9) + COUNTIFS(C$3:C$32, C9, D$3:D$32, D9, E$3:E$32, E9, F$3:F$32, F9, G$3:G$32, G9, H$3:H$32, ">"&H9) + COUNTIFS(C$3:C$32, C9, D$3:D$32, D9, E$3:E$32, E9, F$3:F$32, F9, G$3:G$32, G9, H$3:H$32, H9, I$3:I$32, ">"&I9) + COUNTIFS(C$3:C$32, C9, D$3:D$32, D9, E$3:E$32, E9, F$3:F$32, F9, G$3:G$32, G9, H$3:H$32, H9, I$3:I$32, I9, J$3:J$32, ">"&J9) + COUNTIFS(C$3:C$32, C9, D$3:D$32, D9, E$3:E$32, E9, F$3:F$32, F9, G$3:G$32, G9, H$3:H$32, H9, I$3:I$32, I9, J$3:J$32, J9, K$3:K$32, ">"&K9) + COUNTIFS(C$3:C$32, C9, D$3:D$32, D9, E$3:E$32, E9, F$3:F$32, F9, G$3:G$32, G9, H$3:H$32, H9, I$3:I$32, I9, J$3:J$32, J9, K$3:K$32, K9, L$3:L$32, ">"&L9) ) | N9: =IF(OR(O9="", O9="N/A"), "", 1 + COUNTIFS(P$3:P$32, ">"&P9) + COUNTIFS(P$3:P$32, P9, Q$3:Q$32, "<"&Q9) + COUNTIFS(P$3:P$32, P9, Q$3:Q$32, Q9, R$3:R$32, "<"&R9) + COUNTIFS(P$3:P$32, P9, Q$3:Q$32, Q9, R$3:R$32, R9, S$3:S$32, ">"&S9) + COUNTIFS(P$3:P$32, P9, Q$3:Q$32, Q9, R$3:R$32, R9, S$3:S$32, S9, T$3:T$32, ">"&T9) + COUNTIFS(P$3:P$32, P9, Q$3:Q$32, Q9, R$3:R$32, R9, S$3:S$32, S9, T$3:T$32, T9, U$3:U$32, ">"&U9) + COUNTIFS(P$3:P$32, P9, Q$3:Q$32, Q9, R$3:R$32, R9, S$3:S$32, S9, T$3:T$32, T9, U$3:U$32, U9, V$3:V$32, ">"&V9) + COUNTIFS(P$3:P$32, P9, Q$3:Q$32, Q9, R$3:R$32, R9, S$3:S$32, S9, T$3:T$32, T9, U$3:U$32, U9, V$3:V$32, V9, W$3:W$32, ">"&W9) + COUNTIFS(P$3:P$32, P9, Q$3:Q$32, Q9, R$3:R$32, R9, S$3:S$32, S9, T$3:T$32, T9, U$3:U$32, U9, V$3:V$32, V9, W$3:W$32, W9, X$3:X$32, ">"&X9) + COUNTIFS(P$3:P$32, P9, Q$3:Q$32, Q9, R$3:R$32, R9, S$3:S$32, S9, T$3:T$32, T9, U$3:U$32, U9, V$3:V$32, V9, W$3:W$32, W9, X$3:X$32, X9, Y$3:Y$32, ">"&Y9) ) | AA9: =IF(OR(AB9="", AB9="N/A"), "", 1 + COUNTIFS(AC$3:AC$32, ">"&AC9) + COUNTIFS(AC$3:AC$32, AC9, AD$3:AD$32, "<"&AD9) + COUNTIFS(AC$3:AC$32, AC9, AD$3:AD$32, AD9, AE$3:AE$32, "<"&AE9) + COUNTIFS(AC$3:AC$32, AC9, AD$3:AD$32, AD9, AE$3:AE$32, AE9, AF$3:AF$32, ">"&AF9) + COUNTIFS(AC$3:AC$32, AC9, AD$3:AD$32, AD9, AE$3:AE$32, AE9, AF$3:AF$32, AF9, AG$3:AG$32, ">"&AG9) + COUNTIFS(AC$3:AC$32, AC9, AD$3:AD$32, AD9, AE$3:AE$32, AE9, AF$3:AF$32, AF9, AG$3:AG$32, AG9, AH$3:AH$32, ">"&AH9) + COUNTIFS(AC$3:AC$32, AC9, AD$3:AD$32, AD9, AE$3:AE$32, AE9, AF$3:AF$32, AF9, AG$3:AG$32, AG9, AH$3:AH$32, AH9, AI$3:AI$32, ">"&AI9) + COUNTIFS(AC$3:AC$32, AC9, AD$3:AD$32, AD9, AE$3:AE$32, AE9, AF$3:AF$32, AF9, AG$3:AG$32, AG9, AH$3:AH$32, AH9, AI$3:AI$32, AI9, AJ$3:AJ$32, ">"&AJ9) + COUNTIFS(AC$3:AC$32, AC9, AD$3:AD$32, AD9, AE$3:AE$32, AE9, AF$3:AF$32, AF9, AG$3:AG$32, AG9, AH$3:AH$32, AH9, AI$3:AI$32, AI9, AJ$3:AJ$32, AJ9, AK$3:AK$32, ">"&AK9) + COUNTIFS(AC$3:AC$32, AC9, AD$3:AD$32, AD9, AE$3:AE$32, AE9, AF$3:AF$32, AF9, AG$3:AG$32, AG9, AH$3:AH$32, AH9, AI$3:AI$32, AI9, AJ$3:AJ$32, AJ9, AK$3:AK$32, AK9, AL$3:AL$32, ">"&AL9) ) | AN9: =IF(OR(AO9="", AO9="N/A"), "", 1 + COUNTIFS(AP$3:AP$32, ">"&AP9) + COUNTIFS(AP$3:AP$32, AP9, AQ$3:AQ$32, "<"&AQ9) + COUNTIFS(AP$3:AP$32, AP9, AQ$3:AQ$32, AQ9, AR$3:AR$32, "<"&AR9) + COUNTIFS(AP$3:AP$32, AP9, AQ$3:AQ$32, AQ9, AR$3:AR$32, AR9, AS$3:AS$32, ">"&AS9) + COUNTIFS(AP$3:AP$32, AP9, AQ$3:AQ$32, AQ9, AR$3:AR$32, AR9, AS$3:AS$32, AS9, AT$3:AT$32, ">"&AT9) + COUNTIFS(AP$3:AP$32, AP9, AQ$3:AQ$32, AQ9, AR$3:AR$32, AR9, AS$3:AS$32, AS9, AT$3:AT$32, AT9, AU$3:AU$32, ">"&AU9) + COUNTIFS(AP$3:AP$32, AP9, AQ$3:AQ$32, AQ9, AR$3:AR$32, AR9, AS$3:AS$32, AS9, AT$3:AT$32, AT9, AU$3:AU$32, AU9, AV$3:AV$32, ">"&AV9) + COUNTIFS(AP$3:AP$32, AP9, AQ$3:AQ$32, AQ9, AR$3:AR$32, AR9, AS$3:AS$32, AS9, AT$3:AT$32, AT9, AU$3:AU$32, AU9, AV$3:AV$32, AV9, AW$3:AW$32, ">"&AW9) + COUNTIFS(AP$3:AP$32, AP9, AQ$3:AQ$32, AQ9, AR$3:AR$32, AR9, AS$3:AS$32, AS9, AT$3:AT$32, AT9, AU$3:AU$32, AU9, AV$3:AV$32, AV9, AW$3:AW$32, AW9, AX$3:AX$32, ">"&AX9) + COUNTIFS(AP$3:AP$32, AP9, AQ$3:AQ$32, AQ9, AR$3:AR$32, AR9, AS$3:AS$32, AS9, AT$3:AT$32, AT9, AU$3:AU$32, AU9, AV$3:AV$32, AV9, AW$3:AW$32, AW9, AX$3:AX$32, AX9, AY$3:AY$32, ">"&AY9) ) -> 7 | AO9: Watertown | AP9: 265 | AQ9: 0 | AR9: 0 | AS9: 0 | AT9: 0 | AU9: 0 | AV9: 0 | AW9: 0 | AX9: 0 | AY9: 0
A10: =IF(OR(B10="", B10="N/A"), "", 1 + COUNTIFS(C$3:C$32, ">"&C10) + COUNTIFS(C$3:C$32, C10, D$3:D$32, "<"&D10) + COUNTIFS(C$3:C$32, C10, D$3:D$32, D10, E$3:E$32, "<"&E10) + COUNTIFS(C$3:C$32, C10, D$3:D$32, D10, E$3:E$32, E10, F$3:F$32, ">"&F10) + COUNTIFS(C$3:C$32, C10, D$3:D$32, D10, E$3:E$32, E10, F$3:F$32, F10, G$3:G$32, ">"&G10) + COUNTIFS(C$3:C$32, C10, D$3:D$32, D10, E$3:E$32, E10, F$3:F$32, F10, G$3:G$32, G10, H$3:H$32, ">"&H10) + COUNTIFS(C$3:C$32, C10, D$3:D$32, D10, E$3:E$32, E10, F$3:F$32, F10, G$3:G$32, G10, H$3:H$32, H10, I$3:I$32, ">"&I10) + COUNTIFS(C$3:C$32, C10, D$3:D$32, D10, E$3:E$32, E10, F$3:F$32, F10, G$3:G$32, G10, H$3:H$32, H10, I$3:I$32, I10, J$3:J$32, ">"&J10) + COUNTIFS(C$3:C$32, C10, D$3:D$32, D10, E$3:E$32, E10, F$3:F$32, F10, G$3:G$32, G10, H$3:H$32, H10, I$3:I$32, I10, J$3:J$32, J10, K$3:K$32, ">"&K10) + COUNTIFS(C$3:C$32, C10, D$3:D$32, D10, E$3:E$32, E10, F$3:F$32, F10, G$3:G$32, G10, H$3:H$32, H10, I$3:I$32, I10, J$3:J$32, J10, K$3:K$32, K10, L$3:L$32, ">"&L10) ) | N10: =IF(OR(O10="", O10="N/A"), "", 1 + COUNTIFS(P$3:P$32, ">"&P10) + COUNTIFS(P$3:P$32, P10, Q$3:Q$32, "<"&Q10) + COUNTIFS(P$3:P$32, P10, Q$3:Q$32, Q10, R$3:R$32, "<"&R10) + COUNTIFS(P$3:P$32, P10, Q$3:Q$32, Q10, R$3:R$32, R10, S$3:S$32, ">"&S10) + COUNTIFS(P$3:P$32, P10, Q$3:Q$32, Q10, R$3:R$32, R10, S$3:S$32, S10, T$3:T$32, ">"&T10) + COUNTIFS(P$3:P$32, P10, Q$3:Q$32, Q10, R$3:R$32, R10, S$3:S$32, S10, T$3:T$32, T10, U$3:U$32, ">"&U10) + COUNTIFS(P$3:P$32, P10, Q$3:Q$32, Q10, R$3:R$32, R10, S$3:S$32, S10, T$3:T$32, T10, U$3:U$32, U10, V$3:V$32, ">"&V10) + COUNTIFS(P$3:P$32, P10, Q$3:Q$32, Q10, R$3:R$32, R10, S$3:S$32, S10, T$3:T$32, T10, U$3:U$32, U10, V$3:V$32, V10, W$3:W$32, ">"&W10) + COUNTIFS(P$3:P$32, P10, Q$3:Q$32, Q10, R$3:R$32, R10, S$3:S$32, S10, T$3:T$32, T10, U$3:U$32, U10, V$3:V$32, V10, W$3:W$32, W10, X$3:X$32, ">"&X10) + COUNTIFS(P$3:P$32, P10, Q$3:Q$32, Q10, R$3:R$32, R10, S$3:S$32, S10, T$3:T$32, T10, U$3:U$32, U10, V$3:V$32, V10, W$3:W$32, W10, X$3:X$32, X10, Y$3:Y$32, ">"&Y10) ) | AA10: =IF(OR(AB10="", AB10="N/A"), "", 1 + COUNTIFS(AC$3:AC$32, ">"&AC10) + COUNTIFS(AC$3:AC$32, AC10, AD$3:AD$32, "<"&AD10) + COUNTIFS(AC$3:AC$32, AC10, AD$3:AD$32, AD10, AE$3:AE$32, "<"&AE10) + COUNTIFS(AC$3:AC$32, AC10, AD$3:AD$32, AD10, AE$3:AE$32, AE10, AF$3:AF$32, ">"&AF10) + COUNTIFS(AC$3:AC$32, AC10, AD$3:AD$32, AD10, AE$3:AE$32, AE10, AF$3:AF$32, AF10, AG$3:AG$32, ">"&AG10) + COUNTIFS(AC$3:AC$32, AC10, AD$3:AD$32, AD10, AE$3:AE$32, AE10, AF$3:AF$32, AF10, AG$3:AG$32, AG10, AH$3:AH$32, ">"&AH10) + COUNTIFS(AC$3:AC$32, AC10, AD$3:AD$32, AD10, AE$3:AE$32, AE10, AF$3:AF$32, AF10, AG$3:AG$32, AG10, AH$3:AH$32, AH10, AI$3:AI$32, ">"&AI10) + COUNTIFS(AC$3:AC$32, AC10, AD$3:AD$32, AD10, AE$3:AE$32, AE10, AF$3:AF$32, AF10, AG$3:AG$32, AG10, AH$3:AH$32, AH10, AI$3:AI$32, AI10, AJ$3:AJ$32, ">"&AJ10) + COUNTIFS(AC$3:AC$32, AC10, AD$3:AD$32, AD10, AE$3:AE$32, AE10, AF$3:AF$32, AF10, AG$3:AG$32, AG10, AH$3:AH$32, AH10, AI$3:AI$32, AI10, AJ$3:AJ$32, AJ10, AK$3:AK$32, ">"&AK10) + COUNTIFS(AC$3:AC$32, AC10, AD$3:AD$32, AD10, AE$3:AE$32, AE10, AF$3:AF$32, AF10, AG$3:AG$32, AG10, AH$3:AH$32, AH10, AI$3:AI$32, AI10, AJ$3:AJ$32, AJ10, AK$3:AK$32, AK10, AL$3:AL$32, ">"&AL10) ) | AN10: =IF(OR(AO10="", AO10="N/A"), "", 1 + COUNTIFS(AP$3:AP$32, ">"&AP10) + COUNTIFS(AP$3:AP$32, AP10, AQ$3:AQ$32, "<"&AQ10) + COUNTIFS(AP$3:AP$32, AP10, AQ$3:AQ$32, AQ10, AR$3:AR$32, "<"&AR10) + COUNTIFS(AP$3:AP$32, AP10, AQ$3:AQ$32, AQ10, AR$3:AR$32, AR10, AS$3:AS$32, ">"&AS10) + COUNTIFS(AP$3:AP$32, AP10, AQ$3:AQ$32, AQ10, AR$3:AR$32, AR10, AS$3:AS$32, AS10, AT$3:AT$32, ">"&AT10) + COUNTIFS(AP$3:AP$32, AP10, AQ$3:AQ$32, AQ10, AR$3:AR$32, AR10, AS$3:AS$32, AS10, AT$3:AT$32, AT10, AU$3:AU$32, ">"&AU10) + COUNTIFS(AP$3:AP$32, AP10, AQ$3:AQ$32, AQ10, AR$3:AR$32, AR10, AS$3:AS$32, AS10, AT$3:AT$32, AT10, AU$3:AU$32, AU10, AV$3:AV$32, ">"&AV10) + COUNTIFS(AP$3:AP$32, AP10, AQ$3:AQ$32, AQ10, AR$3:AR$32, AR10, AS$3:AS$32, AS10, AT$3:AT$32, AT10, AU$3:AU$32, AU10, AV$3:AV$32, AV10, AW$3:AW$32, ">"&AW10) + COUNTIFS(AP$3:AP$32, AP10, AQ$3:AQ$32, AQ10, AR$3:AR$32, AR10, AS$3:AS$32, AS10, AT$3:AT$32, AT10, AU$3:AU$32, AU10, AV$3:AV$32, AV10, AW$3:AW$32, AW10, AX$3:AX$32, ">"&AX10) + COUNTIFS(AP$3:AP$32, AP10, AQ$3:AQ$32, AQ10, AR$3:AR$32, AR10, AS$3:AS$32, AS10, AT$3:AT$32, AT10, AU$3:AU$32, AU10, AV$3:AV$32, AV10, AW$3:AW$32, AW10, AX$3:AX$32, AX10, AY$3:AY$32, ">"&AY10) ) -> 8 | AO10: Rapid City Central | AP10: 262 | AQ10: 0 | AR10: 0 | AS10: 0 | AT10: 0 | AU10: 0 | AV10: 0 | AW10: 0 | AX10: 0 | AY10: 0
A11: =IF(OR(B11="", B11="N/A"), "", 1 + COUNTIFS(C$3:C$32, ">"&C11) + COUNTIFS(C$3:C$32, C11, D$3:D$32, "<"&D11) + COUNTIFS(C$3:C$32, C11, D$3:D$32, D11, E$3:E$32, "<"&E11) + COUNTIFS(C$3:C$32, C11, D$3:D$32, D11, E$3:E$32, E11, F$3:F$32, ">"&F11) + COUNTIFS(C$3:C$32, C11, D$3:D$32, D11, E$3:E$32, E11, F$3:F$32, F11, G$3:G$32, ">"&G11) + COUNTIFS(C$3:C$32, C11, D$3:D$32, D11, E$3:E$32, E11, F$3:F$32, F11, G$3:G$32, G11, H$3:H$32, ">"&H11) + COUNTIFS(C$3:C$32, C11, D$3:D$32, D11, E$3:E$32, E11, F$3:F$32, F11, G$3:G$32, G11, H$3:H$32, H11, I$3:I$32, ">"&I11) + COUNTIFS(C$3:C$32, C11, D$3:D$32, D11, E$3:E$32, E11, F$3:F$32, F11, G$3:G$32, G11, H$3:H$32, H11, I$3:I$32, I11, J$3:J$32, ">"&J11) + COUNTIFS(C$3:C$32, C11, D$3:D$32, D11, E$3:E$32, E11, F$3:F$32, F11, G$3:G$32, G11, H$3:H$32, H11, I$3:I$32, I11, J$3:J$32, J11, K$3:K$32, ">"&K11) + COUNTIFS(C$3:C$32, C11, D$3:D$32, D11, E$3:E$32, E11, F$3:F$32, F11, G$3:G$32, G11, H$3:H$32, H11, I$3:I$32, I11, J$3:J$32, J11, K$3:K$32, K11, L$3:L$32, ">"&L11) ) | N11: =IF(OR(O11="", O11="N/A"), "", 1 + COUNTIFS(P$3:P$32, ">"&P11) + COUNTIFS(P$3:P$32, P11, Q$3:Q$32, "<"&Q11) + COUNTIFS(P$3:P$32, P11, Q$3:Q$32, Q11, R$3:R$32, "<"&R11) + COUNTIFS(P$3:P$32, P11, Q$3:Q$32, Q11, R$3:R$32, R11, S$3:S$32, ">"&S11) + COUNTIFS(P$3:P$32, P11, Q$3:Q$32, Q11, R$3:R$32, R11, S$3:S$32, S11, T$3:T$32, ">"&T11) + COUNTIFS(P$3:P$32, P11, Q$3:Q$32, Q11, R$3:R$32, R11, S$3:S$32, S11, T$3:T$32, T11, U$3:U$32, ">"&U11) + COUNTIFS(P$3:P$32, P11, Q$3:Q$32, Q11, R$3:R$32, R11, S$3:S$32, S11, T$3:T$32, T11, U$3:U$32, U11, V$3:V$32, ">"&V11) + COUNTIFS(P$3:P$32, P11, Q$3:Q$32, Q11, R$3:R$32, R11, S$3:S$32, S11, T$3:T$32, T11, U$3:U$32, U11, V$3:V$32, V11, W$3:W$32, ">"&W11) + COUNTIFS(P$3:P$32, P11, Q$3:Q$32, Q11, R$3:R$32, R11, S$3:S$32, S11, T$3:T$32, T11, U$3:U$32, U11, V$3:V$32, V11, W$3:W$32, W11, X$3:X$32, ">"&X11) + COUNTIFS(P$3:P$32, P11, Q$3:Q$32, Q11, R$3:R$32, R11, S$3:S$32, S11, T$3:T$32, T11, U$3:U$32, U11, V$3:V$32, V11, W$3:W$32, W11, X$3:X$32, X11, Y$3:Y$32, ">"&Y11) ) | AA11: =IF(OR(AB11="", AB11="N/A"), "", 1 + COUNTIFS(AC$3:AC$32, ">"&AC11) + COUNTIFS(AC$3:AC$32, AC11, AD$3:AD$32, "<"&AD11) + COUNTIFS(AC$3:AC$32, AC11, AD$3:AD$32, AD11, AE$3:AE$32, "<"&AE11) + COUNTIFS(AC$3:AC$32, AC11, AD$3:AD$32, AD11, AE$3:AE$32, AE11, AF$3:AF$32, ">"&AF11) + COUNTIFS(AC$3:AC$32, AC11, AD$3:AD$32, AD11, AE$3:AE$32, AE11, AF$3:AF$32, AF11, AG$3:AG$32, ">"&AG11) + COUNTIFS(AC$3:AC$32, AC11, AD$3:AD$32, AD11, AE$3:AE$32, AE11, AF$3:AF$32, AF11, AG$3:AG$32, AG11, AH$3:AH$32, ">"&AH11) + COUNTIFS(AC$3:AC$32, AC11, AD$3:AD$32, AD11, AE$3:AE$32, AE11, AF$3:AF$32, AF11, AG$3:AG$32, AG11, AH$3:AH$32, AH11, AI$3:AI$32, ">"&AI11) + COUNTIFS(AC$3:AC$32, AC11, AD$3:AD$32, AD11, AE$3:AE$32, AE11, AF$3:AF$32, AF11, AG$3:AG$32, AG11, AH$3:AH$32, AH11, AI$3:AI$32, AI11, AJ$3:AJ$32, ">"&AJ11) + COUNTIFS(AC$3:AC$32, AC11, AD$3:AD$32, AD11, AE$3:AE$32, AE11, AF$3:AF$32, AF11, AG$3:AG$32, AG11, AH$3:AH$32, AH11, AI$3:AI$32, AI11, AJ$3:AJ$32, AJ11, AK$3:AK$32, ">"&AK11) + COUNTIFS(AC$3:AC$32, AC11, AD$3:AD$32, AD11, AE$3:AE$32, AE11, AF$3:AF$32, AF11, AG$3:AG$32, AG11, AH$3:AH$32, AH11, AI$3:AI$32, AI11, AJ$3:AJ$32, AJ11, AK$3:AK$32, AK11, AL$3:AL$32, ">"&AL11) ) | AN11: =IF(OR(AO11="", AO11="N/A"), "", 1 + COUNTIFS(AP$3:AP$32, ">"&AP11) + COUNTIFS(AP$3:AP$32, AP11, AQ$3:AQ$32, "<"&AQ11) + COUNTIFS(AP$3:AP$32, AP11, AQ$3:AQ$32, AQ11, AR$3:AR$32, "<"&AR11) + COUNTIFS(AP$3:AP$32, AP11, AQ$3:AQ$32, AQ11, AR$3:AR$32, AR11, AS$3:AS$32, ">"&AS11) + COUNTIFS(AP$3:AP$32, AP11, AQ$3:AQ$32, AQ11, AR$3:AR$32, AR11, AS$3:AS$32, AS11, AT$3:AT$32, ">"&AT11) + COUNTIFS(AP$3:AP$32, AP11, AQ$3:AQ$32, AQ11, AR$3:AR$32, AR11, AS$3:AS$32, AS11, AT$3:AT$32, AT11, AU$3:AU$32, ">"&AU11) + COUNTIFS(AP$3:AP$32, AP11, AQ$3:AQ$32, AQ11, AR$3:AR$32, AR11, AS$3:AS$32, AS11, AT$3:AT$32, AT11, AU$3:AU$32, AU11, AV$3:AV$32, ">"&AV11) + COUNTIFS(AP$3:AP$32, AP11, AQ$3:AQ$32, AQ11, AR$3:AR$32, AR11, AS$3:AS$32, AS11, AT$3:AT$32, AT11, AU$3:AU$32, AU11, AV$3:AV$32, AV11, AW$3:AW$32, ">"&AW11) + COUNTIFS(AP$3:AP$32, AP11, AQ$3:AQ$32, AQ11, AR$3:AR$32, AR11, AS$3:AS$32, AS11, AT$3:AT$32, AT11, AU$3:AU$32, AU11, AV$3:AV$32, AV11, AW$3:AW$32, AW11, AX$3:AX$32, ">"&AX11) + COUNTIFS(AP$3:AP$32, AP11, AQ$3:AQ$32, AQ11, AR$3:AR$32, AR11, AS$3:AS$32, AS11, AT$3:AT$32, AT11, AU$3:AU$32, AU11, AV$3:AV$32, AV11, AW$3:AW$32, AW11, AX$3:AX$32, AX11, AY$3:AY$32, ">"&AY11) ) -> 9 | AO11: Sturgis | AP11: 247 | AQ11: 0 | AR11: 0 | AS11: 0 | AT11: 0 | AU11: 0 | AV11: 0 | AW11: 0 | AX11: 0 | AY11: 0
A12: =IF(OR(B12="", B12="N/A"), "", 1 + COUNTIFS(C$3:C$32, ">"&C12) + COUNTIFS(C$3:C$32, C12, D$3:D$32, "<"&D12) + COUNTIFS(C$3:C$32, C12, D$3:D$32, D12, E$3:E$32, "<"&E12) + COUNTIFS(C$3:C$32, C12, D$3:D$32, D12, E$3:E$32, E12, F$3:F$32, ">"&F12) + COUNTIFS(C$3:C$32, C12, D$3:D$32, D12, E$3:E$32, E12, F$3:F$32, F12, G$3:G$32, ">"&G12) + COUNTIFS(C$3:C$32, C12, D$3:D$32, D12, E$3:E$32, E12, F$3:F$32, F12, G$3:G$32, G12, H$3:H$32, ">"&H12) + COUNTIFS(C$3:C$32, C12, D$3:D$32, D12, E$3:E$32, E12, F$3:F$32, F12, G$3:G$32, G12, H$3:H$32, H12, I$3:I$32, ">"&I12) + COUNTIFS(C$3:C$32, C12, D$3:D$32, D12, E$3:E$32, E12, F$3:F$32, F12, G$3:G$32, G12, H$3:H$32, H12, I$3:I$32, I12, J$3:J$32, ">"&J12) + COUNTIFS(C$3:C$32, C12, D$3:D$32, D12, E$3:E$32, E12, F$3:F$32, F12, G$3:G$32, G12, H$3:H$32, H12, I$3:I$32, I12, J$3:J$32, J12, K$3:K$32, ">"&K12) + COUNTIFS(C$3:C$32, C12, D$3:D$32, D12, E$3:E$32, E12, F$3:F$32, F12, G$3:G$32, G12, H$3:H$32, H12, I$3:I$32, I12, J$3:J$32, J12, K$3:K$32, K12, L$3:L$32, ">"&L12) ) | N12: =IF(OR(O12="", O12="N/A"), "", 1 + COUNTIFS(P$3:P$32, ">"&P12) + COUNTIFS(P$3:P$32, P12, Q$3:Q$32, "<"&Q12) + COUNTIFS(P$3:P$32, P12, Q$3:Q$32, Q12, R$3:R$32, "<"&R12) + COUNTIFS(P$3:P$32, P12, Q$3:Q$32, Q12, R$3:R$32, R12, S$3:S$32, ">"&S12) + COUNTIFS(P$3:P$32, P12, Q$3:Q$32, Q12, R$3:R$32, R12, S$3:S$32, S12, T$3:T$32, ">"&T12) + COUNTIFS(P$3:P$32, P12, Q$3:Q$32, Q12, R$3:R$32, R12, S$3:S$32, S12, T$3:T$32, T12, U$3:U$32, ">"&U12) + COUNTIFS(P$3:P$32, P12, Q$3:Q$32, Q12, R$3:R$32, R12, S$3:S$32, S12, T$3:T$32, T12, U$3:U$32, U12, V$3:V$32, ">"&V12) + COUNTIFS(P$3:P$32, P12, Q$3:Q$32, Q12, R$3:R$32, R12, S$3:S$32, S12, T$3:T$32, T12, U$3:U$32, U12, V$3:V$32, V12, W$3:W$32, ">"&W12) + COUNTIFS(P$3:P$32, P12, Q$3:Q$32, Q12, R$3:R$32, R12, S$3:S$32, S12, T$3:T$32, T12, U$3:U$32, U12, V$3:V$32, V12, W$3:W$32, W12, X$3:X$32, ">"&X12) + COUNTIFS(P$3:P$32, P12, Q$3:Q$32, Q12, R$3:R$32, R12, S$3:S$32, S12, T$3:T$32, T12, U$3:U$32, U12, V$3:V$32, V12, W$3:W$32, W12, X$3:X$32, X12, Y$3:Y$32, ">"&Y12) ) | AA12: =IF(OR(AB12="", AB12="N/A"), "", 1 + COUNTIFS(AC$3:AC$32, ">"&AC12) + COUNTIFS(AC$3:AC$32, AC12, AD$3:AD$32, "<"&AD12) + COUNTIFS(AC$3:AC$32, AC12, AD$3:AD$32, AD12, AE$3:AE$32, "<"&AE12) + COUNTIFS(AC$3:AC$32, AC12, AD$3:AD$32, AD12, AE$3:AE$32, AE12, AF$3:AF$32, ">"&AF12) + COUNTIFS(AC$3:AC$32, AC12, AD$3:AD$32, AD12, AE$3:AE$32, AE12, AF$3:AF$32, AF12, AG$3:AG$32, ">"&AG12) + COUNTIFS(AC$3:AC$32, AC12, AD$3:AD$32, AD12, AE$3:AE$32, AE12, AF$3:AF$32, AF12, AG$3:AG$32, AG12, AH$3:AH$32, ">"&AH12) + COUNTIFS(AC$3:AC$32, AC12, AD$3:AD$32, AD12, AE$3:AE$32, AE12, AF$3:AF$32, AF12, AG$3:AG$32, AG12, AH$3:AH$32, AH12, AI$3:AI$32, ">"&AI12) + COUNTIFS(AC$3:AC$32, AC12, AD$3:AD$32, AD12, AE$3:AE$32, AE12, AF$3:AF$32, AF12, AG$3:AG$32, AG12, AH$3:AH$32, AH12, AI$3:AI$32, AI12, AJ$3:AJ$32, ">"&AJ12) + COUNTIFS(AC$3:AC$32, AC12, AD$3:AD$32, AD12, AE$3:AE$32, AE12, AF$3:AF$32, AF12, AG$3:AG$32, AG12, AH$3:AH$32, AH12, AI$3:AI$32, AI12, AJ$3:AJ$32, AJ12, AK$3:AK$32, ">"&AK12) + COUNTIFS(AC$3:AC$32, AC12, AD$3:AD$32, AD12, AE$3:AE$32, AE12, AF$3:AF$32, AF12, AG$3:AG$32, AG12, AH$3:AH$32, AH12, AI$3:AI$32, AI12, AJ$3:AJ$32, AJ12, AK$3:AK$32, AK12, AL$3:AL$32, ">"&AL12) ) | AN12: =IF(OR(AO12="", AO12="N/A"), "", 1 + COUNTIFS(AP$3:AP$32, ">"&AP12) + COUNTIFS(AP$3:AP$32, AP12, AQ$3:AQ$32, "<"&AQ12) + COUNTIFS(AP$3:AP$32, AP12, AQ$3:AQ$32, AQ12, AR$3:AR$32, "<"&AR12) + COUNTIFS(AP$3:AP$32, AP12, AQ$3:AQ$32, AQ12, AR$3:AR$32, AR12, AS$3:AS$32, ">"&AS12) + COUNTIFS(AP$3:AP$32, AP12, AQ$3:AQ$32, AQ12, AR$3:AR$32, AR12, AS$3:AS$32, AS12, AT$3:AT$32, ">"&AT12) + COUNTIFS(AP$3:AP$32, AP12, AQ$3:AQ$32, AQ12, AR$3:AR$32, AR12, AS$3:AS$32, AS12, AT$3:AT$32, AT12, AU$3:AU$32, ">"&AU12) + COUNTIFS(AP$3:AP$32, AP12, AQ$3:AQ$32, AQ12, AR$3:AR$32, AR12, AS$3:AS$32, AS12, AT$3:AT$32, AT12, AU$3:AU$32, AU12, AV$3:AV$32, ">"&AV12) + COUNTIFS(AP$3:AP$32, AP12, AQ$3:AQ$32, AQ12, AR$3:AR$32, AR12, AS$3:AS$32, AS12, AT$3:AT$32, AT12, AU$3:AU$32, AU12, AV$3:AV$32, AV12, AW$3:AW$32, ">"&AW12) + COUNTIFS(AP$3:AP$32, AP12, AQ$3:AQ$32, AQ12, AR$3:AR$32, AR12, AS$3:AS$32, AS12, AT$3:AT$32, AT12, AU$3:AU$32, AU12, AV$3:AV$32, AV12, AW$3:AW$32, AW12, AX$3:AX$32, ">"&AX12) + COUNTIFS(AP$3:AP$32, AP12, AQ$3:AQ$32, AQ12, AR$3:AR$32, AR12, AS$3:AS$32, AS12, AT$3:AT$32, AT12, AU$3:AU$32, AU12, AV$3:AV$32, AV12, AW$3:AW$32, AW12, AX$3:AX$32, AX12, AY$3:AY$32, ">"&AY12) ) -> 10 | AO12: Elkton-Lake Benton | AP12: 242 | AQ12: 0 | AR12: 0 | AS12: 0 | AT12: 0 | AU12: 0 | AV12: 0 | AW12: 0 | AX12: 0 | AY12: 0
