Workbook

Sheet Scoring
A1: 2026 Section 1 - Sectional Qualifier - Cedarbrook Red - September 21, 2026 - Target Score = 78)
A2: Section 1 , Division AAA
A3: Name | B3: School | C3: Grade | E3: 1 | F3: 2 | G3: 3 | H3: 4 | I3: 5 | J3: 6 | K3: 7 | L3: 8 | M3: 9 | N3: Out | O3: 10 | P3: 11 | Q3: 12 | R3: 13 | S3: 14 | T3: 15 | U3: 16 | V3: 17 | W3: 18 | X3: In | Y3: Total | Z3: To Par
A4: Chace Force | B4: Indiana | C4: 12 | E4: 3 | F4: 5 | G4: 4 | H4: 4 | I4: 3 | J4: 5 | K4: 4 | L4: 4 | M4: 5 | N4: =SUM(E4:M4) -> 37 | O4: 5 | P4: 4 | Q4: 4 | R4: 5 | S4: 4 | T4: 3 | U4: 5 | V4: 5 | W4: 5 | X4: =SUM(O4:W4) -> 40 | Y4: =N4+X4 -> 77 | Z4: =Y4-71 -> 6
A5: Ryan Bell | B5: Indiana | C5: 12 | E5: 4 | F5: 5 | G5: 3 | H5: 4 | I5: 3 | J5: 4 | K5: 5 | L5: 4 | M5: 4 | N5: =SUM(E5:M5) -> 36 | O5: 5 | P5: 4 | Q5: 4 | R5: 5 | S5: 5 | T5: 4 | U5: 4 | V5: 5 | W5: 4 | X5: =SUM(O5:W5) -> 40 | Y5: =N5+X5 -> 76 | Z5: =Y5-71 -> 5
A6: Will Steve | B6: Indiana | C6: 11 | E6: 5 | F6: 5 | G6: 4 | H6: 3 | I6: 3 | J6: 4 | K6: 5 | L6: 4 | M6: 5 | N6: =SUM(E6:M6) -> 38 | O6: 6 | P6: 4 | Q6: 6 | R6: 5 | S6: 4 | T6: 5 | U6: 5 | V6: 5 | W6: 5 | X6: =SUM(O6:W6) -> 45 | Y6: =N6+X6 -> 83 | Z6: =Y6-71 -> 12
A7: Rudy Lipnsikis | B7: Indiana | C7: 12 | E7: 5 | F7: 5 | G7: 3 | H7: 6 | I7: 3 | J7: 4 | K7: 5 | L7: 5 | M7: 5 | N7: =SUM(E7:M7) -> 41 | O7: 6 | P7: 5 | Q7: 4 | R7: 10 | S7: 4 | T7: 4 | U7: 5 | V7: 5 | W7: 6 | X7: =SUM(O7:W7) -> 49 | Y7: =N7+X7 -> 90 | Z7: =Y7-71 -> 19
A8: Beau Raykes | B8: Indiana | C8: 11 | E8: 5 | F8: 5 | G8: 3 | H8: 5 | I8: 4 | J8: 4 | K8: 5 | L8: 4 | M8: 4 | N8: =SUM(E8:M8) -> 39 | O8: 5 | P8: 3 | Q8: 6 | R8: 6 | S8: 6 | T8: 3 | U8: 4 | V8: 5 | W8: 3 | X8: =SUM(O8:W8) -> 41 | Y8: =N8+X8 -> 80 | Z8: =Y8-71 -> 9
A9: Logan Okopal | B9: Indiana | C9: 10 | E9: 4 | F9: 8 | G9: 4 | H9: 6 | I9: 3 | J9: 9 | K9: 9 | L9: 4 | M9: 8 | N9: =SUM(E9:M9) -> 55 | O9: 7 | P9: 5 | Q9: 6 | R9: 9 | S9: 6 | T9: 5 | U9: 5 | V9: 4 | W9: 6 | X9: =SUM(O9:W9) -> 53 | Y9: =N9+X9 -> 108 | Z9: =Y9-71 -> 37
A10: Matteo Santamaria | B10: Hempfield | C10: 10 | E10: 5 | F10: 6 | G10: 3 | H10: 4 | I10: 3 | J10: 5 | K10: 5 | L10: 4 | M10: 5 | N10: =SUM(E10:M10) -> 40 | O10: 6 | P10: 4 | Q10: 3 | R10: 6 | S10: 4 | T10: 5 | U10: 4 | V10: 5 | W10: 4 | X10: =SUM(O10:W10) -> 41 | Y10: =N10+X10 -> 81 | Z10: =Y10-71 -> 10
A11: Nico Yannascoli | B11: Hempfield | C11: 11 | E11: 4 | F11: 5 | G11: 3 | H11: 4 | I11: 4 | J11: 5 | K11: 4 | L11: 5 | M11: 6 | N11: =SUM(E11:M11) -> 40 | O11: 6 | P11: 4 | Q11: 4 | R11: 5 | S11: 4 | T11: 4 | U11: 5 | V11: 7 | W11: 5 | X11: =SUM(O11:W11) -> 44 | Y11: =N11+X11 -> 84 | Z11: =Y11-71 -> 13
A12: Jacob Buchholz | B12: Hempfield | C12: 12 | E12: 4 | F12: 5 | G12: 3 | H12: 7 | I12: 4 | J12: 5 | K12: 5 | L12: 4 | M12: 5 | N12: =SUM(E12:M12) -> 42 | O12: 7 | P12: 5 | Q12: 4 | R12: 5 | S12: 5 | T12: 5 | U12: 5 | V12: 5 | W12: 5 | X12: =SUM(O12:W12) -> 46 | Y12: =N12+X12 -> 88 | Z12: =Y12-71 -> 17
A13: Liam Clauson | B13: Hempfield | C13: 12 | E13: 4 | F13: 6 | G13: 3 | H13: 4 | I13: 3 | J13: 7 | K13: 4 | L13: 6 | M13: 5 | N13: =SUM(E13:M13) -> 42 | O13: 6 | P13: 4 | Q13: 5 | R13: 6 | S13: 6 | T13: 5 | U13: 5 | V13: 6 | W13: 6 | X13: =SUM(O13:W13) -> 49 | Y13: =N13+X13 -> 91 | Z13: =Y13-71 -> 20
A14: Caleb Henry | B14: Hempfield | C14: 10 | E14: 4 | F14: 5 | G14: 3 | H14: 4 | I14: 3 | J14: 5 | K14: 4 | L14: 4 | M14: 5 | N14: =SUM(E14:M14) -> 37 | O14: 5 | P14: 4 | Q14: 4 | R14: 6 | S14: 6 | T14: 3 | U14: 4 | V14: 4 | W14: 5 | X14: =SUM(O14:W14) -> 41 | Y14: =N14+X14 -> 78 | Z14: =Y14-71 -> 7
A15: Nico Santamaria | B15: Hempfield | C15: 9 | E15: 6 | F15: 7 | G15: 3 | H15: 4 | I15: 3 | J15: 5 | K15: 4 | L15: 4 | M15: 6 | N15: =SUM(E15:M15) -> 42 | O15: 7 | P15: 5 | Q15: 6 | R15: 5 | S15: 4 | T15: 3 | U15: 6 | V15: 5 | W15: 5 | X15: =SUM(O15:W15) -> 46 | Y15: =N15+X15 -> 88 | Z15: =Y15-71 -> 17
... A45: Sam Vassar | B45: Greensburg Salem | C45: 12 | E45: 4 | F45: 6 | G45: 3 | H45: 5 | I45: 2 | J45: 5 | K45: 6 | L45: 4 | M45: 5 | N45: =SUM(E45:M45) -> 40 | O45: 7 | P45: 3 | Q45: 5 | R45: 5 | S45: 4 | T45: 4 | U45: 4 | V45: 5 | W45: 7 | X45: =SUM(O45:W45) -> 44 | Y45: =N45+X45 -> 84 | Z45: =Y45-71 -> 13

Sheet Sorted by Score Scoring
B1: 2026 Section 1 - Sectional Qualifier - Cedarbrook Red - September 21, 2026 - Target Score = 78)
B2: Section 1 , Division AAA
A3: Place | B3: Name | C3: School | D3: Grade | F3: 1 | G3: 2 | H3: 3 | I3: 4 | J3: 5 | K3: 6 | L3: 7 | M3: 8 | N3: 9 | O3: Out | P3: 10 | Q3: 11 | R3: 12 | S3: 13 | T3: 14 | U3: 15 | V3: 16 | W3: 17 | X3: 18 | Y3: In | Z3: Total | AA3: To par
A4: 1 | B4: =Scoring!A40 -> Luke Sikora | C4: Greensburg Salem | D4: =Scoring!C40 -> 11 | F4: =Scoring!E40 -> 4 | G4: =Scoring!F40 -> 5 | H4: =Scoring!G40 -> 3 | I4: =Scoring!H40 -> 3 | J4: =Scoring!I40 -> 3 | K4: =Scoring!J40 -> 4 | L4: =Scoring!K40 -> 4 | M4: =Scoring!L40 -> 3 | N4: =Scoring!M40 -> 5 | O4: =SUM(F4:N4) -> 34 | P4: =Scoring!O40 -> 4 | Q4: =Scoring!P40 -> 3 | R4: =Scoring!Q40 -> 4 | S4: =Scoring!R40 -> 4 | T4: =Scoring!S40 -> 4 | U4: =Scoring!T40 -> 3 | V4: =Scoring!U40 -> 4 | W4: =Scoring!V40 -> 4 | X4: =Scoring!W40 -> 4 | Y4: =SUM(P4:X4) -> 34 | Z4: =O4+Y4 -> 68 | AA4: =(Z4-70) -> -2
A5: 2 | B5: =Scoring!A34 -> Brady Jankowski | C5: =Scoring!B34 -> Kiski | D5: =Scoring!C34 -> 11 | F5: =Scoring!E34 -> 6 | G5: =Scoring!F34 -> 5 | H5: =Scoring!G34 -> 2 | I5: =Scoring!H34 -> 4 | J5: =Scoring!I34 -> 3 | K5: =Scoring!J34 -> 5 | L5: =Scoring!K34 -> 4 | M5: =Scoring!L34 -> 4 | N5: =Scoring!M34 -> 4 | O5: =SUM(F5:N5) -> 37 | P5: =Scoring!O34 -> 5 | Q5: =Scoring!P34 -> 4 | R5: =Scoring!Q34 -> 5 | S5: =Scoring!R34 -> 5 | T5: =Scoring!S34 -> 3 | U5: =Scoring!T34 -> 3 | V5: =Scoring!U34 -> 4 | W5: =Scoring!V34 -> 5 | X5: =Scoring!W34 -> 5 | Y5: =SUM(P5:X5) -> 39 | Z5: =O5+Y5 -> 76 | AA5: =(Z5-70) -> 6
A6: 3 | B6: =Scoring!A5 -> Ryan Bell | C6: =Scoring!B5 -> Indiana | D6: =Scoring!C5 -> 12 | F6: =Scoring!E5 -> 4 | G6: =Scoring!F5 -> 5 | H6: =Scoring!G5 -> 3 | I6: =Scoring!H5 -> 4 | J6: =Scoring!I5 -> 3 | K6: =Scoring!J5 -> 4 | L6: =Scoring!K5 -> 5 | M6: =Scoring!L5 -> 4 | N6: =Scoring!M5 -> 4 | O6: =SUM(F6:N6) -> 36 | P6: =Scoring!O5 -> 5 | Q6: =Scoring!P5 -> 4 | R6: =Scoring!Q5 -> 4 | S6: =Scoring!R5 -> 5 | T6: =Scoring!S5 -> 5 | U6: =Scoring!T5 -> 4 | V6: =Scoring!U5 -> 4 | W6: =Scoring!V5 -> 5 | X6: =Scoring!W5 -> 4 | Y6: =SUM(P6:X6) -> 40 | Z6: =O6+Y6 -> 76 | AA6: =(Z6-70) -> 6
A7: 4 | B7: =Scoring!A18 -> Jaxon Makrevski | C7: =Scoring!B18 -> Latrobe | D7: =Scoring!C18 -> 10 | F7: =Scoring!E18 -> 4 | G7: =Scoring!F18 -> 6 | H7: =Scoring!G18 -> 4 | I7: =Scoring!H18 -> 3 | J7: =Scoring!I18 -> 4 | K7: =Scoring!J18 -> 4 | L7: =Scoring!K18 -> 4 | M7: =Scoring!L18 -> 3 | N7: =Scoring!M18 -> 5 | O7: =SUM(F7:N7) -> 37 | P7: =Scoring!O18 -> 6 | Q7: =Scoring!P18 -> 4 | R7: =Scoring!Q18 -> 4 | S7: =Scoring!R18 -> 5 | T7: =Scoring!S18 -> 4 | U7: =Scoring!T18 -> 4 | V7: =Scoring!U18 -> 5 | W7: =Scoring!V18 -> 3 | X7: =Scoring!W18 -> 4 | Y7: =SUM(P7:X7) -> 39 | Z7: =O7+Y7 -> 76 | AA7: =(Z7-70) -> 6
A8: 5 | B8: =Scoring!A36 -> Tytan Logero | C8: =Scoring!B36 -> Kiski | D8: =Scoring!C36 -> 11 | F8: =Scoring!E36 -> 4 | G8: =Scoring!F36 -> 5 | H8: =Scoring!G36 -> 3 | I8: =Scoring!H36 -> 4 | J8: =Scoring!I36 -> 2 | K8: =Scoring!J36 -> 4 | L8: =Scoring!K36 -> 5 | M8: =Scoring!L36 -> 4 | N8: =Scoring!M36 -> 6 | O8: =SUM(F8:N8) -> 37 | P8: =Scoring!O36 -> 5 | Q8: =Scoring!P36 -> 5 | R8: =Scoring!Q36 -> 3 | S8: =Scoring!R36 -> 5 | T8: =Scoring!S36 -> 5 | U8: =Scoring!T36 -> 3 | V8: =Scoring!U36 -> 4 | W8: =Scoring!V36 -> 4 | X8: =Scoring!W36 -> 5 | Y8: =SUM(P8:X8) -> 39 | Z8: =O8+Y8 -> 76 | AA8: =(Z8-70) -> 6
A9: 6 | B9: =Scoring!A4 -> Chace Force | C9: =Scoring!B4 -> Indiana | D9: =Scoring!C4 -> 12 | F9: =Scoring!E4 -> 3 | G9: =Scoring!F4 -> 5 | H9: =Scoring!G4 -> 4 | I9: =Scoring!H4 -> 4 | J9: =Scoring!I4 -> 3 | K9: =Scoring!J4 -> 5 | L9: =Scoring!K4 -> 4 | M9: =Scoring!L4 -> 4 | N9: =Scoring!M4 -> 5 | O9: =SUM(F9:N9) -> 37 | P9: =Scoring!O4 -> 5 | Q9: =Scoring!P4 -> 4 | R9: =Scoring!Q4 -> 4 | S9: =Scoring!R4 -> 5 | T9: =Scoring!S4 -> 4 | U9: =Scoring!T4 -> 3 | V9: =Scoring!U4 -> 5 | W9: =Scoring!V4 -> 5 | X9: =Scoring!W4 -> 5 | Y9: =SUM(P9:X9) -> 40 | Z9: =O9+Y9 -> 77 | AA9: =(Z9-70) -> 7
A10: 7 | B10: =Scoring!A35 -> Mike Ogden | C10: =Scoring!B35 -> Kiski | D10: =Scoring!C35 -> 10 | F10: =Scoring!E35 -> 4 | G10: =Scoring!F35 -> 4 | H10: =Scoring!G35 -> 4 | I10: =Scoring!H35 -> 5 | J10: =Scoring!I35 -> 3 | K10: =Scoring!J35 -> 4 | L10: =Scoring!K35 -> 4 | M10: =Scoring!L35 -> 4 | N10: =Scoring!M35 -> 4 | O10: =SUM(F10:N10) -> 36 | P10: =Scoring!O35 -> 6 | Q10: =Scoring!P35 -> 4 | R10: =Scoring!Q35 -> 3 | S10: =Scoring!R35 -> 5 | T10: =Scoring!S35 -> 4 | U10: =Scoring!T35 -> 4 | V10: =Scoring!U35 -> 5 | W10: =Scoring!V35 -> 5 | X10: =Scoring!W35 -> 5 | Y10: =SUM(P10:X10) -> 41 | Z10: =O10+Y10 -> 77 | AA10: =(Z10-70) -> 7
A11: 8 | B11: =Scoring!A33 -> Colin Madden | C11: =Scoring!B33 -> Norwin | D11: =Scoring!C30 -> 12 | F11: =Scoring!E33 -> 4 | G11: =Scoring!F33 -> 5 | H11: =Scoring!G33 -> 3 | I11: =Scoring!H33 -> 4 | J11: =Scoring!I33 -> 3 | K11: =Scoring!J33 -> 4 | L11: =Scoring!K33 -> 6 | M11: =Scoring!L33 -> 4 | N11: =Scoring!M33 -> 5 | O11: =SUM(F11:N11) -> 38 | P11: =Scoring!O33 -> 5 | Q11: =Scoring!P33 -> 4 | R11: =Scoring!Q33 -> 4 | S11: =Scoring!R33 -> 5 | T11: =Scoring!S33 -> 4 | U11: =Scoring!T33 -> 3 | V11: =Scoring!U33 -> 4 | W11: =Scoring!V33 -> 5 | X11: =Scoring!W33 -> 5 | Y11: =SUM(P11:X11) -> 39 | Z11: =O11+Y11 -> 77 | AA11: =(Z11-70) -> 7
A12: 9 | B12: =Scoring!A19 -> Garret Helman | C12: =Scoring!B19 -> Latrobe | D12: =Scoring!C19 -> 10 | F12: =Scoring!E19 -> 4 | G12: =Scoring!F19 -> 7 | H12: =Scoring!G19 -> 2 | I12: =Scoring!H19 -> 4 | J12: =Scoring!I19 -> 3 | K12: =Scoring!J19 -> 3 | L12: =Scoring!K19 -> 4 | M12: =Scoring!L19 -> 4 | N12: =Scoring!M19 -> 4 | O12: =SUM(F12:N12) -> 35 | P12: =Scoring!O19 -> 5 | Q12: =Scoring!P19 -> 4 | R12: =Scoring!Q19 -> 4 | S12: =Scoring!R19 -> 6 | T12: =Scoring!S19 -> 5 | U12: =Scoring!T19 -> 4 | V12: =Scoring!U19 -> 4 | W12: =Scoring!V19 -> 5 | X12: =Scoring!W19 -> 5 | Y12: =SUM(P12:X12) -> 42 | Z12: =O12+Y12 -> 77 | AA12: =(Z12-70) -> 7
A13: 10 | B13: =Scoring!A28 -> Landon Stoner | C13: =Scoring!B28 -> Norwin | D13: =Scoring!C28 -> 12 | F13: =Scoring!E28 -> 4 | G13: =Scoring!F28 -> 5 | H13: =Scoring!G28 -> 4 | I13: =Scoring!H28 -> 5 | J13: =Scoring!I28 -> 4 | K13: =Scoring!J28 -> 5 | L13: =Scoring!K28 -> 4 | M13: =Scoring!L28 -> 4 | N13: =Scoring!M28 -> 4 | O13: =SUM(F13:N13) -> 39 | P13: =Scoring!O28 -> 5 | Q13: =Scoring!P28 -> 3 | R13: =Scoring!Q28 -> 4 | S13: =Scoring!R28 -> 5 | T13: =Scoring!S28 -> 4 | U13: =Scoring!T28 -> 4 | V13: =Scoring!U28 -> 6 | W13: =Scoring!V28 -> 4 | X13: =Scoring!W28 -> 4 | Y13: =SUM(P13:X13) -> 39 | Z13: =O13+Y13 -> 78 | AA13: =(Z13-70) -> 8
A14: 11 | B14: =Scoring!A29 -> Riley Shaffer | C14: =Scoring!B29 -> Norwin | D14: =Scoring!C29 -> 12 | F14: =Scoring!E29 -> 5 | G14: =Scoring!F29 -> 5 | H14: =Scoring!G29 -> 3 | I14: =Scoring!H29 -> 5 | J14: =Scoring!I29 -> 3 | K14: =Scoring!J29 -> 6 | L14: =Scoring!K29 -> 6 | M14: =Scoring!L29 -> 4 | N14: =Scoring!M29 -> 5 | O14: =SUM(F14:N14) -> 42 | P14: =Scoring!O29 -> 5 | Q14: =Scoring!P29 -> 3 | R14: =Scoring!Q29 -> 4 | S14: =Scoring!R29 -> 5 | T14: =Scoring!S29 -> 4 | U14: =Scoring!T29 -> 3 | V14: =Scoring!U29 -> 4 | W14: =Scoring!V29 -> 5 | X14: =Scoring!W29 -> 3 | Y14: =SUM(P14:X14) -> 36 | Z14: =O14+Y14 -> 78 | AA14: =(Z14-70) -> 8
A15: 12 | B15: =Scoring!A14 -> Caleb Henry | C15: =Scoring!B14 -> Hempfield | D15: =Scoring!C14 -> 10 | F15: =Scoring!E14 -> 4 | G15: =Scoring!F14 -> 5 | H15: =Scoring!G14 -> 3 | I15: =Scoring!H14 -> 4 | J15: =Scoring!I14 -> 3 | K15: =Scoring!J14 -> 5 | L15: =Scoring!K14 -> 4 | M15: =Scoring!L14 -> 4 | N15: =Scoring!M14 -> 5 | O15: =SUM(F15:N15) -> 37 | P15: =Scoring!O14 -> 5 | Q15: =Scoring!P14 -> 4 | R15: =Scoring!Q14 -> 4 | S15: =Scoring!R14 -> 6 | T15: =Scoring!S14 -> 6 | U15: =Scoring!T14 -> 3 | V15: =Scoring!U14 -> 4 | W15: =Scoring!V14 -> 4 | X15: =Scoring!W14 -> 5 | Y15: =SUM(P15:X15) -> 41 | Z15: =O15+Y15 -> 78 | AA15: =(Z15-70) -> 8
A16: 13 | B16: =Scoring!A22 -> Josh Drotos | C16: =Scoring!B22 -> Penn Trafford | D16: =Scoring!C22 -> 9 | F16: =Scoring!E22 -> 4 | G16: =Scoring!F22 -> 5 | H16: =Scoring!G22 -> 3 | I16: =Scoring!H22 -> 4 | J16: =Scoring!I22 -> 4 | K16: =Scoring!J22 -> 4 | L16: =Scoring!K22 -> 5 | M16: =Scoring!L22 -> 5 | N16: =Scoring!M22 -> 5 | O16: =SUM(F16:N16) -> 39 | P16: =Scoring!O22 -> 6 | Q16: =Scoring!P22 -> 3 | R16: =Scoring!Q22 -> 4 | S16: =Scoring!R22 -> 6 | T16: =Scoring!S22 -> 4 | U16: =Scoring!T22 -> 3 | V16: =Scoring!U22 -> 4 | W16: =Scoring!V22 -> 6 | X16: =Scoring!W22 -> 4 | Y16: =SUM(P16:X16) -> 40 | Z16: =O16+Y16 -> 79 | AA16: =(Z16-70) -> 9
A17: 14 | B17: =Scoring!A23 -> Kyle Worthington | C17: =Scoring!B23 -> Penn Trafford | D17: =Scoring!C23 -> 12 | F17: =Scoring!E23 -> 6 | G17: =Scoring!F23 -> 4 | H17: =Scoring!G23 -> 4 | I17: =Scoring!H23 -> 4 | J17: =Scoring!I23 -> 2 | K17: =Scoring!J23 -> 5 | L17: =Scoring!K23 -> 4 | M17: =Scoring!L23 -> 4 | N17: =Scoring!M23 -> 4 | O17: =SUM(F17:N17) -> 37 | P17: =Scoring!O23 -> 5 | Q17: =Scoring!P23 -> 4 | R17: =Scoring!Q23 -> 5 | S17: =Scoring!R23 -> 6 | T17: =Scoring!S23 -> 5 | U17: =Scoring!T23 -> 4 | V17: =Scoring!U23 -> 4 | W17: =Scoring!V23 -> 4 | X17: =Scoring!W23 -> 5 | Y17: =SUM(P17:X17) -> 42 | Z17: =O17+Y17 -> 79 | AA17: =(Z17-70) -> 9
A18: 15 | B18: =Scoring!A16 -> Amos McConahey | C18: =Scoring!B16 -> Latrobe | D18: =Scoring!C16 -> 10 | F18: =Scoring!E16 -> 4 | G18: =Scoring!F16 -> 5 | H18: =Scoring!G16 -> 4 | I18: =Scoring!H16 -> 6 | J18: =Scoring!I16 -> 3 | K18: =Scoring!J16 -> 5 | L18: =Scoring!K16 -> 4 | M18: =Scoring!L16 -> 4 | N18: =Scoring!M16 -> 4 | O18: =SUM(F18:N18) -> 39 | P18: =Scoring!O16 -> 5 | Q18: =Scoring!P16 -> 4 | R18: =Scoring!Q16 -> 5 | S18: =Scoring!R16 -> 5 | T18: =Scoring!S16 -> 4 | U18: =Scoring!T16 -> 4 | V18: =Scoring!U16 -> 5 | W18: =Scoring!V16 -> 4 | X18: =Scoring!W16 -> 5 | Y18: =SUM(P18:X18) -> 41 | Z18: =O18+Y18 -> 80 | AA18: =(Z18-70) -> 10
A19: 16 | B19: =Scoring!A8 -> Beau Raykes | C19: =Scoring!B8 -> Indiana | D19: =Scoring!C8 -> 11 | F19: =Scoring!E8 -> 5 | G19: =Scoring!F8 -> 5 | H19: =Scoring!G8 -> 3 | I19: =Scoring!H8 -> 5 | J19: =Scoring!I8 -> 4 | K19: =Scoring!J8 -> 4 | L19: =Scoring!K8 -> 5 | M19: =Scoring!L8 -> 4 | N19: =Scoring!M8 -> 4 | O19: =SUM(F19:N19) -> 39 | P19: =Scoring!O8 -> 5 | Q19: =Scoring!P8 -> 3 | R19: =Scoring!Q8 -> 6 | S19: =Scoring!R8 -> 6 | T19: =Scoring!S8 -> 6 | U19: =Scoring!T8 -> 3 | V19: =Scoring!U8 -> 4 | W19: =Scoring!V8 -> 5 | X19: =Scoring!W8 -> 3 | Y19: =SUM(P19:X19) -> 41 | Z19: =O19+Y19 -> 80 | AA19: =(Z19-70) -> 10
A20: 17 | B20: =Scoring!A10 -> Matteo Santamaria | C20: =Scoring!B10 -> Hempfield | D20: =Scoring!C10 -> 10 | F20: =Scoring!E10 -> 5 | G20: =Scoring!F10 -> 6 | H20: =Scoring!G10 -> 3 | I20: =Scoring!H10 -> 4 | J20: =Scoring!I10 -> 3 | K20: =Scoring!J10 -> 5 | L20: =Scoring!K10 -> 5 | M20: =Scoring!L10 -> 4 | N20: =Scoring!M10 -> 5 | O20: =SUM(F20:N20) -> 40 | P20: =Scoring!O10 -> 6 | Q20: =Scoring!P10 -> 4 | R20: =Scoring!Q10 -> 3 | S20: =Scoring!R10 -> 6 | T20: =Scoring!S10 -> 4 | U20: =Scoring!T10 -> 5 | V20: =Scoring!U10 -> 4 | W20: =Scoring!V10 -> 5 | X20: =Scoring!W10 -> 4 | Y20: =SUM(P20:X20) -> 41 | Z20: =O20+Y20 -> 81 | AA20: =(Z20-70) -> 11
A21: 18 | B21: =Scoring!A44 -> Nathan Ross | C21: Greensburg Salem | D21: =Scoring!C44 -> 11 | F21: =Scoring!E44 -> 4 | G21: =Scoring!F44 -> 6 | H21: =Scoring!G44 -> 3 | I21: =Scoring!H44 -> 4 | J21: =Scoring!I44 -> 3 | K21: =Scoring!J44 -> 5 | L21: =Scoring!K44 -> 5 | M21: =Scoring!L44 -> 4 | N21: =Scoring!M44 -> 5 | O21: =SUM(F21:N21) -> 39 | P21: =Scoring!O44 -> 7 | Q21: =Scoring!P44 -> 3 | R21: =Scoring!Q44 -> 4 | S21: =Scoring!R44 -> 5 | T21: =Scoring!S44 -> 5 | U21: =Scoring!T44 -> 5 | V21: =Scoring!U44 -> 5 | W21: =Scoring!V44 -> 4 | X21: =Scoring!W44 -> 5 | Y21: =SUM(P21:X21) -> 43 | Z21: =O21+Y21 -> 82 | AA21: =(Z21-70) -> 12
A22: 19 | B22: =Scoring!A42 -> Hayden Henry | C22: Greensburg Salem | D22: =Scoring!C42 -> 11 | F22: =Scoring!E42 -> 5 | G22: =Scoring!F42 -> 5 | H22: =Scoring!G42 -> 3 | I22: =Scoring!H42 -> 5 | J22: =Scoring!I42 -> 3 | K22: =Scoring!J42 -> 5 | L22: =Scoring!K42 -> 7 | M22: =Scoring!L42 -> 6 | N22: =Scoring!M42 -> 4 | O22: =SUM(F22:N22) -> 43 | P22: =Scoring!O42 -> 5 | Q22: =Scoring!P42 -> 5 | R22: =Scoring!Q42 -> 5 | S22: =Scoring!R42 -> 4 | T22: =Scoring!S42 -> 4 | U22: =Scoring!T42 -> 4 | V22: =Scoring!U42 -> 5 | W22: =Scoring!V42 -> 4 | X22: =Scoring!W42 -> 4 | Y22: =SUM(P22:X22) -> 40 | Z22: =O22+Y22 -> 83 | AA22: =(Z22-70) -> 13
A23: 20 | B23: =Scoring!A6 -> Will Steve | C23: =Scoring!B6 -> Indiana | D23: =Scoring!C6 -> 11 | F23: =Scoring!E6 -> 5 | G23: =Scoring!F6 -> 5 | H23: =Scoring!G6 -> 4 | I23: =Scoring!H6 -> 3 | J23: =Scoring!I6 -> 3 | K23: =Scoring!J6 -> 4 | L23: =Scoring!K6 -> 5 | M23: =Scoring!L6 -> 4 | N23: =Scoring!M6 -> 5 | O23: =SUM(F23:N23) -> 38 | P23: =Scoring!O6 -> 6 | Q23: =Scoring!P6 -> 4 | R23: =Scoring!Q6 -> 6 | S23: =Scoring!R6 -> 5 | T23: =Scoring!S6 -> 4 | U23: =Scoring!T6 -> 5 | V23: =Scoring!U6 -> 5 | W23: =Scoring!V6 -> 5 | X23: =Scoring!W6 -> 5 | Y23: =SUM(P23:X23) -> 45 | Z23: =O23+Y23 -> 83 | AA23: =(Z23-70) -> 13
A24: 21 | B24: =Scoring!A30 -> Ryan Nemes | C24: =Scoring!B30 -> Norwin | D24: =Scoring!C30 -> 12 | F24: =Scoring!E30 -> 4 | G24: =Scoring!F30 -> 6 | H24: =Scoring!G30 -> 4 | I24: =Scoring!H30 -> 3 | J24: =Scoring!I30 -> 5 | K24: =Scoring!J30 -> 6 | L24: =Scoring!K30 -> 4 | M24: =Scoring!L30 -> 3 | N24: =Scoring!M30 -> 6 | O24: =SUM(F24:N24) -> 41 | P24: =Scoring!O30 -> 6 | Q24: =Scoring!P30 -> 4 | R24: =Scoring!Q30 -> 3 | S24: =Scoring!R30 -> 5 | T24: =Scoring!S30 -> 7 | U24: =Scoring!T30 -> 3 | V24: =Scoring!U30 -> 5 | W24: =Scoring!V30 -> 5 | X24: =Scoring!W30 -> 5 | Y24: =SUM(P24:X24) -> 43 | Z24: =O24+Y24 -> 84 | AA24: =(Z24-70) -> 14
A25: 22 | B25: =Scoring!A32 -> Leo Lilley | C25: =Scoring!B32 -> Norwin | D25: =Scoring!C32 -> 11 | F25: =Scoring!E32 -> 4 | G25: =Scoring!F32 -> 6 | H25: =Scoring!G32 -> 4 | I25: =Scoring!H32 -> 4 | J25: =Scoring!I32 -> 3 | K25: =Scoring!J32 -> 5 | L25: =Scoring!K32 -> 6 | M25: =Scoring!L32 -> 3 | N25: =Scoring!M32 -> 5 | O25: =SUM(F25:N25) -> 40 | P25: =Scoring!O32 -> 6 | Q25: =Scoring!P32 -> 5 | R25: =Scoring!Q32 -> 3 | S25: =Scoring!R32 -> 5 | T25: =Scoring!S32 -> 5 | U25: =Scoring!T32 -> 4 | V25: =Scoring!U32 -> 5 | W25: =Scoring!V32 -> 6 | X25: =Scoring!W32 -> 5 | Y25: =SUM(P25:X25) -> 44 | Z25: =O25+Y25 -> 84 | AA25: =(Z25-70) -> 14
A26: 23 | B26: =Scoring!A11 -> Nico Yannascoli | C26: =Scoring!B11 -> Hempfield | D26: =Scoring!C11 -> 11 | F26: =Scoring!E11 -> 4 | G26: =Scoring!F11 -> 5 | H26: =Scoring!G11 -> 3 | I26: =Scoring!H11 -> 4 | J26: =Scoring!I11 -> 4 | K26: =Scoring!J11 -> 5 | L26: =Scoring!K11 -> 4 | M26: =Scoring!L11 -> 5 | N26: =Scoring!M11 -> 6 | O26: =SUM(F26:N26) -> 40 | P26: =Scoring!O11 -> 6 | Q26: =Scoring!P11 -> 4 | R26: =Scoring!Q11 -> 4 | S26: =Scoring!R11 -> 5 | T26: =Scoring!S11 -> 4 | U26: =Scoring!T11 -> 4 | V26: =Scoring!U11 -> 5 | W26: =Scoring!V11 -> 7 | X26: =Scoring!W11 -> 5 | Y26: =SUM(P26:X26) -> 44 | Z26: =O26+Y26 -> 84 | AA26: =(Z26-70) -> 14
A27: 24 | B27: =Scoring!A45 -> Sam Vassar | C27: Greensburg Salem | D27: =Scoring!C45 -> 12 | F27: =Scoring!E45 -> 4 | G27: =Scoring!F45 -> 6 | H27: =Scoring!G45 -> 3 | I27: =Scoring!H45 -> 5 | J27: =Scoring!I45 -> 2 | K27: =Scoring!J45 -> 5 | L27: =Scoring!K45 -> 6 | M27: =Scoring!L45 -> 4 | N27: =Scoring!M45 -> 5 | O27: =SUM(F27:N27) -> 40 | P27: =Scoring!O45 -> 7 | Q27: =Scoring!P45 -> 3 | R27: =Scoring!Q45 -> 5 | S27: =Scoring!R45 -> 5 | T27: =Scoring!S45 -> 4 | U27: =Scoring!T45 -> 4 | V27: =Scoring!U45 -> 4 | W27: =Scoring!V45 -> 5 | X27: =Scoring!W45 -> 7 | Y27: =SUM(P27:X27) -> 44 | Z27: =O27+Y27 -> 84 | AA27: =(Z27-70) -> 14
A28: 25 | B28: =Scoring!A17 -> Nate Meeder | C28: =Scoring!B17 -> Latrobe | D28: =Scoring!C17 -> 11 | F28: =Scoring!E17 -> 4 | G28: =Scoring!F17 -> 7 | H28: =Scoring!G17 -> 3 | I28: =Scoring!H17 -> 9 | J28: =Scoring!I17 -> 4 | K28: =Scoring!J17 -> 6 | L28: =Scoring!K17 -> 4 | M28: =Scoring!L17 -> 4 | N28: =Scoring!M17 -> 5 | O28: =SUM(F28:N28) -> 46 | P28: =Scoring!O17 -> 5 | Q28: =Scoring!P17 -> 5 | R28: =Scoring!Q17 -> 5 | S28: =Scoring!R17 -> 4 | T28: =Scoring!S17 -> 5 | U28: =Scoring!T17 -> 3 | V28: =Scoring!U17 -> 4 | W28: =Scoring!V17 -> 4 | X28: =Scoring!W17 -> 4 | Y28: =SUM(P28:X28) -> 39 | Z28: =O28+Y28 -> 85 | AA28: =(Z28-70) -> 15
A29: 26 | B29: =Scoring!A38 -> Gabe Thimons | C29: =Scoring!B38 -> Kiski | D29: =Scoring!C38 -> 11 | F29: =Scoring!E38 -> 5 | G29: =Scoring!F38 -> 6 | H29: =Scoring!G38 -> 3 | I29: =Scoring!H38 -> 5 | J29: =Scoring!I38 -> 4 | K29: =Scoring!J38 -> 5 | L29: =Scoring!K38 -> 5 | M29: =Scoring!L38 -> 5 | N29: =Scoring!M38 -> 5 | O29: =SUM(F29:N29) -> 43 | P29: =Scoring!O38 -> 5 | Q29: =Scoring!P38 -> 3 | R29: =Scoring!Q38 -> 4 | S29: =Scoring!R38 -> 5 | T29: =Scoring!S38 -> 5 | U29: =Scoring!T38 -> 3 | V29: =Scoring!U38 -> 5 | W29: =Scoring!V38 -> 5 | X29: =Scoring!W38 -> 7 | Y29: =SUM(P29:X29) -> 42 | Z29: =O29+Y29 -> 85 | AA29: =(Z29-70) -> 15
A30: 27 | B30: =Scoring!A25 -> Rylan Kiste | C30: =Scoring!B25 -> Penn Trafford | D30: =Scoring!C25 -> 12 | F30: =Scoring!E25 -> 5 | G30: =Scoring!F25 -> 6 | H30: =Scoring!G25 -> 4 | I30: =Scoring!H25 -> 5 | J30: =Scoring!I25 -> 4 | K30: =Scoring!J25 -> 5 | L30: =Scoring!K25 -> 4 | M30: =Scoring!L25 -> 4 | N30: =Scoring!M25 -> 5 | O30: =SUM(F30:N30) -> 42 | P30: =Scoring!O25 -> 6 | Q30: =Scoring!P25 -> 5 | R30: =Scoring!Q25 -> 4 | S30: =Scoring!R25 -> 5 | T30: =Scoring!S25 -> 5 | U30: =Scoring!T25 -> 4 | V30: =Scoring!U25 -> 5 | W30: =Scoring!V25 -> 4 | X30: =Scoring!W25 -> 5 | Y30: =SUM(P30:X30) -> 43 | Z30: =O30+Y30 -> 85 | AA30: =(Z30-70) -> 15
A31: 28 | B31: =Scoring!A37 -> Thomas Kilgour | C31: =Scoring!B37 -> Kiski | D31: =Scoring!C37 -> 11 | F31: =Scoring!E37 -> 5 | G31: =Scoring!F37 -> 5 | H31: =Scoring!G37 -> 4 | I31: =Scoring!H37 -> 7 | J31: =Scoring!I37 -> 3 | K31: =Scoring!J37 -> 5 | L31: =Scoring!K37 -> 5 | M31: =Scoring!L37 -> 5 | N31: =Scoring!M37 -> 5 | O31: =SUM(F31:N31) -> 44 | P31: =Scoring!O37 -> 6 | Q31: =Scoring!P37 -> 4 | R31: =Scoring!Q37 -> 5 | S31: =Scoring!R37 -> 5 | T31: =Scoring!S37 -> 4 | U31: =Scoring!T37 -> 4 | V31: =Scoring!U37 -> 6 | W31: =Scoring!V37 -> 4 | X31: =Scoring!W37 -> 4 | Y31: =SUM(P31:X31) -> 42 | Z31: =O31+Y31 -> 86 | AA31: =(Z31-70) -> 16
A32: 29 | B32: =Scoring!A39 -> Nick Pifer | C32: =Scoring!B39 -> Kiski | D32: =Scoring!C39 -> 9 | F32: =Scoring!E39 -> 6 | G32: =Scoring!F39 -> 6 | H32: =Scoring!G39 -> 4 | I32: =Scoring!H39 -> 4 | J32: =Scoring!I39 -> 4 | K32: =Scoring!J39 -> 5 | L32: =Scoring!K39 -> 4 | M32: =Scoring!L39 -> 6 | N32: =Scoring!M39 -> 5 | O32: =SUM(F32:N32) -> 44 | P32: =Scoring!O39 -> 6 | Q32: =Scoring!P39 -> 4 | R32: =Scoring!Q39 -> 5 | S32: =Scoring!R39 -> 5 | T32: =Scoring!S39 -> 4 | U32: =Scoring!T39 -> 3 | V32: =Scoring!U39 -> 5 | W32: =Scoring!V39 -> 6 | X32: =Scoring!W39 -> 4 | Y32: =SUM(P32:X32) -> 42 | Z32: =O32+Y32 -> 86 | AA32: =(Z32-70) -> 16
A33: 30 | B33: =Scoring!A41 -> Bryce Ferace | C33: Greensburg Salem | D33: =Scoring!C41 -> 12 | F33: =Scoring!E41 -> 4 | G33: =Scoring!F41 -> 5 | H33: =Scoring!G41 -> 5 | I33: =Scoring!H41 -> 5 | J33: =Scoring!I41 -> 4 | K33: =Scoring!J41 -> 5 | L33: =Scoring!K41 -> 4 | M33: =Scoring!L41 -> 5 | N33: =Scoring!M41 -> 5 | O33: =SUM(F33:N33) -> 42 | P33: =Scoring!O41 -> 6 | Q33: =Scoring!P41 -> 4 | R33: =Scoring!Q41 -> 4 | S33: =Scoring!R41 -> 7 | T33: =Scoring!S41 -> 5 | U33: =Scoring!T41 -> 4 | V33: =Scoring!U41 -> 4 | W33: =Scoring!V41 -> 5 | X33: =Scoring!W41 -> 6 | Y33: =SUM(P33:X33) -> 45 | Z33: =O33+Y33 -> 87 | AA33: =(Z33-70) -> 17
A34: 31 | B34: =Scoring!A31 -> Jacob George | C34: =Scoring!B31 -> Norwin | D34: =Scoring!C31 -> 12 | F34: =Scoring!E31 -> 6 | G34: =Scoring!F31 -> 6 | H34: =Scoring!G31 -> 4 | I34: =Scoring!H31 -> 4 | J34: =Scoring!I31 -> 4 | K34: =Scoring!J31 -> 4 | L34: =Scoring!K31 -> 5 | M34: =Scoring!L31 -> 5 | N34: =Scoring!M31 -> 5 | O34: =SUM(F34:N34) -> 43 | P34: =Scoring!O31 -> 5 | Q34: =Scoring!P31 -> 4 | R34: =Scoring!Q31 -> 4 | S34: =Scoring!R31 -> 7 | T34: =Scoring!S31 -> 4 | U34: =Scoring!T31 -> 5 | V34: =Scoring!U31 -> 5 | W34: =Scoring!V31 -> 4 | X34: =Scoring!W31 -> 6 | Y34: =SUM(P34:X34) -> 44 | Z34: =O34+Y34 -> 87 | AA34: =(Z34-70) -> 17
A35: 32 | B35: =Scoring!A12 -> Jacob Buchholz | C35: =Scoring!B12 -> Hempfield | D35: =Scoring!C12 -> 12 | F35: =Scoring!E12 -> 4 | G35: =Scoring!F12 -> 5 | H35: =Scoring!G12 -> 3 | I35: =Scoring!H12 -> 7 | J35: =Scoring!I12 -> 4 | K35: =Scoring!J12 -> 5 | L35: =Scoring!K12 -> 5 | M35: =Scoring!L12 -> 4 | N35: =Scoring!M12 -> 5 | O35: =SUM(F35:N35) -> 42 | P35: =Scoring!O12 -> 7 | Q35: =Scoring!P12 -> 5 | R35: =Scoring!Q12 -> 4 | S35: =Scoring!R12 -> 5 | T35: =Scoring!S12 -> 5 | U35: =Scoring!T12 -> 5 | V35: =Scoring!U12 -> 5 | W35: =Scoring!V12 -> 5 | X35: =Scoring!W12 -> 5 | Y35: =SUM(P35:X35) -> 46 | Z35: =O35+Y35 -> 88 | AA35: =(Z35-70) -> 18
A36: 33 | B36: =Scoring!A15 -> Nico Santamaria | C36: =Scoring!B15 -> Hempfield | D36: =Scoring!C15 -> 9 | F36: =Scoring!E15 -> 6 | G36: =Scoring!F15 -> 7 | H36: =Scoring!G15 -> 3 | I36: =Scoring!H15 -> 4 | J36: =Scoring!I15 -> 3 | K36: =Scoring!J15 -> 5 | L36: =Scoring!K15 -> 4 | M36: =Scoring!L15 -> 4 | N36: =Scoring!M15 -> 6 | O36: =SUM(F36:N36) -> 42 | P36: =Scoring!O15 -> 7 | Q36: =Scoring!P15 -> 5 | R36: =Scoring!Q15 -> 6 | S36: =Scoring!R15 -> 5 | T36: =Scoring!S15 -> 4 | U36: =Scoring!T15 -> 3 | V36: =Scoring!U15 -> 6 | W36: =Scoring!V15 -> 5 | X36: =Scoring!W15 -> 5 | Y36: =SUM(P36:X36) -> 46 | Z36: =O36+Y36 -> 88 | AA36: =(Z36-70) -> 18
A37: 34 | B37: =Scoring!A20 -> Grant Gardnier | C37: =Scoring!B20 -> Latrobe | D37: =Scoring!C20 -> 10 | F37: =Scoring!E20 -> 5 | G37: =Scoring!F20 -> 5 | H37: =Scoring!G20 -> 3 | I37: =Scoring!H20 -> 5 | J37: =Scoring!I20 -> 3 | K37: =Scoring!J20 -> 6 | L37: =Scoring!K20 -> 6 | M37: =Scoring!L20 -> 4 | N37: =Scoring!M20 -> 6 | O37: =SUM(F37:N37) -> 43 | P37: =Scoring!O20 -> 6 | Q37: =Scoring!P20 -> 3 | R37: =Scoring!Q20 -> 5 | S37: =Scoring!R20 -> 5 | T37: =Scoring!S20 -> 5 | U37: =Scoring!T20 -> 5 | V37: =Scoring!U20 -> 5 | W37: =Scoring!V20 -> 7 | X37: =Scoring!W20 -> 5 | Y37: =SUM(P37:X37) -> 46 | Z37: =O37+Y37 -> 89 | AA37: =(Z37-70) -> 19
A38: 35 | B38: =Scoring!A43 -> Ethan Rugh | C38: Greensburg Salem | D38: =Scoring!C43 -> 10 | F38: =Scoring!E43 -> 5 | G38: =Scoring!F43 -> 6 | H38: =Scoring!G43 -> 6 | I38: =Scoring!H43 -> 5 | J38: =Scoring!I43 -> 4 | K38: =Scoring!J43 -> 5 | L38: =Scoring!K43 -> 5 | M38: =Scoring!L43 -> 5 | N38: =Scoring!M43 -> 5 | O38: =SUM(F38:N38) -> 46 | P38: =Scoring!O43 -> 6 | Q38: =Scoring!P43 -> 4 | R38: =Scoring!Q43 -> 4 | S38: =Scoring!R43 -> 7 | T38: =Scoring!S43 -> 5 | U38: =Scoring!T43 -> 4 | V38: =Scoring!U43 -> 5 | W38: =Scoring!V43 -> 4 | X38: =Scoring!W43 -> 5 | Y38: =SUM(P38:X38) -> 44 | Z38: =O38+Y38 -> 90 | AA38: =(Z38-70) -> 20
A39: 36 | B39: =Scoring!A7 -> Rudy Lipnsikis | C39: =Scoring!B7 -> Indiana | D39: =Scoring!C7 -> 12 | F39: =Scoring!E7 -> 5 | G39: =Scoring!F7 -> 5 | H39: =Scoring!G7 -> 3 | I39: =Scoring!H7 -> 6 | J39: =Scoring!I7 -> 3 | K39: =Scoring!J7 -> 4 | L39: =Scoring!K7 -> 5 | M39: =Scoring!L7 -> 5 | N39: =Scoring!M7 -> 5 | O39: =SUM(F39:N39) -> 41 | P39: =Scoring!O7 -> 6 | Q39: =Scoring!P7 -> 5 | R39: =Scoring!Q7 -> 4 | S39: =Scoring!R7 -> 10 | T39: =Scoring!S7 -> 4 | U39: =Scoring!T7 -> 4 | V39: =Scoring!U7 -> 5 | W39: =Scoring!V7 -> 5 | X39: =Scoring!W7 -> 6 | Y39: =SUM(P39:X39) -> 49 | Z39: =O39+Y39 -> 90 | AA39: =(Z39-70) -> 20
A40: 37 | B40: =Scoring!A26 -> Zach Grkman | C40: =Scoring!B26 -> Penn Trafford | D40: =Scoring!C26 -> 11 | F40: =Scoring!E26 -> 6 | G40: =Scoring!F26 -> 7 | H40: =Scoring!G26 -> 3 | I40: =Scoring!H26 -> 4 | J40: =Scoring!I26 -> 4 | K40: =Scoring!J26 -> 5 | L40: =Scoring!K26 -> 5 | M40: =Scoring!L26 -> 4 | N40: =Scoring!M26 -> 6 | O40: =SUM(F40:N40) -> 44 | P40: =Scoring!O26 -> 8 | Q40: =Scoring!P26 -> 5 | R40: =Scoring!Q26 -> 5 | S40: =Scoring!R26 -> 5 | T40: =Scoring!S26 -> 4 | U40: =Scoring!T26 -> 4 | V40: =Scoring!U26 -> 4 | W40: =Scoring!V26 -> 6 | X40: =Scoring!W26 -> 5 | Y40: =SUM(P40:X40) -> 46 | Z40: =O40+Y40 -> 90 | AA40: =(Z40-70) -> 20
...

Sheet Qualified
B1: Boys Section 1 AAA - Cedarbrook Red - September 21st, 2026
B2: Target Score | C2: 78
B5: Name | C5: School | D5: Grade | E5: Score | F5: To Par
A6: 1 | B6: =IF('Sorted by Score Scoring'!Z4<=78,'Sorted by Score Scoring'!B4,"") -> Luke Sikora | C6: =IF('Sorted by Score Scoring'!Z4<=78,'Sorted by Score Scoring'!C4,"") -> Greensburg Salem | D6: =IF('Sorted by Score Scoring'!Z4<=78,'Sorted by Score Scoring'!D4,"") -> 11 | E6: =IF('Sorted by Score Scoring'!Z4<=78,'Sorted by Score Scoring'!Z4,"") -> 68 | F6: =IF('Sorted by Score Scoring'!Z4<=78,'Sorted by Score Scoring'!AA4,"") -> -2
A7: 2 | B7: =IF('Sorted by Score Scoring'!Z5<=78,'Sorted by Score Scoring'!B5,"") -> Brady Jankowski | C7: =IF('Sorted by Score Scoring'!Z5<=78,'Sorted by Score Scoring'!C5,"") -> Kiski | D7: =IF('Sorted by Score Scoring'!Z5<=78,'Sorted by Score Scoring'!D5,"") -> 11 | E7: =IF('Sorted by Score Scoring'!Z5<=78,'Sorted by Score Scoring'!Z5,"") -> 76 | F7: =IF('Sorted by Score Scoring'!Z5<=78,'Sorted by Score Scoring'!AA5,"") -> 6
A8: 3 | B8: =IF('Sorted by Score Scoring'!Z6<=78,'Sorted by Score Scoring'!B6,"") -> Ryan Bell | C8: =IF('Sorted by Score Scoring'!Z6<=78,'Sorted by Score Scoring'!C6,"") -> Indiana | D8: =IF('Sorted by Score Scoring'!Z6<=78,'Sorted by Score Scoring'!D6,"") -> 12 | E8: =IF('Sorted by Score Scoring'!Z6<=78,'Sorted by Score Scoring'!Z6,"") -> 76 | F8: =IF('Sorted by Score Scoring'!Z6<=78,'Sorted by Score Scoring'!AA6,"") -> 6
A9: 4 | B9: =IF('Sorted by Score Scoring'!Z7<=78,'Sorted by Score Scoring'!B7,"") -> Jaxon Makrevski | C9: =IF('Sorted by Score Scoring'!Z7<=78,'Sorted by Score Scoring'!C7,"") -> Latrobe | D9: =IF('Sorted by Score Scoring'!Z7<=78,'Sorted by Score Scoring'!D7,"") -> 10 | E9: =IF('Sorted by Score Scoring'!Z7<=78,'Sorted by Score Scoring'!Z7,"") -> 76 | F9: =IF('Sorted by Score Scoring'!Z7<=78,'Sorted by Score Scoring'!AA7,"") -> 6
A10: 5 | B10: =IF('Sorted by Score Scoring'!Z8<=78,'Sorted by Score Scoring'!B8,"") -> Tytan Logero | C10: =IF('Sorted by Score Scoring'!Z8<=78,'Sorted by Score Scoring'!C8,"") -> Kiski | D10: =IF('Sorted by Score Scoring'!Z8<=78,'Sorted by Score Scoring'!D8,"") -> 11 | E10: =IF('Sorted by Score Scoring'!Z8<=78,'Sorted by Score Scoring'!Z8,"") -> 76 | F10: =IF('Sorted by Score Scoring'!Z8<=78,'Sorted by Score Scoring'!AA8,"") -> 6
A11: 6 | B11: =IF('Sorted by Score Scoring'!Z9<=78,'Sorted by Score Scoring'!B9,"") -> Chace Force | C11: =IF('Sorted by Score Scoring'!Z9<=78,'Sorted by Score Scoring'!C9,"") -> Indiana | D11: =IF('Sorted by Score Scoring'!Z9<=78,'Sorted by Score Scoring'!D9,"") -> 12 | E11: =IF('Sorted by Score Scoring'!Z9<=78,'Sorted by Score Scoring'!Z9,"") -> 77 | F11: =IF('Sorted by Score Scoring'!Z9<=78,'Sorted by Score Scoring'!AA9,"") -> 7
A12: 7 | B12: =IF('Sorted by Score Scoring'!Z10<=78,'Sorted by Score Scoring'!B10,"") -> Mike Ogden | C12: =IF('Sorted by Score Scoring'!Z10<=78,'Sorted by Score Scoring'!C10,"") -> Kiski | D12: =IF('Sorted by Score Scoring'!Z10<=78,'Sorted by Score Scoring'!D10,"") -> 10 | E12: =IF('Sorted by Score Scoring'!Z10<=78,'Sorted by Score Scoring'!Z10,"") -> 77 | F12: =IF('Sorted by Score Scoring'!Z10<=78,'Sorted by Score Scoring'!AA10,"") -> 7
A13: 8 | B13: =IF('Sorted by Score Scoring'!Z11<=78,'Sorted by Score Scoring'!B11,"") -> Colin Madden | C13: =IF('Sorted by Score Scoring'!Z11<=78,'Sorted by Score Scoring'!C11,"") -> Norwin | D13: =IF('Sorted by Score Scoring'!Z11<=78,'Sorted by Score Scoring'!D11,"") -> 12 | E13: =IF('Sorted by Score Scoring'!Z11<=78,'Sorted by Score Scoring'!Z11,"") -> 77 | F13: =IF('Sorted by Score Scoring'!Z11<=78,'Sorted by Score Scoring'!AA11,"") -> 7
A14: 9 | B14: =IF('Sorted by Score Scoring'!Z12<=78,'Sorted by Score Scoring'!B12,"") -> Garret Helman | C14: =IF('Sorted by Score Scoring'!Z12<=78,'Sorted by Score Scoring'!C12,"") -> Latrobe | D14: =IF('Sorted by Score Scoring'!Z12<=78,'Sorted by Score Scoring'!D12,"") -> 10 | E14: =IF('Sorted by Score Scoring'!Z12<=78,'Sorted by Score Scoring'!Z12,"") -> 77 | F14: =IF('Sorted by Score Scoring'!Z12<=78,'Sorted by Score Scoring'!AA12,"") -> 7
A15: 10 | B15: =IF('Sorted by Score Scoring'!Z13<=78,'Sorted by Score Scoring'!B13,"") -> Landon Stoner | C15: =IF('Sorted by Score Scoring'!Z13<=78,'Sorted by Score Scoring'!C13,"") -> Norwin | D15: =IF('Sorted by Score Scoring'!Z13<=78,'Sorted by Score Scoring'!D13,"") -> 12 | E15: =IF('Sorted by Score Scoring'!Z13<=78,'Sorted by Score Scoring'!Z13,"") -> 78 | F15: =IF('Sorted by Score Scoring'!Z13<=78,'Sorted by Score Scoring'!AA13,"") -> 8
A16: 11 | B16: =IF('Sorted by Score Scoring'!Z14<=78,'Sorted by Score Scoring'!B14,"") -> Riley Shaffer | C16: =IF('Sorted by Score Scoring'!Z14<=78,'Sorted by Score Scoring'!C14,"") -> Norwin | D16: =IF('Sorted by Score Scoring'!Z14<=78,'Sorted by Score Scoring'!D14,"") -> 12 | E16: =IF('Sorted by Score Scoring'!Z14<=78,'Sorted by Score Scoring'!Z14,"") -> 78 | F16: =IF('Sorted by Score Scoring'!Z14<=78,'Sorted by Score Scoring'!AA14,"") -> 8
A17: 12 | B17: =IF('Sorted by Score Scoring'!Z15<=78,'Sorted by Score Scoring'!B15,"") -> Caleb Henry | C17: =IF('Sorted by Score Scoring'!Z15<=78,'Sorted by Score Scoring'!C15,"") -> Hempfield | D17: =IF('Sorted by Score Scoring'!Z15<=78,'Sorted by Score Scoring'!D15,"") -> 10 | E17: =IF('Sorted by Score Scoring'!Z15<=78,'Sorted by Score Scoring'!Z15,"") -> 78 | F17: =IF('Sorted by Score Scoring'!Z15<=78,'Sorted by Score Scoring'!AA15,"") -> 8
... A47: 42 | B47: =IF('Sorted by Score Scoring'!Z45<=78,'Sorted by Score Scoring'!B45,"") | C47: =IF('Sorted by Score Scoring'!Z45<=78,'Sorted by Score Scoring'!C45,"") | D47: =IF('Sorted by Score Scoring'!Z45<=78,'Sorted by Score Scoring'!D45,"") | E47: =IF('Sorted by Score Scoring'!Z45<=78,'Sorted by Score Scoring'!Z45,"") | F47: =IF('Sorted by Score Scoring'!Z45<=78,'Sorted by Score Scoring'!AA45,"")

Sheet Groups
A1: Shuttle Cart | B1: Kiski JV Coach - Shuttle from 11 to 12 | F1: Scott Reaugh - Scoring on Patio
A3: Group #1 (1a) | C3: Matt Reed | F3: Group #6 (17b) | H3: Tom Wilkins
A4: PT 1 | B4: =Scoring!A22 -> Josh Drotos | F4: Hempfield 3 | G4: =Scoring!A12 -> Jacob Buchholz
A5: Norwin 1 | B5: =Scoring!A28 -> Landon Stoner | F5: Latrobe 4 | G5: =Scoring!A19 -> Garret Helman
A6: Hemp 1 | B6: =Scoring!A10 -> Matteo Santamaria | F6: Kiski 4 | G6: =Scoring!A37 -> Thomas Kilgour
A7: Armstorng 1 | B7: =Scoring!A40 -> Luke Sikora | F7: Indiana 4 | G7: =Scoring!A7 -> Rudy Lipnsikis
A9: Group #2 (1b) | C9: Ron Prady | F9: Group #7 (16) | H9: John Guzzie
A10: Latrobe 1 | B10: =Scoring!A16 -> Amos McConahey | F10: Armstrong 4 | G10: =Scoring!A43 -> Ethan Rugh
A11: Kiski 1 | B11: =Scoring!A34 -> Brady Jankowski | F11: PT 4 | G11: =Scoring!A25 -> Rylan Kiste
A12: Indiana 1 | B12: =Scoring!A4 -> Chace Force | F12: Norwin 4 | G12: =Scoring!A31 -> Jacob George
A13: PT 2 | B13: =Scoring!A23 -> Kyle Worthington | F13: Hempfield 4 | G13: =Scoring!A13 -> Liam Clauson
A15: Group #3 (18a) | C15: Neal Rushnock | F15: Group #8 (15) | H15: Steve Dominick
A16: Kiski 2 | B16: =Scoring!A35 -> Mike Ogden | F16: Latrobe 5 | G16: =Scoring!A20 -> Grant Gardnier
A17: Indiana 2 | B17: =Scoring!A5 -> Ryan Bell | F17: Kiski 5 | G17: =Scoring!A38 -> Gabe Thimons
A18: Armstrong 2 | B18: =Scoring!A41 -> Bryce Ferace | F18: Indiana 5 | G18: =Scoring!A8 -> Beau Raykes
A19: Latrobe 2 | B19: =Scoring!A17 -> Nate Meeder | F19: Armstrong 5 | G19: =Scoring!A44 -> Nathan Ross
A21: Group #4 (18b) | C21: PT Coach 1 | F21: Group #9 (14) | H21: Greg Hedglin
A22: Norwin 2 | B22: =Scoring!A29 -> Riley Shaffer | F22: PT 5 | G22: =Scoring!A26 -> Zach Grkman
A23: Hempfield 2 | B23: =Scoring!A11 -> Nico Yannascoli | F23: Norwin 5 | G23: =Scoring!A32 -> Leo Lilley
A24: Latrobe 3 | B24: =Scoring!A18 -> Jaxon Makrevski | F24: Hempfield 5 | G24: =Scoring!A14 -> Caleb Henry
A25: Kiski 3 | B25: =Scoring!A36 -> Tytan Logero | F25: Latrobe 6 | G25: =Scoring!A21 -> Luke Marts
A27: Group #5(17a) | C27: Paige Burns | F27: Group #10 (13) | H27: PT Coach 2
A28: Indiana 3 | B28: =Scoring!A6 -> Will Steve | F28: Kiski 6 | G28: =Scoring!A39 -> Nick Pifer
A29: Armstrong 3 | B29: =Scoring!A42 -> Hayden Henry | F29: Indiana 6 | G29: =Scoring!A9 -> Logan Okopal
A30: PT 3 | B30: =Scoring!A24 -> Carter Zeminski | F30: Armstrong 6 | G30: =Scoring!A45 -> Sam Vassar
A31: Norwin 3 | B31: =Scoring!A30 -> Ryan Nemes
F32: Group #11 (12) | H32: Matt Basciano
F33: PT 6 | G33: =Scoring!A27 -> Nate Sterner
F34: Norwin 6 | G34: =Scoring!A33 -> Colin Madden
F35: Hempfield 6 | G35: =Scoring!A15 -> Nico Santamaria

Sheet Marker cards
A1: =Groups!C3 -> Matt Reed | B1: par | C1: =Groups!A3 -> Group #1 (1a) | L1: =Groups!C9 -> Ron Prady | M1: par | N1: =Groups!A9 -> Group #2 (1b) | V1: =Groups!C15 -> Neal Rushnock | X1: =Groups!A15 -> Group #3 (18a) | AG1: =Groups!C21 -> PT Coach 1 | AH1: par | AI1: =Groups!A21 -> Group #4 (18b) | AQ1: =Groups!C27 -> Paige Burns | AR1: Par | AS1: =Groups!A27 -> Group #5(17a) | BB1: =Groups!H3 -> Tom Wilkins | BC1: par | BD1: =Groups!F3 -> Group #6 (17b)
C2: =Groups!B4 -> Josh Drotos | D2: =Groups!A4 -> PT 1 | E2: =Groups!B5 -> Landon Stoner | F2: =Groups!A5 -> Norwin 1 | G2: =Groups!B6 -> Matteo Santamaria | H2: =Groups!A6 -> Hemp 1 | I2: =Groups!B7 -> Luke Sikora | J2: =Groups!A7 -> Armstorng 1 | N2: =Groups!B10 -> Amos McConahey | O2: =Groups!A10 -> Latrobe 1 | P2: =Groups!B11 -> Brady Jankowski | Q2: =Groups!A11 -> Kiski 1 | R2: =Groups!B12 -> Chace Force | S2: =Groups!A12 -> Indiana 1 | T2: =Groups!B13 -> Kyle Worthington | U2: =Groups!A13 -> PT 2 | W2: par | X2: =Groups!B16 -> Mike Ogden | Y2: =Groups!A16 -> Kiski 2 | Z2: =Groups!B17 -> Ryan Bell | AA2: =Groups!A17 -> Indiana 2 | AB2: =Groups!B18 -> Bryce Ferace | AC2: =Groups!A18 -> Armstrong 2 | AD2: =Groups!B19 -> Nate Meeder | AE2: =Groups!A19 -> Latrobe 2 | AI2: =Groups!B22 -> Riley Shaffer | AJ2: =Groups!A22 -> Norwin 2 | AK2: =Groups!B23 -> Nico Yannascoli | AL2: =Groups!A23 -> Hempfield 2 | AM2: =Groups!B24 -> Jaxon Makrevski | AN2: =Groups!A24 -> Latrobe 3 | AO2: =Groups!B25 -> Tytan Logero | AP2: =Groups!A25 -> Kiski 3 | AS2: =Groups!B28 -> Will Steve | AT2: =Groups!A28 -> Indiana 3 | AU2: =Groups!B29 -> Hayden Henry | AV2: =Groups!A29 -> Armstrong 3 | AW2: =Groups!B30 -> Carter Zeminski | AX2: =Groups!A30 -> PT 3 | AY2: =Groups!B31 -> Ryan Nemes | AZ2: =Groups!A31 -> Norwin 3 | BD2: =Groups!G4 -> Jacob Buchholz | BE2: =Groups!F4 -> Hempfield 3 | BF2: =Groups!G5 -> Garret Helman | BG2: =Groups!F5 -> Latrobe 4 | BH2: =Groups!G6 -> Thomas Kilgour | BI2: =Groups!F6 -> Kiski 4 | BJ2: =Groups!G7 -> Rudy Lipnsikis | BK2: =Groups!F7 -> Indiana 4
A3: 1 | B3: 5 | L3: 1 | M3: 5 | V3: 1 | W3: 5 | AG3: 1 | AH3: 5 | AQ3: 1 | AR3: 5 | BB3: 1 | BC3: 5
A4: 2 | B4: 3 | L4: 2 | M4: 3 | V4: 2 | W4: 3 | AG4: 2 | AH4: 3 | AQ4: 2 | AR4: 3 | BB4: 2 | BC4: 3
A5: 3 | B5: 4 | L5: 3 | M5: 4 | V5: 3 | W5: 4 | AG5: 3 | AH5: 4 | AQ5: 3 | AR5: 4 | BB5: 3 | BC5: 4
A6: 4 | B6: 4 | L6: 4 | M6: 4 | V6: 4 | W6: 4 | AG6: 4 | AH6: 4 | AQ6: 4 | AR6: 4 | BB6: 4 | BC6: 4
A7: 5 | B7: 3 | L7: 5 | M7: 3 | V7: 5 | W7: 3 | AG7: 5 | AH7: 3 | AQ7: 5 | AR7: 3 | BB7: 5 | BC7: 3
A8: 6 | B8: 4 | L8: 6 | M8: 4 | V8: 6 | W8: 4 | AG8: 6 | AH8: 4 | AQ8: 6 | AR8: 4 | BB8: 6 | BC8: 4
A9: 7 | B9: 3 | L9: 7 | M9: 3 | V9: 7 | W9: 3 | AG9: 7 | AH9: 3 | AQ9: 7 | AR9: 3 | BB9: 7 | BC9: 3
A10: 8 | B10: 4 | L10: 8 | M10: 4 | V10: 8 | W10: 4 | AG10: 8 | AH10: 4 | AQ10: 8 | AR10: 4 | BB10: 8 | BC10: 4
A11: 9 | B11: 4 | L11: 9 | M11: 4 | V11: 9 | W11: 4 | AG11: 9 | AH11: 4 | AQ11: 9 | AR11: 4 | BB11: 9 | BC11: 4
A12: Out | B12: =SUM(B3:B11) -> 34 | L12: Out | M12: =B12 -> 34 | V12: Out | W12: =B12 -> 34 | AG12: Out | AH12: =B12 -> 34 | AQ12: Out | AR12: =B12 -> 34 | BB12: Out | BC12: =B12 -> 34
A13: 10 | B13: 4 | L13: 10 | M13: 4 | V13: 10 | W13: 4 | AG13: 10 | AH13: 4 | AQ13: 10 | AR13: 4 | BB13: 10 | BC13: 4
A14: 11 | B14: 5 | L14: 11 | M14: 5 | V14: 11 | W14: 5 | AG14: 11 | AH14: 5 | AQ14: 11 | AR14: 5 | BB14: 11 | BC14: 5
A15: 12 | B15: 4 | L15: 12 | M15: 4 | V15: 12 | W15: 4 | AG15: 12 | AH15: 4 | AQ15: 12 | AR15: 4 | BB15: 12 | BC15: 4
A16: 13 | B16: 3 | L16: 13 | M16: 3 | V16: 13 | W16: 3 | AG16: 13 | AH16: 3 | AQ16: 13 | AR16: 3 | BB16: 13 | BC16: 3
A17: 14 | B17: 4 | L17: 14 | M17: 4 | V17: 14 | W17: 4 | AG17: 14 | AH17: 4 | AQ17: 14 | AR17: 4 | BB17: 14 | BC17: 4
A18: 15 | B18: 3 | L18: 15 | M18: 3 | V18: 15 | W18: 3 | AG18: 15 | AH18: 3 | AQ18: 15 | AR18: 3 | BB18: 15 | BC18: 3
A19: 16 | B19: 4 | L19: 16 | M19: 4 | V19: 16 | W19: 4 | AG19: 16 | AH19: 4 | AQ19: 16 | AR19: 4 | BB19: 16 | BC19: 4
A20: 17 | B20: 4 | L20: 17 | M20: 4 | V20: 17 | W20: 4 | AG20: 17 | AH20: 4 | AQ20: 17 | AR20: 4 | BB20: 17 | BC20: 4
A21: 18 | B21: 5 | L21: 18 | M21: 5 | V21: 18 | W21: 5 | AG21: 18 | AH21: 5 | AQ21: 18 | AR21: 5 | BB21: 18 | BC21: 5
A22: In | B22: =SUM(B13:B21) -> 36 | L22: In | M22: =B22 -> 36 | V22: In | W22: =B22 -> 36 | AG22: In | AH22: =B22 -> 36 | AQ22: In | AR22: =B22 -> 36 | BB22: In | BC22: =B22 -> 36
A23: Tot | B23: =SUM(B12+B22) -> 70 | L23: Tot | M23: =B23 -> 70 | V23: Tot | W23: =B23 -> 70 | AG23: Tot | AH23: =B23 -> 70 | AQ23: Tot | AR23: =B23 -> 70 | BB23: Tot | BC23: =B23 -> 70
A34: =Groups!H9 -> John Guzzie | B34: par | C34: =Groups!F9 -> Group #7 (16) | L34: =Groups!H15 -> Steve Dominick | M34: par | N34: =Groups!F15 -> Group #8 (15) | V34: =Groups!H21 -> Greg Hedglin | W34: par | X34: =Groups!F21 -> Group #9 (14) | AG34: =Groups!H27 -> PT Coach 2 | AH34: par | AL34: =Groups!F27 -> Group #10 (13) | AQ34: =Groups!H32 -> Matt Basciano | AR34: par | AV34: =Groups!F32 -> Group #11 (12) | BC34: par
C35: =Groups!G10 -> Ethan Rugh | D35: =Groups!F10 -> Armstrong 4 | E35: =Groups!G11 -> Rylan Kiste | F35: =Groups!F11 -> PT 4 | G35: =Groups!G12 -> Jacob George | H35: =Groups!F12 -> Norwin 4 | I35: =Groups!G13 -> Liam Clauson | J35: =Groups!F13 -> Hempfield 4 | N35: =Groups!G16 -> Grant Gardnier | O35: =Groups!F16 -> Latrobe 5 | P35: =Groups!G17 -> Gabe Thimons | Q35: =Groups!F17 -> Kiski 5 | R35: =Groups!G18 -> Beau Raykes | S35: =Groups!F18 -> Indiana 5 | T35: =Groups!G19 -> Nathan Ross | U35: =Groups!F19 -> Armstrong 5 | X35: =Groups!G22 -> Zach Grkman | Y35: =Groups!F22 -> PT 5 | Z35: =Groups!G23 -> Leo Lilley | AA35: =Groups!F23 -> Norwin 5 | AB35: =Groups!G24 -> Caleb Henry | AC35: =Groups!F24 -> Hempfield 5 | AD35: =Groups!G25 -> Luke Marts | AE35: =Groups!F25 -> Latrobe 6 | AI35: =Groups!G28 -> Nick Pifer | AJ35: =Groups!F28 -> Kiski 6 | AK35: =Groups!G29 -> Logan Okopal | AL35: =Groups!F29 -> Indiana 6 | AM35: =Groups!G30 -> Sam Vassar | AN35: =Groups!F30 -> Armstrong 6 | AS35: =Groups!G33 -> Nate Sterner | AT35: =Groups!F33 -> PT 6 | AU35: =Groups!G34 -> Colin Madden | AV35: =Groups!F34 -> Norwin 6 | AW35: =Groups!G35 -> Nico Santamaria | AX35: =Groups!F35 -> Hempfield 6
A36: 1 | B36: 5 | L36: 1 | M36: 5 | V36: 1 | W36: 5 | AG36: 1 | AH36: 5 | AQ36: 1 | AR36: 5 | BB36: 1 | BC36: 5
A37: 2 | B37: 3 | L37: 2 | M37: 3 | V37: 2 | W37: 3 | AG37: 2 | AH37: 3 | AQ37: 2 | AR37: 3 | BB37: 2 | BC37: 3
A38: 3 | B38: 4 | L38: 3 | M38: 4 | V38: 3 | W38: 4 | AG38: 3 | AH38: 4 | AQ38: 3 | AR38: 4 | BB38: 3 | BC38: 4
A39: 4 | B39: 4 | L39: 4 | M39: 4 | V39: 4 | W39: 4 | AG39: 4 | AH39: 4 | AQ39: 4 | AR39: 4 | BB39: 4 | BC39: 4
A40: 5 | B40: 3 | L40: 5 | M40: 3 | V40: 5 | W40: 3 | AG40: 5 | AH40: 3 | AQ40: 5 | AR40: 3 | BB40: 5 | BC40: 3
A41: 6 | B41: 4 | L41: 6 | M41: 4 | V41: 6 | W41: 4 | AG41: 6 | AH41: 4 | AQ41: 6 | AR41: 4 | BB41: 6 | BC41: 4
A42: 7 | B42: 3 | L42: 7 | M42: 3 | V42: 7 | W42: 3 | AG42: 7 | AH42: 3 | AQ42: 7 | AR42: 3 | BB42: 7 | BC42: 3
A43: 8 | B43: 4 | L43: 8 | M43: 4 | V43: 8 | W43: 4 | AG43: 8 | AH43: 4 | AQ43: 8 | AR43: 4 | BB43: 8 | BC43: 4
A44: 9 | B44: 4 | L44: 9 | M44: 4 | V44: 9 | W44: 4 | AG44: 9 | AH44: 4 | AQ44: 9 | AR44: 4 | BB44: 9 | BC44: 4
A45: Out | B45: =B12 -> 34 | L45: Out | M45: =B45 -> 34 | V45: Out | W45: =B45 -> 34 | AG45: Out | AH45: =B45 -> 34 | AQ45: Out | AR45: =B45 -> 34 | BB45: Out | BC45: =B45 -> 34
A46: 10 | B46: 4 | L46: 10 | M46: 4 | V46: 10 | W46: 4 | AG46: 10 | AH46: 4 | AQ46: 10 | AR46: 4 | BB46: 10 | BC46: 4
A47: 11 | B47: 5 | L47: 11 | M47: 5 | V47: 11 | W47: 5 | AG47: 11 | AH47: 5 | AQ47: 11 | AR47: 5 | BB47: 11 | BC47: 5
A48: 12 | B48: 4 | L48: 12 | M48: 4 | V48: 12 | W48: 4 | AG48: 12 | AH48: 4 | AQ48: 12 | AR48: 4 | BB48: 12 | BC48: 4
A49: 13 | B49: 3 | L49: 13 | M49: 3 | V49: 13 | W49: 3 | AG49: 13 | AH49: 3 | AQ49: 13 | AR49: 3 | BB49: 13 | BC49: 3
A50: 14 | B50: 4 | L50: 14 | M50: 4 | V50: 14 | W50: 4 | AG50: 14 | AH50: 4 | AQ50: 14 | AR50: 4 | BB50: 14 | BC50: 4
...

Sheet Sheet2
